BEGIN:VCALENDAR
VERSION:2.0
PRODID:-//American Young Coder - ECPv6.10.1.1//NONSGML v1.0//EN
CALSCALE:GREGORIAN
METHOD:PUBLISH
X-ORIGINAL-URL:https://www.ayclogic.com
X-WR-CALDESC:Events for American Young Coder
REFRESH-INTERVAL;VALUE=DURATION:PT1H
X-Robots-Tag:noindex
X-PUBLISHED-TTL:PT1H
BEGIN:VTIMEZONE
TZID:America/Los_Angeles
BEGIN:DAYLIGHT
TZOFFSETFROM:-0800
TZOFFSETTO:-0700
TZNAME:PDT
DTSTART:20210314T100000
END:DAYLIGHT
BEGIN:STANDARD
TZOFFSETFROM:-0700
TZOFFSETTO:-0800
TZNAME:PST
DTSTART:20211107T090000
END:STANDARD
END:VTIMEZONE
BEGIN:VEVENT
DTSTART;TZID=America/Los_Angeles:20211204T090000
DTEND;TZID=America/Los_Angeles:20211204T100000
DTSTAMP:20260424T090438
CREATED:20211205T032141Z
LAST-MODIFIED:20211205T032141Z
UID:10643-1638608400-1638612000@www.ayclogic.com
SUMMARY:9 AM - Android Game Development - Gamas
DESCRIPTION:Today We Do\n\nWe enabled Up and Down arrows to move the dragon up and down.\n\nHomework\n\nAdd the code so when user touch the launch fireball circle\, it will launch fireball from where the player’s location. You need to create List<Bullet> to be able to display multiple bullets at the same time. The code should be similar with List<Bird> birdGroup.
URL:https://www.ayclogic.com/event/9-am-android-game-development-gamas-2/
CATEGORIES:Android Game Development,Java
END:VEVENT
BEGIN:VEVENT
DTSTART;TZID=America/Los_Angeles:20211204T100000
DTEND;TZID=America/Los_Angeles:20211204T110000
DTSTAMP:20260424T090438
CREATED:20211205T033324Z
LAST-MODIFIED:20211205T033324Z
UID:10645-1638612000-1638615600@www.ayclogic.com
SUMMARY:10 AM - Intro To Java - Gamas
DESCRIPTION:Today We Do\n\nWe continued with Monster Inheritance project.\nWe added the ability to\n\nHomework\n\nContinue with Monster Inheritance project. When user select “1. magic attack”\, display magic attack menu like below\n\nPlease select one of the following monsters:\n- troll - 50 Health remaining\n- water golem - 30 Health remaining\n- dragon - 100 Health remaining\n- Exit\nEnter your selection: troll\n\nWhat do you want to do with the troll:\n1. Magic attack\n2. Melle attack\n3. Arrow attack\n4. Heal\nEnter your selection: 1\n\nWhat kind of magic attack you want to do:\n1. Fire magic - 10 damage\n2. Water magic - 10 damage\n3. Earth magic - 12 damage\n4. Wind magic - 8 damage\nEnter your selection: 1\nYou attacked the troll and it has 40 healths remaining.\n\nPlease select one of the following monsters:\n- troll - 40 Health remaining\n- water golem - 30 Health remaining\n- dragon - 100 Health remaining\n- Exit\nEnter your selection:
URL:https://www.ayclogic.com/event/10-am-intro-to-java-gamas-2/
CATEGORIES:Introduction To Java,Java
END:VEVENT
BEGIN:VEVENT
DTSTART;TZID=America/Los_Angeles:20211204T100000
DTEND;TZID=America/Los_Angeles:20211204T120000
DTSTAMP:20260424T090438
CREATED:20211204T050053Z
LAST-MODIFIED:20211211T030023Z
UID:10610-1638612000-1638619200@www.ayclogic.com
SUMMARY:10AM - Scratch 1 - Indo - Gamas
DESCRIPTION:Homework\n\nContinue on Christmas Card project\nAdd one sprite\, “snowflake”. Copy the code from virtual snow into this project.\nAdd two sprites\, use arrow sprite from Scratch gallery. One arrow needs to point to the left and another point to the right. And right arrow needs to move slowly to the right closer to the tree. Hint\, you have to use Repeat code.\nAdd code in the “RunningText” sprite so when it hits the bottom of the screen\, it will go back up to the top left corner.
URL:https://www.ayclogic.com/event/11-am-scratch-1-indo-gamas/
CATEGORIES:Scratch Class,Scratch Class Level 2
END:VEVENT
BEGIN:VEVENT
DTSTART;TZID=America/Los_Angeles:20211204T110000
DTEND;TZID=America/Los_Angeles:20211204T110000
DTSTAMP:20260424T090438
CREATED:20211204T202109Z
LAST-MODIFIED:20211204T202109Z
UID:10615-1638615600-1638615600@www.ayclogic.com
SUMMARY:11 AM - Scratch 1 - Abigail
DESCRIPTION:What we did today\n\nWe made Dinosaur3 move up and down.\nWe started working on the Animal Race project.\n\nHomework\n\nDo pages 51 to 54 in your pink Scratch Book.
URL:https://www.ayclogic.com/event/11-am-scratch-1-abigail-2/
CATEGORIES:Scratch Class Level 1
END:VEVENT
BEGIN:VEVENT
DTSTART;TZID=America/Los_Angeles:20211204T130000
DTEND;TZID=America/Los_Angeles:20211204T140000
DTSTAMP:20260424T090438
CREATED:20211204T215909Z
LAST-MODIFIED:20211204T215909Z
UID:10617-1638622800-1638626400@www.ayclogic.com
SUMMARY:1 PM - Python Game Development
DESCRIPTION:Today: \n\nWe cloned the tank-game git repo.\nWe learned about git branches.\nWe added the tank sprite.\n\nHomework \n\nAdd logic so that you can move the tank. Use “a\, s\, d\, w” keys similar to what we did for the Birdie project to control the player.\nCreate another sprite that draws the Brick on the screen.  You can use the “Brick.png”. The brick sprite should have a location\, (x\, y)\, and screen.
URL:https://www.ayclogic.com/event/1-pm-python-game-development-40/
CATEGORIES:Advanced Python Game Development
END:VEVENT
BEGIN:VEVENT
DTSTART;TZID=America/Los_Angeles:20211204T140000
DTEND;TZID=America/Los_Angeles:20211204T150000
DTSTAMP:20260424T090438
CREATED:20211204T225837Z
LAST-MODIFIED:20211204T225837Z
UID:10620-1638626400-1638630000@www.ayclogic.com
SUMMARY:2 PM Scratch Level 1 Alexander Lee
DESCRIPTION:Today We Did:\n\nWe continued on with the Christmas Card project.\nAdding in the Giftbox and the Face sprites\n\nFor Homework:\n\nAdd in 3 costumes for the Faces\, each with different expressions.\nAlso add in three more phrases for your face to say\, changing the pick randoms depending on how much you do.
URL:https://www.ayclogic.com/event/2-pm-scratch-level-1-alexander-lee-3/
CATEGORIES:Scratch Class,Scratch Class Level 1
END:VEVENT
BEGIN:VEVENT
DTSTART;TZID=America/Los_Angeles:20211204T140000
DTEND;TZID=America/Los_Angeles:20211204T150000
DTSTAMP:20260424T090438
CREATED:20211204T230043Z
LAST-MODIFIED:20211204T230043Z
UID:10621-1638626400-1638630000@www.ayclogic.com
SUMMARY:2PM - Intro to Python - Latisha
DESCRIPTION:Today We Did:\n\nLearned how to make functions with Return\n\nHomework:\n\nDo pg. 138-139 from the textbook in a file called Dec4_FunctionsWithReturnHomework.py\nNOTE: Please submit your homework file inside the google drive folder Friday at 7pm\n\nIf you have any questions\, please send an email to latisha@ayclogic.com
URL:https://www.ayclogic.com/event/2pm-intro-to-python-latisha-10/
END:VEVENT
BEGIN:VEVENT
DTSTART;TZID=America/Los_Angeles:20211204T140000
DTEND;TZID=America/Los_Angeles:20211204T150000
DTSTAMP:20260424T090438
CREATED:20211205T031347Z
LAST-MODIFIED:20211205T031406Z
UID:10640-1638626400-1638630000@www.ayclogic.com
SUMMARY:2 PM - Intro To Python - Gamas
DESCRIPTION:Today We Do\n\nWe did Kaleido Spiral turtle project.\n\nHomework\n\nContinue making progress for your Turtle module project. If you need to revise your project proposal\, please email me again your revision to gamas@ayclogic.com. Try to do your best in this Turtle module project especially if you did not do well in your quizes as this will boost your grade.
URL:https://www.ayclogic.com/event/2-pm-intro-to-python-38/
CATEGORIES:Python Class,Python Level 1
END:VEVENT
BEGIN:VEVENT
DTSTART;TZID=America/Los_Angeles:20211204T150000
DTEND;TZID=America/Los_Angeles:20211204T160000
DTSTAMP:20260424T090438
CREATED:20211204T235737Z
LAST-MODIFIED:20211204T235737Z
UID:10629-1638630000-1638633600@www.ayclogic.com
SUMMARY:3 PM - Intro To Java
DESCRIPTION:Homework\n\nCreate Dec4_ListForLoop.java\nDo exercises number 1 and 2 only from https://www.ayclogic.com/java-list-forloop/
URL:https://www.ayclogic.com/event/3-pm-intro-to-java-33/
CATEGORIES:Introduction To Java,Java
END:VEVENT
BEGIN:VEVENT
DTSTART;TZID=America/Los_Angeles:20211204T150000
DTEND;TZID=America/Los_Angeles:20211204T160000
DTSTAMP:20260424T090438
CREATED:20211204T235828Z
LAST-MODIFIED:20211204T235828Z
UID:10627-1638630000-1638633600@www.ayclogic.com
SUMMARY:3pm Scratch Level 1 - Bill
DESCRIPTION:Today We:\n\nContinued the Christmas Card V2 project\nCropped our face sprite images (cut out background)\nMade the face sprite show up after you click the present\nMade the face say a random message by using a random number variable\nMade the face switch to a random face costume\nRecorded ourselves saying the voice lines\nMade the voice lines play with the message that shows up\nFinished the Christmas Card V2 Project\n\nYour HW:\n\nIf you have not already done so\, record your voice lines and make them play as the face shows up on screen and says the message
URL:https://www.ayclogic.com/event/3pm-scratch-level-1-bill-8/
END:VEVENT
BEGIN:VEVENT
DTSTART;TZID=America/Los_Angeles:20211204T150000
DTEND;TZID=America/Los_Angeles:20211204T160000
DTSTAMP:20260424T090438
CREATED:20211205T044431Z
LAST-MODIFIED:20211205T044431Z
UID:10650-1638630000-1638633600@www.ayclogic.com
SUMMARY:3 PM - Scratch Level 2 - Allison
DESCRIPTION:Today we:\n\nStarted the Christmas Card project\nAdded the Christmas Tree\, Gift Box\, Bells\, and Banner From sprites\, as well as the backgrounds\nCoded the Christmas Tree to forever change colors\nCoded sprites to hide and show\nCoded sprites to use the codes “broadcast” and “When I receive” when the Green Flag is clicked\nCoded sprites to use the codes “broadcast” and “When I receive” when the Christmas Tree is clicked\nCoded sprites to use the code “go to x y”\nCoded the Banner From sprite to glide\n\nHomework:\n\nCreate a new sprite and name it “Face”\nUpload a picture of yourself for Face’s costume\nDraw a new sprite and name it “Banner Merry Christmas” (You can look at the image at the bottom for reference. You do not have to copy the image exactly; feel free to design your own)\nMake the Banner Merry Christmas sprite go to the top left corner when the Green Flag is clicked\nMake the Banner Merry Christmas sprite glide to the bottom right corner when the Tree sprite is clicked\nEthan: save or print out the image attached to this link so you can refer to it in the future. You can also use this link to help you with homework: https://www.ayclogic.com/wp-content/uploads/2021/10/Numbered-Shapes-In-Grid-Labeled.pdf.\n\n\nDo your homework in the same project we did in class (the “Christmas Card” project)\nContact gamas@ayclogic.com or allison.682.lee@gmail.com if you have any questions or need any help
URL:https://www.ayclogic.com/event/3-pm-scratch-level-2-allison-2/
CATEGORIES:Scratch Class,Scratch Class Level 2
END:VEVENT
BEGIN:VEVENT
DTSTART;TZID=America/Los_Angeles:20211204T163000
DTEND;TZID=America/Los_Angeles:20211204T173000
DTSTAMP:20260424T090438
CREATED:20211205T024442Z
LAST-MODIFIED:20211205T024442Z
UID:10634-1638635400-1638639000@www.ayclogic.com
SUMMARY:4:30 PM - Scratch Level 1
DESCRIPTION:Today we:\n\nCoded the Bat sprite to move when we press and release the key z\nCoded all codes to stop when the Bat sprite touches the Finish Line\nCreated the Bat Win sprite\nCoded the Bat Win sprite to hide and show\nFinished the Animal Race project\nStarted the Funny Face project\nDrew the Head and Eyes sprite\nCoded the Head and Eyes sprites to go to a specific place when the Green Flag is clicked\nCoded the Head sprite to go to the back layer\n\nHomework:\n\nAdd a Bowtie sprite from the Scratch Sprite Library\nAdd a Hat sprite from the Scratch Sprite Library (If you want\, you can choose a different sprite as long as it is something your Head sprite can wear/use – ex: Glasses sprite\, Necklace sprite)\nDraw a Hair sprite\nCode the Bowtie\, Hair sprite\, and the Hat sprite/other sprite you added to go to a specific place when the Green Flag is clicked\nContact gamas@ayclogic.com or allison.682.lee@gmail.com if you have any questions or need any help
URL:https://www.ayclogic.com/event/430-pm-scratch-level-1-7/
CATEGORIES:Scratch Class,Scratch Class Level 1
END:VEVENT
BEGIN:VEVENT
DTSTART;TZID=America/Los_Angeles:20211204T170000
DTEND;TZID=America/Los_Angeles:20211204T180000
DTSTAMP:20260424T090438
CREATED:20211205T025912Z
LAST-MODIFIED:20211205T025912Z
UID:10637-1638637200-1638640800@www.ayclogic.com
SUMMARY:5 PM - Intro To Java
DESCRIPTION:Homework\n\nCreate Dec4ForLoopHomework.py and do exercise number 3 in https://www.ayclogic.com/java-list-forloop/\nCreate Dec4WhileLoopHomework.py and do exercise in https://www.ayclogic.com/java-exercise-while-loop/
URL:https://www.ayclogic.com/event/5-pm-intro-to-java-6/
CATEGORIES:Introduction To Java,Java
END:VEVENT
BEGIN:VEVENT
DTSTART;TZID=America/Los_Angeles:20211204T180000
DTEND;TZID=America/Los_Angeles:20211204T190000
DTSTAMP:20260424T090438
CREATED:20211208T010634Z
LAST-MODIFIED:20211208T010656Z
UID:10658-1638640800-1638644400@www.ayclogic.com
SUMMARY:6 PM – Intro To Python
DESCRIPTION:Today We:\n\nLearned using for loops using the range function: range()\nConverting range to a list: list(range())\n\nHomework:\n\nPage 60: 4-3\, 4-6\, 4-7.\n\nIf you have any questions\, please email david@ayclogic.com
URL:https://www.ayclogic.com/event/6-pm-intro-to-python-47/
END:VEVENT
END:VCALENDAR