BEGIN:VCALENDAR
VERSION:2.0
PRODID:-//American Young Coder - ECPv6.10.1.1//NONSGML v1.0//EN
CALSCALE:GREGORIAN
METHOD:PUBLISH
X-WR-CALNAME:American Young Coder
X-ORIGINAL-URL:https://www.ayclogic.com
X-WR-CALDESC:Events for American Young Coder
REFRESH-INTERVAL;VALUE=DURATION:PT1H
X-Robots-Tag:noindex
X-PUBLISHED-TTL:PT1H
BEGIN:VTIMEZONE
TZID:America/Los_Angeles
BEGIN:DAYLIGHT
TZOFFSETFROM:-0800
TZOFFSETTO:-0700
TZNAME:PDT
DTSTART:20210314T100000
END:DAYLIGHT
BEGIN:STANDARD
TZOFFSETFROM:-0700
TZOFFSETTO:-0800
TZNAME:PST
DTSTART:20211107T090000
END:STANDARD
END:VTIMEZONE
BEGIN:VEVENT
DTSTART;TZID=America/Los_Angeles:20211206T170000
DTEND;TZID=America/Los_Angeles:20211206T180000
DTSTAMP:20260424T101557
CREATED:20211207T021842Z
LAST-MODIFIED:20211207T021842Z
UID:10656-1638810000-1638813600@www.ayclogic.com
SUMMARY:5pm Scratch Level 2 - Bill
DESCRIPTION:Today We:\n\nFinished up the intro to lists project\nLearned how to loop through a list\nStarted working on the Christmas Card Project\nFixed up the background to fit in scratch’s screen size\nMade a starting button tree\nMade the background switch to the custom bkg when the tree is clicked\nMade 2 new tags that start at the top left corner and glide down to the floor when the tree is clicked\nMade the bells sprite have a costume without the bells\nMade the bells image show up after the tree is clicked\nAfter 2 seconds after that click\, the bells sprite switches costumes to the one without the bells\n\nYour HW:\n\nCode the From tag just like the Merry Christmas tag where it starts at the top left and glides down to the bottom left\nMake sure you only have 1 Christmas gift sprite and make it hold the 2 Christmas gift costumes you downloaded last last week\nMake it start at the bottom and then glide to the middle of the screen after it receives the “Send Gift” message (broadcast in the bells sprite after the bells costume switches to the one without the bells)\nAsk your parents to take 2 pictures of your face and upload it into scratch\n\nYou can email it from your phone to yourself or use google drive to get the image on your computer
URL:https://www.ayclogic.com/event/5pm-scratch-level-2-bill-10/
END:VEVENT
BEGIN:VEVENT
DTSTART;TZID=America/Los_Angeles:20211206T170000
DTEND;TZID=America/Los_Angeles:20211206T180000
DTSTAMP:20260424T101557
CREATED:20211214T082414Z
LAST-MODIFIED:20211214T082414Z
UID:10767-1638810000-1638813600@www.ayclogic.com
SUMMARY:5PM - Advanced Digital Illustration
DESCRIPTION:MONDAY \nToday we did a lesson about drawing Figures and body proportions. \nWe talked about: \n\nNumber of heads tall and how different characters and styles can be different heads tall.\nUsing circles and lines to draw a stick figure to sketch out the pose.\nFilling in the Body by using the guidelines of the stick figure.\nHow to use these techniques to draw from a reference\, either real life\, or an image.\n\nHOMEWORK \nPostponed. Check next week’s calendar posting.
URL:https://www.ayclogic.com/event/5pm-advanced-digital-illustration-23/
CATEGORIES:Digital Illustration,Intermediate Digital Illustration
END:VEVENT
END:VCALENDAR