BEGIN:VCALENDAR
VERSION:2.0
PRODID:-//American Young Coder - ECPv6.10.1.1//NONSGML v1.0//EN
CALSCALE:GREGORIAN
METHOD:PUBLISH
X-WR-CALNAME:American Young Coder
X-ORIGINAL-URL:https://www.ayclogic.com
X-WR-CALDESC:Events for American Young Coder
REFRESH-INTERVAL;VALUE=DURATION:PT1H
X-Robots-Tag:noindex
X-PUBLISHED-TTL:PT1H
BEGIN:VTIMEZONE
TZID:America/Los_Angeles
BEGIN:DAYLIGHT
TZOFFSETFROM:-0800
TZOFFSETTO:-0700
TZNAME:PDT
DTSTART:20210314T100000
END:DAYLIGHT
BEGIN:STANDARD
TZOFFSETFROM:-0700
TZOFFSETTO:-0800
TZNAME:PST
DTSTART:20211107T090000
END:STANDARD
END:VTIMEZONE
BEGIN:VEVENT
DTSTART;TZID=America/Los_Angeles:20211208T170000
DTEND;TZID=America/Los_Angeles:20211208T180000
DTSTAMP:20260424T101608
CREATED:20211209T021059Z
LAST-MODIFIED:20211209T021059Z
UID:10667-1638982800-1638986400@www.ayclogic.com
SUMMARY:5pm Intro To Python - Bill
DESCRIPTION:Today We:\n\nReviewed the quiz\n\nYour HW:\n\nDo the quiz I emailed you again\nDon’t look at the answers and act as if you were taking the quiz again without notes
URL:https://www.ayclogic.com/event/5pm-intro-to-python-bill-9/
END:VEVENT
BEGIN:VEVENT
DTSTART;TZID=America/Los_Angeles:20211208T170000
DTEND;TZID=America/Los_Angeles:20211208T180000
DTSTAMP:20260424T101608
CREATED:20211214T085649Z
LAST-MODIFIED:20211216T005304Z
UID:10769-1638982800-1638986400@www.ayclogic.com
SUMMARY:5PM - Advanced Digital Illustration
DESCRIPTION:WEDNESDAY \nToday we continued the Mikey project. We continued on the lines\, finishing all the clothes. \n \nHOMEWORK \nWe are continuing the Lyn Homework by doing the sketching “Step 3: Clothes”. This is adding the clothing sketch on top of the body from last time. Just like in the Mikey project\, the details are not super important at this time\, just getting the correct over-all shapes of the clothes on the body. \nSteps: \n\nNew Layer\nDraw the clothes on top of the body.
URL:https://www.ayclogic.com/event/5pm-advanced-digital-illustration-24/
CATEGORIES:Digital Illustration,Intermediate Digital Illustration
END:VEVENT
BEGIN:VEVENT
DTSTART;TZID=America/Los_Angeles:20211208T180000
DTEND;TZID=America/Los_Angeles:20211208T190000
DTSTAMP:20260424T101608
CREATED:20211210T084413Z
LAST-MODIFIED:20211210T084413Z
UID:10687-1638986400-1638990000@www.ayclogic.com
SUMMARY:6PM - Intro to Python - Latisha
DESCRIPTION:Today We Did:\n\nWent over Tell Me Your Age\nLearned about Lists\n\nHomework:\n\nDo pg.36-41 and pg.36 TRY-IT-YOURSELF #1 from the textbook in a file called Dec8_ListsHomework.py\nNOTE: Please submit your homework file inside the google drive folder Tuesday at 5pm\n\nIf you have any questions\, please send an email to latisha@ayclogic.com
URL:https://www.ayclogic.com/event/6pm-intro-to-python-latisha-4/
END:VEVENT
BEGIN:VEVENT
DTSTART;TZID=America/Los_Angeles:20211208T190000
DTEND;TZID=America/Los_Angeles:20211208T200000
DTSTAMP:20260424T101608
CREATED:20211209T040709Z
LAST-MODIFIED:20211209T040709Z
UID:10671-1638990000-1638993600@www.ayclogic.com
SUMMARY:7 PM - Python Game Development
DESCRIPTION:Today: \n\nWe went over the homework\nWe reviewed why we need to use copy.deepcopy.\nWe modified the self.map_copy attribute as the bricks get destroyed.\n\nHomework \n\nAdd a type parameter to the Brick constructor. When the type is WALL_FLAG\, then load the normal brick self.image attribute\, but if the type is BORDER_WALL_FLAG\, then use the IronWall.png for the self.image attribute.\nModify the map to show the iron wall/brick around the edge of the map.
URL:https://www.ayclogic.com/event/7-pm-python-game-development-97/
CATEGORIES:Python Game Development
END:VEVENT
END:VCALENDAR