BEGIN:VCALENDAR
VERSION:2.0
PRODID:-//American Young Coder - ECPv6.10.1.1//NONSGML v1.0//EN
CALSCALE:GREGORIAN
METHOD:PUBLISH
X-ORIGINAL-URL:https://www.ayclogic.com
X-WR-CALDESC:Events for American Young Coder
REFRESH-INTERVAL;VALUE=DURATION:PT1H
X-Robots-Tag:noindex
X-PUBLISHED-TTL:PT1H
BEGIN:VTIMEZONE
TZID:America/Los_Angeles
BEGIN:DAYLIGHT
TZOFFSETFROM:-0800
TZOFFSETTO:-0700
TZNAME:PDT
DTSTART:20210314T100000
END:DAYLIGHT
BEGIN:STANDARD
TZOFFSETFROM:-0700
TZOFFSETTO:-0800
TZNAME:PST
DTSTART:20211107T090000
END:STANDARD
END:VTIMEZONE
BEGIN:VEVENT
DTSTART;TZID=America/Los_Angeles:20211212T100000
DTEND;TZID=America/Los_Angeles:20211212T110000
DTSTAMP:20260424T101642
CREATED:20211212T041044Z
LAST-MODIFIED:20211212T041044Z
UID:10731-1639303200-1639306800@www.ayclogic.com
SUMMARY:10 AM - Scratch 1 - Gamas
DESCRIPTION:Today We Do\n\nWe continued Tunnel of Doom project.\nWe started Virtual Snow project.\n\nHomework\n\nFinish Tunnel of Doom project\, make sure you have the code from page 131 and 132.\nContinue with Virtual Snow project from page 148.
URL:https://www.ayclogic.com/event/10-am-scratch-1-gamas/
CATEGORIES:Scratch Class,Scratch Class Level 1
END:VEVENT
BEGIN:VEVENT
DTSTART;TZID=America/Los_Angeles:20211212T190000
DTEND;TZID=America/Los_Angeles:20211212T200000
DTSTAMP:20260424T101642
CREATED:20211213T040346Z
LAST-MODIFIED:20211220T030758Z
UID:10758-1639335600-1639339200@www.ayclogic.com
SUMMARY:7 PM - Python Game Development
DESCRIPTION:Today \n\nWe went over the homework.\nWe added the different game modes.\nWe added the landing page.\nWe added logic to switch from the landing page to game in session when clicking the play button.\nWe switched from the game in session back to the landing page when the player dies.\nI’ve uploaded the source code here.\n\nHomework: \n\nCreate a massive fireball when the player pressed the space “g” key.  The massive fireball shouldn’t be destroyed when it collides with the birds.  You don’t need to create a new sprite to handle the massive fireball.\nOn the landing page\, create birds and clouds to make the landing page more interesting.
URL:https://www.ayclogic.com/event/7-pm-python-game-development-98/
CATEGORIES:Python Game Development
END:VEVENT
END:VCALENDAR