BEGIN:VCALENDAR
VERSION:2.0
PRODID:-//American Young Coder - ECPv6.10.1.1//NONSGML v1.0//EN
CALSCALE:GREGORIAN
METHOD:PUBLISH
X-ORIGINAL-URL:https://www.ayclogic.com
X-WR-CALDESC:Events for American Young Coder
REFRESH-INTERVAL;VALUE=DURATION:PT1H
X-Robots-Tag:noindex
X-PUBLISHED-TTL:PT1H
BEGIN:VTIMEZONE
TZID:America/Los_Angeles
BEGIN:DAYLIGHT
TZOFFSETFROM:-0800
TZOFFSETTO:-0700
TZNAME:PDT
DTSTART:20210314T100000
END:DAYLIGHT
BEGIN:STANDARD
TZOFFSETFROM:-0700
TZOFFSETTO:-0800
TZNAME:PST
DTSTART:20211107T090000
END:STANDARD
END:VTIMEZONE
BEGIN:VEVENT
DTSTART;TZID=America/Los_Angeles:20211215T170000
DTEND;TZID=America/Los_Angeles:20211215T180000
DTSTAMP:20260424T102640
CREATED:20211216T031344Z
LAST-MODIFIED:20211216T031344Z
UID:10791-1639587600-1639591200@www.ayclogic.com
SUMMARY:5 pm Intro to Python - Bill
DESCRIPTION:Today We:\n\nStarted learning about the Turtle module in python\nLearned how to move the turtle pen tool to make lines\nLearned how to make the pen tool start and stop drawing\nMade a simple square\nLearned how to change the color of the background and pen\nLearned how to fill the square\nPut the code for the square in its own function to keep things more organized\n\nYour HW:\n\nGo to project resources and find the Shapes in Grid image (Link)\nMake 3 new Functions: triangle\, rectangle\, and octagon\nPut the code in each of the functions to draw that shape from the image\nMake sure to call the function to make the code in them run
URL:https://www.ayclogic.com/event/5-pm-intro-to-python-bill-2/
END:VEVENT
BEGIN:VEVENT
DTSTART;TZID=America/Los_Angeles:20211215T170000
DTEND;TZID=America/Los_Angeles:20211215T180000
DTSTAMP:20260424T102640
CREATED:20211223T004931Z
LAST-MODIFIED:20211223T004931Z
UID:10878-1639587600-1639591200@www.ayclogic.com
SUMMARY:5PM - Advanced Digital Illustration
DESCRIPTION:WEDNESDAY \nToday we continued the Mikey project. We finished the lines and started on the coloring. We colored his skin\, hair\, and jacket.  \nHOMEWORK \nWe are continuing the Lyn Homework by doing the sketching “Step 4: Hair”. On a new layer\, sketch the shape of her hair by using the line from the stick figure step as a guide. \nSteps: \n\nNew Layer\nSketch the hair
URL:https://www.ayclogic.com/event/5pm-advanced-digital-illustration-27/
CATEGORIES:Digital Illustration,Intermediate Digital Illustration
END:VEVENT
BEGIN:VEVENT
DTSTART;TZID=America/Los_Angeles:20211215T183000
DTEND;TZID=America/Los_Angeles:20211215T190000
DTSTAMP:20260424T102640
CREATED:20211216T030504Z
LAST-MODIFIED:20211216T030504Z
UID:10789-1639593000-1639594800@www.ayclogic.com
SUMMARY:6PM - Intro to Python - Latisha
DESCRIPTION:Today We Did:\n\nLearned how to replace things in a list\nLearned how to add things to a list using .append and .insert\nLearned how to remove things from a list using del and .remove\n\nHomework:\n\nDo pg. 51-52 and TRY-IT-YOURSELF 3-2 & 3-3 from pg.36 from the textbook in a file called Dec15_ListForLoopHomework.py\nNOTE: Please submit your homework file inside the google drive folder Tuesday at 7pm\n\nIf you have any questions\, please send an email to latisha@ayclogic.com
URL:https://www.ayclogic.com/event/6pm-intro-to-python-latisha-5/
END:VEVENT
BEGIN:VEVENT
DTSTART;TZID=America/Los_Angeles:20211215T190000
DTEND;TZID=America/Los_Angeles:20211215T200000
DTSTAMP:20260424T102640
CREATED:20211216T040548Z
LAST-MODIFIED:20211216T040720Z
UID:10793-1639594800-1639598400@www.ayclogic.com
SUMMARY:7 PM - Python Game Development
DESCRIPTION:Today: \n\nWe went over the homework.\nWe went over the maze solver and started the process to move the enemy tank with it.\n\nHomework: \n\nAdd a game “mode” attribute in TankGame\, which starts with GAME_NOT_IN_SESSION\, and add a landing page with the play button\, and the logo\n\nAdd logic so that if the user clicks the play button in transitions to game in session.
URL:https://www.ayclogic.com/event/7-pm-python-game-development-99/
CATEGORIES:Advanced Python Game Development
END:VEVENT
END:VCALENDAR