BEGIN:VCALENDAR
VERSION:2.0
PRODID:-//American Young Coder - ECPv6.10.1.1//NONSGML v1.0//EN
CALSCALE:GREGORIAN
METHOD:PUBLISH
X-WR-CALNAME:American Young Coder
X-ORIGINAL-URL:https://www.ayclogic.com
X-WR-CALDESC:Events for American Young Coder
REFRESH-INTERVAL;VALUE=DURATION:PT1H
X-Robots-Tag:noindex
X-PUBLISHED-TTL:PT1H
BEGIN:VTIMEZONE
TZID:America/Los_Angeles
BEGIN:DAYLIGHT
TZOFFSETFROM:-0800
TZOFFSETTO:-0700
TZNAME:PDT
DTSTART:20210314T100000
END:DAYLIGHT
BEGIN:STANDARD
TZOFFSETFROM:-0700
TZOFFSETTO:-0800
TZNAME:PST
DTSTART:20211107T090000
END:STANDARD
END:VTIMEZONE
BEGIN:VEVENT
DTSTART;TZID=America/Los_Angeles:20211216T170000
DTEND;TZID=America/Los_Angeles:20211216T180000
DTSTAMP:20260424T125255
CREATED:20211217T021333Z
LAST-MODIFIED:20211217T021618Z
UID:10796-1639674000-1639677600@www.ayclogic.com
SUMMARY:5 PM - Scratch Level 1 - Allison
DESCRIPTION:Today we:\n\nFinished the Virtual Snow project\nWent over instructions for the Practice Final Test\n\nHomework:\n\nComplete the Practice Final Test. Don’t forget to share your Scratch projects\, as well as to copy and paste the project links onto the Practice Final Test\nSubmit the Practice Final Test by Wednesday 12/22\, 11:59 PM\n(Optional) If you’d like\, you can review the resources below to study for your upcoming Final Test\nContact us if you have any questions or need any help\n\nResources:\n\nSpaceship V1.0: https://scratch.mit.edu/projects/266884838\nAnimal Crossing: https://scratch.mit.edu/projects/559936031\nBirthday Card: https://scratch.mit.edu/projects/557279686\nCat Art: https://scratch.mit.edu/projects/331671044\nAnimal Race: https://scratch.mit.edu/projects/537193836\n\nClick on the link below to see a picture of a coordinate plane with labeled coordinates. Make sure to memorize the coordinates (the ones in red). \nNumbered Shapes In Grid – Labeled
URL:https://www.ayclogic.com/event/5-pm-scratch-level-1-allison-26/
CATEGORIES:Scratch Class,Scratch Class Level 1
END:VEVENT
BEGIN:VEVENT
DTSTART;TZID=America/Los_Angeles:20211216T170000
DTEND;TZID=America/Los_Angeles:20211216T180000
DTSTAMP:20260424T125255
CREATED:20211218T223923Z
LAST-MODIFIED:20211218T223932Z
UID:10825-1639674000-1639677600@www.ayclogic.com
SUMMARY:5 PM Scratch Level 2 Alexander Lee
DESCRIPTION:Today We Did:\n\nWe finished up the Christmas Card project and started learning about lists.\nWe began the Mary Had a Little Lamb project and were able to finish most of the project.\n\nFor Homework:\n\nPlease continue by adding the Happy Birthday song as a list to the project.\nWe still have a class for next week\, but after there is no class for 2 weeks.
URL:https://www.ayclogic.com/event/5-pm-scratch-level-2-47/
CATEGORIES:Scratch Class,Scratch Class Level 2
END:VEVENT
BEGIN:VEVENT
DTSTART;TZID=America/Los_Angeles:20211216T190000
DTEND;TZID=America/Los_Angeles:20211216T200000
DTSTAMP:20260424T125255
CREATED:20211217T041832Z
LAST-MODIFIED:20211217T041832Z
UID:10802-1639681200-1639684800@www.ayclogic.com
SUMMARY:7 PM - Intro To Java - Gamas
DESCRIPTION:Homework\n\nContinue adding codes inside Dec9RestaurantSystem.java. You want to add the code so it can do like below. The code should be similar to Dec2OOPHomework.java\n\nThere are 3 restaurants in the system\n\nSelect below:\n1. Add new restaurant\n2. List all restaurants\n3. Exit\nEnter your selection (1\, 2 or 3):2\n\nThere are 3 restaurants in our system\n- Banana Bay\, Thai\n- Full House\, Dim sum\n- McDonald - Temple City\, Fast Good\n\nSelect below:\n1. Add new restaurant\n2. List all restaurants\n3. Exit\nEnter your selection (1\, 2 or 3):123123\nInvalid selection please try again.\n\nSelect below:\n1. Add new restaurant\n2. List all restaurants\n3. Exit\nEnter your selection (1\, 2 or 3):1\n\nEnter Restaurant Name: Green Street\nEnter Restaurant address: 999 Greet Street\, Pasadena\, CA\nEnter Restaurant type: Salad\nEnter Number of Tables: 10\n\nSelect below:\n1. Add new restaurant\n2. List all restaurants\n3. Exit\nEnter your selection (1\, 2 or 3):2\n\nThere are 4 restaurants in our system\n- Banana Bay\, Thai\n- Full House\, Dim sum\n- McDonald - Temple City\, Fast Good\n- Green Street\, Salad\n\nSelect below:\n1. Add new restaurant\n2. List all restaurants\n3. Exit\nEnter your selection (1\, 2 or 3):3\nThank you for using AYCLOGIC Restaurant system.\n 
URL:https://www.ayclogic.com/event/7-pm-intro-to-java-gamas-4/
CATEGORIES:Introduction To Java,Java
END:VEVENT
END:VCALENDAR