BEGIN:VCALENDAR
VERSION:2.0
PRODID:-//American Young Coder - ECPv6.10.1.1//NONSGML v1.0//EN
CALSCALE:GREGORIAN
METHOD:PUBLISH
X-ORIGINAL-URL:https://www.ayclogic.com
X-WR-CALDESC:Events for American Young Coder
REFRESH-INTERVAL;VALUE=DURATION:PT1H
X-Robots-Tag:noindex
X-PUBLISHED-TTL:PT1H
BEGIN:VTIMEZONE
TZID:America/Los_Angeles
BEGIN:DAYLIGHT
TZOFFSETFROM:-0800
TZOFFSETTO:-0700
TZNAME:PDT
DTSTART:20210314T100000
END:DAYLIGHT
BEGIN:STANDARD
TZOFFSETFROM:-0700
TZOFFSETTO:-0800
TZNAME:PST
DTSTART:20211107T090000
END:STANDARD
END:VTIMEZONE
BEGIN:VEVENT
DTSTART;TZID=America/Los_Angeles:20211218T090000
DTEND;TZID=America/Los_Angeles:20211218T100000
DTSTAMP:20260424T125406
CREATED:20211218T175924Z
LAST-MODIFIED:20211218T175924Z
UID:10808-1639818000-1639821600@www.ayclogic.com
SUMMARY:9 AM - Android Game Development With Java
DESCRIPTION:Homework\n\nMake bird sprite have flapping animation. Look at how we did it in Player.\nAdd hitbox to Player.\nDetect collission between player and any of the bird. When they collide\, set isRunning = false. This will stop the game.\nNo class from Dec 24 to Jan 2. Merry Christmas and Happy New Year.
URL:https://www.ayclogic.com/event/9-am-android-game-development-with-java-5/
CATEGORIES:Android Game Development,Java
END:VEVENT
BEGIN:VEVENT
DTSTART;TZID=America/Los_Angeles:20211218T100000
DTEND;TZID=America/Los_Angeles:20211218T110000
DTSTAMP:20260424T125406
CREATED:20211218T050926Z
LAST-MODIFIED:20211218T050926Z
UID:10806-1639821600-1639825200@www.ayclogic.com
SUMMARY:11 AM - Scratch 2 - Indo
DESCRIPTION:Homework\n\nUpload 2 costumes for your Face sprite. The 2 costumes should be your face pictures.\nEverytime\, the Face sprite appear\, select random costumes.\nCome up with 3 more christmas sayings and change the code in the Face to have these 3 christmas sayings.
URL:https://www.ayclogic.com/event/11-am-scratch-2-indo-2/
CATEGORIES:Scratch Class,Scratch Class Level 2
END:VEVENT
BEGIN:VEVENT
DTSTART;TZID=America/Los_Angeles:20211218T110000
DTEND;TZID=America/Los_Angeles:20211218T120000
DTSTAMP:20260424T125406
CREATED:20211218T200723Z
LAST-MODIFIED:20211218T200723Z
UID:10813-1639825200-1639828800@www.ayclogic.com
SUMMARY:11 AM - Scratch 1 - Abigail
DESCRIPTION:What we did today\n\nWe made the bat stop moving when the dog won (same with the dog).\nWe started on the Ask Gobo project.\n\nHomework\n\nDo page 68 on your pink scratch book.\nAdd audio recordings on all six options.
URL:https://www.ayclogic.com/event/11-am-scratch-1-abigail-4/
CATEGORIES:Scratch Class,Scratch Class Level 1
END:VEVENT
BEGIN:VEVENT
DTSTART;TZID=America/Los_Angeles:20211218T120000
DTEND;TZID=America/Los_Angeles:20211218T130000
DTSTAMP:20260424T125406
CREATED:20211218T210449Z
LAST-MODIFIED:20211218T210527Z
UID:10816-1639828800-1639832400@www.ayclogic.com
SUMMARY:12 PM - Intro To Java - Gamas
DESCRIPTION:Homework\n\nContinue with Dec2MethodHomework.java\nAdd codes for number 2 and number 3.\nIf you do it properly\, it will behave like below\n\nSelect below:\n1. Enter your sport\n2. Convert Fahrenheit to Celsius\n3. Exit\nEnter your selection (1\, 2 or 3):1\nEnter your favorite sport: volleyball\nVolleyball is my favorite sport.\n\nSelect below:\n1. Enter your sport\n2. Convert Fahrenheit to Celsius\n3. Exit\nEnter your selection (1\, 2 or 3):1\nEnter your favorite sport: Swimming\nSwimming is not my favorite sport\n\nSelect below:\n1. Enter your sport\n2. Convert Fahrenheit to Celcius\n3. Exit\nEnter your selection (1\, 2 or 3):2\nEnter a temperature in Fahrenheit: 100\n100 Fahrenheit is 37.0 celcius\n\nSelect below:\n1. Enter your sport\n2. Convert Fahrenheit to Celcius\n3. Exit\nEnter your selection (1\, 2 or 3):123123\nInvalid Selection\n\nSelect below:\n1. Enter your sport\n2. Convert Fahrenheit to Celcius\n3. Exit\nEnter your selection (1\, 2 or 3):3\nBye bye\n\nAlso copy 2 methods from Dec2Methods.java into Dec2MethodHomework.java: addFourNumbers(n1\,n2\,n3\,n4) and giveMeFamousActor(String gender) and add it as part of the new menu above.\nNo class from Dec 24 to Jan2\, see you on Jan 8\, 2022.
URL:https://www.ayclogic.com/event/12-pm-intro-to-java-gamas-2/
END:VEVENT
BEGIN:VEVENT
DTSTART;TZID=America/Los_Angeles:20211218T130000
DTEND;TZID=America/Los_Angeles:20211218T140000
DTSTAMP:20260424T125406
CREATED:20211218T220120Z
LAST-MODIFIED:20211218T221050Z
UID:10820-1639832400-1639836000@www.ayclogic.com
SUMMARY:1 PM - Python Game Development
DESCRIPTION:Today \n\nWe went over the homework to add the turret sprite.\nWe created a MAP config inside the config.py file.\nWe made the MAP have the correct size\, 28 columns and 20 rows so it can “cover” the entire screen.\nAs always\, you can check out the code on my branch here.\n\nHomework \n\nCustomize your map to make it interesting.  You could create a maze pattern or whatever you want.\nAdd a Bullet sprite using the “Bullet.png” filename. Get a bullet to appear on the screen by creating a Bullet sprite.  The bullet should move to the right\, you can reference what we did in the Birdie game\, it’s similar to the fireball.\nWhen use presses the mouse button\, shoot a bullet by creating a new bullet and adding it to the bullet group.\nMake the bullet get created from the position of the tank.
URL:https://www.ayclogic.com/event/1-pm-python-game-development-42/
CATEGORIES:Advanced Python Game Development
END:VEVENT
BEGIN:VEVENT
DTSTART;TZID=America/Los_Angeles:20211218T140000
DTEND;TZID=America/Los_Angeles:20211218T150000
DTSTAMP:20260424T125406
CREATED:20211218T230422Z
LAST-MODIFIED:20211218T230630Z
UID:10829-1639836000-1639839600@www.ayclogic.com
SUMMARY:2PM - Intro to Python - Latisha
DESCRIPTION:Today We Did:\n\nLearned how to get random numbers and random items from a list\nCreated Magic 8 Ball\n\nHomework:\n\nDo #6-7 from the Lists\,Inputs\,… Websites if you didn’t manage to do it before\nModify Magic8Ball so that it is inside a forever loop and do the following:\n\nAsk user “Enter yes or no question.” and take user input and save/set user input into a variable called “user_question”.\nIf user input is “quit”\, print “Bye bye” and break from the While Loop.\n\n\nNOTE: Please submit your homework file inside the google drive folder Thursday at 7pm\nNOTE: There is no class from 12/24 – 1/2 as AYC Logic will be closed for the holidays.\n\nIf you have any questions\, please send an email to latisha@ayclogic.com
URL:https://www.ayclogic.com/event/2pm-intro-to-python-latisha-11/
END:VEVENT
BEGIN:VEVENT
DTSTART;TZID=America/Los_Angeles:20211218T140000
DTEND;TZID=America/Los_Angeles:20211218T150000
DTSTAMP:20260424T125406
CREATED:20211219T001024Z
LAST-MODIFIED:20211219T001024Z
UID:10838-1639836000-1639839600@www.ayclogic.com
SUMMARY:2 PM - Intro To Python - Gamas
DESCRIPTION:Today We Do\n\nWe continue with Dec11_ShoppingCart.py program\n\nHomework\n\nThe turtle python project is due. Please email your program to gamas@ayclogic.com before Jan 8.\nAlso in the Dec11_ShoppingCart program\, add code to checkout function so it will list all items from the list. If you do it properly\, when user checkout (“99”)\, it will print like the following depending on what the user purchase\n\nYou have purchased 4 items:\nMilk\nMilk\nEggs\nEggs\n\nThank you for your business\, please pay $18
URL:https://www.ayclogic.com/event/2-pm-intro-to-python-gamas-10/
CATEGORIES:Python Level 1
END:VEVENT
BEGIN:VEVENT
DTSTART;TZID=America/Los_Angeles:20211218T140000
DTEND;TZID=America/Los_Angeles:20211218T150000
DTSTAMP:20260424T125406
CREATED:20220108T001956Z
LAST-MODIFIED:20220108T001956Z
UID:10980-1639836000-1639839600@www.ayclogic.com
SUMMARY:2 PM Scratch Level 1 Alexander Lee
DESCRIPTION:Today We Did:\n\nWe started up the Rocketship project.\nCompleted the rocketship along with the asteroids.\n\nFor Homework:\n\nThere is no homework for this week since we finished up the Rocketship project\, have a good break!
URL:https://www.ayclogic.com/event/2-pm-scratch-level-1-alexander-lee-5/
CATEGORIES:Scratch Class,Scratch Class Level 1
END:VEVENT
BEGIN:VEVENT
DTSTART;TZID=America/Los_Angeles:20211218T150000
DTEND;TZID=America/Los_Angeles:20211218T160000
DTSTAMP:20260424T125406
CREATED:20211219T000358Z
LAST-MODIFIED:20211219T000620Z
UID:10833-1639839600-1639843200@www.ayclogic.com
SUMMARY:3 PM - Intro To Java
DESCRIPTION:Today We Do:\n\nWe learned about while loop\nWe learned about Random number.\n\nHomework:\n\nOur coding school closes from Dec 24 to Jan 2. The class will resume on Jan 8.\nCreate guess a number between 0 to 100. The game give you exercise to use Random number generator. while loop (forever loop)\, if else statements\, get input from shell.\nEvery time you start the game\, it will generate a secretNumber\, which is a number between 0 to 100.\nBelow is how the game is going to look like\n\nWelcome to AYCLOGIC Guess a number game!!\nPlease guess a number between 0 to 100\n\nGuess a number: 50\nYour guess is too high. Please try a smaller number.\n\nGuess a number: 25\nYour guess is too low. Please try a bigger number.\n\nGuess a number: 32\nYour guess is too low. Please try a bigger number.\n\nGuess a number: 42\nYour guess is too high. Please try a smaller number.\n\nGuess a number: 38\nYour guess is too low. Please try a bigger number.\n\nGuess a number: 40\nYour guess is too low. Please try a bigger number.\n\nGuess a number: 41\nCongratulation you guessed correctly\, the answer is 41
URL:https://www.ayclogic.com/event/3-pm-intro-to-java-35/
CATEGORIES:Introduction To Java,Java
END:VEVENT
BEGIN:VEVENT
DTSTART;TZID=America/Los_Angeles:20211218T150000
DTEND;TZID=America/Los_Angeles:20211218T160000
DTSTAMP:20260424T125406
CREATED:20211219T024215Z
LAST-MODIFIED:20211219T024215Z
UID:10840-1639839600-1639843200@www.ayclogic.com
SUMMARY:3pm Scratch Level 1 - Bill
DESCRIPTION:Today We:\n\nContinued the virtual snow project\nMade the snow wiggle a bit while falling\nMade the snow build up on the ground instead of just being deleted\nMade the snow build up on top of other snow\nMade the snow build up on top of a snowman\nFinished the virtual snow project\nStarted the window cleaner project\nCreated a splat Sprite\nMade 2 new variables: MaxNumberOfSplats\, SplatsOnScreen\nMade the splat sprite create 15 clones\n\nYour HW:\n\nCreate 3 new Splat Sprite costumes w/ different colors\nNo Class from Dec 24 – Jan 2
URL:https://www.ayclogic.com/event/3pm-scratch-level-1-bill-10/
END:VEVENT
BEGIN:VEVENT
DTSTART;TZID=America/Los_Angeles:20211218T150000
DTEND;TZID=America/Los_Angeles:20211218T160000
DTSTAMP:20260424T125406
CREATED:20211219T073256Z
LAST-MODIFIED:20211219T073404Z
UID:10849-1639839600-1639843200@www.ayclogic.com
SUMMARY:3 PM - Scratch Level 2 - Allison
DESCRIPTION:Today we:\n\nReviewed last week’s homework\nAdded the Arrow sprites\nCoded the Arrow sprites to move\nFinished the Christmas Card project\nStarted the Spaceship 2.0 project\nAdded the Fireball sprite\nCoded fireball clones to be created when the space key is pressed\n\nHomework:\n\nKevin: If you can\, upload a picture of yourself for the Face sprite’s costume. If you can’t\, use a costume of your choice for the Face sprite.\nEveryone:\n(Optional) If you’d like\, you can email your Christmas Card project to your friends and family\nCode the Fireball clones to move upwards after they are created.\nDelete the Fireball clones if they reach the top edge. You cannot use the code “if touching edge”. If you need help\, look at the codes that make the Star clones delete when it reaches the bottom edge\nNOTE: To celebrate Christmas and New Year’s Day\, the school will be closed from Friday December 24\, 2021 to Sunday January 2\, 2022. Our next class will be on Saturday January 8\, 2022\nContact us if you have any questions or need any help
URL:https://www.ayclogic.com/event/3-pm-scratch-level-2-allison-4/
CATEGORIES:Scratch Class,Scratch Class Level 2
END:VEVENT
BEGIN:VEVENT
DTSTART;TZID=America/Los_Angeles:20211218T163000
DTEND;TZID=America/Los_Angeles:20211218T173000
DTSTAMP:20260424T125406
CREATED:20211219T074217Z
LAST-MODIFIED:20211219T074552Z
UID:10853-1639845000-1639848600@www.ayclogic.com
SUMMARY:4:30 PM – Scratch Level 1
DESCRIPTION:Today we:\n\nLearned how to use the ghost effect on sprites\nLearned how to hide and show sprites using a different method\nFinished the Funny Faces project\nStarted the Ask Gobo project\nCoded Gobo to speak\nCoded the game to randomly choose a number 1-6\nCode Gobo to say a certain response depending on what number was chosen\n\nHomework:\n\nRecord yourself saying all of Gobo’s responses. You should have six recordings in total (because Gobo has six responses total they could say)\nCode Gobo to play the audio\nFor example\, record yourself saying “Maybe…”. Title that audio as “Maybe…”. Code Gobo to play the audio if ReplyNumber = 3.\nNOTE: To celebrate Christmas and New Year’s Day\, the school will be closed from Friday December 24\, 2021 to Sunday January 2\, 2022. Our next class will be on Saturday January 8\, 2022\nContact us if you have any questions or need any help
URL:https://www.ayclogic.com/event/430-pm-scratch-level-1-9/
CATEGORIES:Scratch Class,Scratch Class Level 1
END:VEVENT
BEGIN:VEVENT
DTSTART;TZID=America/Los_Angeles:20211218T170000
DTEND;TZID=America/Los_Angeles:20211218T180000
DTSTAMP:20260424T125406
CREATED:20211219T032132Z
LAST-MODIFIED:20211219T032132Z
UID:10847-1639846800-1639850400@www.ayclogic.com
SUMMARY:5 PM - Intro To Java - Gamas
DESCRIPTION:Today We Do\n\nWe continued to learn more about Object Oriented Programming (OOP): we learned more about class and methods.\n\nHomework:\n\nCreate a new Java file Dec18SchoolApplication.java\nCreate a run method that will print and get input from user. If user enter anything other than “99”\, just continue displaying the menu. Look at how we did Dec18ObjectOrientedProgramming.java today. This is very similar to what we did in the class today.\n\nSchool System:\n1. Add a student\n2. Find student\n3. List all students\n99. Quit\nEnter your selection:1\n\nSchool System:\n1. Add a student\n2. Find student\n3. List all students\n99. Quit\nEnter your selection: 99\n\nThank you for using AYCLOGIC School System.\nBye bye.
URL:https://www.ayclogic.com/event/5-pm-intro-to-java-gamas/
CATEGORIES:Introduction To Java,Java
END:VEVENT
BEGIN:VEVENT
DTSTART;TZID=America/Los_Angeles:20211218T180000
DTEND;TZID=America/Los_Angeles:20211218T190000
DTSTAMP:20260424T125406
CREATED:20211219T025632Z
LAST-MODIFIED:20211219T030114Z
UID:10842-1639850400-1639854000@www.ayclogic.com
SUMMARY:6 PM - Intro To Python - David
DESCRIPTION:Today We Do:\n\nWe went over homework from page 123 and 124.\n\nHomework:\n\nCreate a file called Dec18_Quiz1PrepHomework.py\nDo exercises from https://www.ayclogic.com/intro-to-python-exercises/\nIf you have question\, please email either david@ayclogic.com or gamas@ayclogic.com.\nJayden please finished the homework from last week.\nNo class from Dec 24 to Jan 2. The class will resume on Jan 8\, 2022.
URL:https://www.ayclogic.com/event/6-pm-intro-to-python-david-8/
CATEGORIES:Python Class,Python Level 1
END:VEVENT
END:VCALENDAR