BEGIN:VCALENDAR
VERSION:2.0
PRODID:-//American Young Coder - ECPv6.10.1.1//NONSGML v1.0//EN
CALSCALE:GREGORIAN
METHOD:PUBLISH
X-ORIGINAL-URL:https://www.ayclogic.com
X-WR-CALDESC:Events for American Young Coder
REFRESH-INTERVAL;VALUE=DURATION:PT1H
X-Robots-Tag:noindex
X-PUBLISHED-TTL:PT1H
BEGIN:VTIMEZONE
TZID:America/Los_Angeles
BEGIN:DAYLIGHT
TZOFFSETFROM:-0800
TZOFFSETTO:-0700
TZNAME:PDT
DTSTART:20210314T100000
END:DAYLIGHT
BEGIN:STANDARD
TZOFFSETFROM:-0700
TZOFFSETTO:-0800
TZNAME:PST
DTSTART:20211107T090000
END:STANDARD
END:VTIMEZONE
BEGIN:VEVENT
DTSTART;TZID=America/Los_Angeles:20211220T170000
DTEND;TZID=America/Los_Angeles:20211220T180000
DTSTAMP:20260424T101649
CREATED:20211221T022108Z
LAST-MODIFIED:20211221T022108Z
UID:10865-1640019600-1640023200@www.ayclogic.com
SUMMARY:5pm Scratch Level 2 - Bill
DESCRIPTION:Today We:\n\nFinished the Christmas Card project and practiced sending it to people through email\nStarted the new Supermarket project\nSet the background and imported all the food sprites\nMade a new list of categories\nMade the cat tell the user a greeting and list the different categories of food\nMade the fruit category wiggle when the cat says the category name “fruit”\n\nYour HW:\n\nMake the other categories of food wiggle when their category name is said\nNo class from Dec 24 – Jan 2
URL:https://www.ayclogic.com/event/5pm-scratch-level-2-bill-12/
END:VEVENT
BEGIN:VEVENT
DTSTART;TZID=America/Los_Angeles:20211220T170000
DTEND;TZID=America/Los_Angeles:20211220T180000
DTSTAMP:20260424T101649
CREATED:20211223T093054Z
LAST-MODIFIED:20211223T093054Z
UID:10892-1640019600-1640023200@www.ayclogic.com
SUMMARY:5PM - Advanced Digital Illustration
DESCRIPTION:MONDAY \nToday we continued the Mina Project. We started the lines\, and finished most of her clothes. \n \nHOMEWORK \nDuring the next few in-class projects\, you’re going to be working on an at-home project that will reflect what we are doing in class. We are going to be drawing Nephanee from Fire Emblem. She looks a little complicated\, but don’t worry\, we are going step-by-step\, and each step we have done for the in-class project. \nFor homework\, use this reference picture to draw out only the stick figure step\, like we did in class. \nSTEPS: \n\nOpen a new HD canvas (1668 x 2388)\nImport the reference photo of Nephanee\nLower the opacity of the reference photo layer\nAdd a new layer (for the stick figure)\nUse the reference to draw the stick figure only\nDelete the reference layer. (We won’t need it anymore inside the canvas)
URL:https://www.ayclogic.com/event/5pm-advanced-digital-illustration-28/
CATEGORIES:Digital Illustration,Intermediate Digital Illustration
END:VEVENT
END:VCALENDAR