BEGIN:VCALENDAR
VERSION:2.0
PRODID:-//American Young Coder - ECPv6.10.1.1//NONSGML v1.0//EN
CALSCALE:GREGORIAN
METHOD:PUBLISH
X-ORIGINAL-URL:https://www.ayclogic.com
X-WR-CALDESC:Events for American Young Coder
REFRESH-INTERVAL;VALUE=DURATION:PT1H
X-Robots-Tag:noindex
X-PUBLISHED-TTL:PT1H
BEGIN:VTIMEZONE
TZID:America/Los_Angeles
BEGIN:DAYLIGHT
TZOFFSETFROM:-0800
TZOFFSETTO:-0700
TZNAME:PDT
DTSTART:20210314T100000
END:DAYLIGHT
BEGIN:STANDARD
TZOFFSETFROM:-0700
TZOFFSETTO:-0800
TZNAME:PST
DTSTART:20211107T090000
END:STANDARD
END:VTIMEZONE
BEGIN:VEVENT
DTSTART;TZID=America/Los_Angeles:20211222T083000
DTEND;TZID=America/Los_Angeles:20211222T093000
DTSTAMP:20260424T101635
CREATED:20211222T175949Z
LAST-MODIFIED:20220104T164458Z
UID:10870-1640161800-1640165400@www.ayclogic.com
SUMMARY:8:30 AM - Scratch 1 - Indo
DESCRIPTION:Today We Do\n\nWe completed Virtual Snow project.\n\nHomework\n\nAdd one banner to Virtual Snow project that would say “From Edmund” and move from top right corner to bottom left corner.\nAdd another sprite to Virtual snow project that would say “Merry Christmas” and move from the top left corner to bottom right coner.\nNext week is the final test\, so I have sent a practice test to your gmail. Please check your Gmail for email from ayclogic@gmail.com. The subject of the email should be “Scratch Level 1 Practice Test”. Please do this test before the class.
URL:https://www.ayclogic.com/event/830-am-scratch-1-indo/
CATEGORIES:Scratch Class,Scratch Class Level 1
END:VEVENT
BEGIN:VEVENT
DTSTART;TZID=America/Los_Angeles:20211222T160000
DTEND;TZID=America/Los_Angeles:20211222T170000
DTSTAMP:20260424T101635
CREATED:20211223T011355Z
LAST-MODIFIED:20211223T011529Z
UID:10882-1640188800-1640192400@www.ayclogic.com
SUMMARY:4 PM - Intro To Python - David
DESCRIPTION:Today We Do\n\nWe continued with Dec14_Robot.py project.\nWe added left_arm(x\,y\,color) function. I have uploaded the code to the google drive\, please take at the latest file in the google drive here.\n\nHomework\n\nSimilar to left_arm function\, create a new function right_arm(x\,y\,color). The function should be similar to the left_arm function. After the right_arm function is done\, called it to draw something like below
URL:https://www.ayclogic.com/event/4-pm-intro-to-python-david/
CATEGORIES:Python Class,Python Level 1
END:VEVENT
BEGIN:VEVENT
DTSTART;TZID=America/Los_Angeles:20211222T170000
DTEND;TZID=America/Los_Angeles:20211222T180000
DTSTAMP:20260424T101635
CREATED:20211223T021410Z
LAST-MODIFIED:20220105T030233Z
UID:10886-1640192400-1640196000@www.ayclogic.com
SUMMARY:5 PM - Intro To Python - Bill
DESCRIPTION:Today We:\n\nLearned about turtle.forward command\nLearned about turtle direction\nCreated a new rectangle function\nMade the function take in many parameters to specify certain things about our rectangle we are drawing\nStarted the Robot Builder project\n\nYour HW:\n\nNo homework\nNo school Dec 24 – Jan 2
URL:https://www.ayclogic.com/event/5pm-intro-to-python-bill-10/
END:VEVENT
BEGIN:VEVENT
DTSTART;TZID=America/Los_Angeles:20211222T170000
DTEND;TZID=America/Los_Angeles:20211222T180000
DTSTAMP:20260424T101635
CREATED:20211223T094203Z
LAST-MODIFIED:20211223T094203Z
UID:10896-1640192400-1640196000@www.ayclogic.com
SUMMARY:5PM - Advanced Digital Illustration
DESCRIPTION:WEDNESDAY \nToday we continued the Mikey Project. We finished adding the flat colors to the rest of his clothes\, and started on the shading. Shaded the boots\, pants\, shirt\, and part of his jacket. \n \n  \nHOMEWORK \nWe are continuing the Lyn Homework by starting “Step 5: Lines”. By next class\, finished the lines for her head\, face\, and hair. The head and face can be on one layer\, but the hair should be on a separate layer. Use your sketch to help you place the lines nicely. \nSteps: \n\nMake sure all your current layers are at 100% opacity.\nMerge all your sketch layers together. (except the counting heads layer\, that one can just be turned off or deleted)\nNow that your sketch is all one layer together\, lower the opacity of your Sketch Layer to 40% or lower (whatever works for you)\nAdd a new layer.\nDraw the lines for the head and face. (Dip Pen Hard brush\, 1.0-1.5 size\, black or almost black color)\nAdd a new layer.\nDraw the lines for the hair.
URL:https://www.ayclogic.com/event/5pm-advanced-digital-illustration-29/
CATEGORIES:Digital Illustration,Intermediate Digital Illustration
END:VEVENT
BEGIN:VEVENT
DTSTART;TZID=America/Los_Angeles:20211222T180000
DTEND;TZID=America/Los_Angeles:20211222T190000
DTSTAMP:20260424T101635
CREATED:20211223T030030Z
LAST-MODIFIED:20211223T030030Z
UID:10888-1640196000-1640199600@www.ayclogic.com
SUMMARY:6PM - Intro to Python - Latisha
DESCRIPTION:Today We Did:\n\nLearned about List For Loops\n\nHomework:\n\nDo pg. 57-58 and TRY-IT-YOURSELF 4-1 from pg.56 from the textbook in a file called Dec22_RangeForLoopHomework.py\nNOTE: Please submit your homework file inside the google drive folder Tuesday at 7pm\nNOTE: AYC Logic will be closed from 12/24-1/2 so there will be no class next week. Happy Holidays!\n\nIf you have any questions\, please send an email to latisha@ayclogic.com
URL:https://www.ayclogic.com/event/6pm-intro-to-python-latisha-6/
END:VEVENT
BEGIN:VEVENT
DTSTART;TZID=America/Los_Angeles:20211222T190000
DTEND;TZID=America/Los_Angeles:20211222T200000
DTSTAMP:20260424T101635
CREATED:20211223T042129Z
LAST-MODIFIED:20211223T042139Z
UID:10890-1640199600-1640203200@www.ayclogic.com
SUMMARY:7 PM - Python Game Development
DESCRIPTION:Today: \n\nWe went over the homework to add the different game modes.\nWe added the maze solver inside the enemy tank.\nWe visualized the path from the enemy tank to the player tank.\n\nHomework: \n\nCreate a sound effect when the tank shoots a bullet: use “TankFiring.wav”.  Also create another sound effect when the bullet colides with the brick: use “hit1.wav”.
URL:https://www.ayclogic.com/event/7-pm-python-game-development-101/
CATEGORIES:Python Game Development
END:VEVENT
END:VCALENDAR