BEGIN:VCALENDAR
VERSION:2.0
PRODID:-//American Young Coder - ECPv6.10.1.1//NONSGML v1.0//EN
CALSCALE:GREGORIAN
METHOD:PUBLISH
X-WR-CALNAME:American Young Coder
X-ORIGINAL-URL:https://www.ayclogic.com
X-WR-CALDESC:Events for American Young Coder
REFRESH-INTERVAL;VALUE=DURATION:PT1H
X-Robots-Tag:noindex
X-PUBLISHED-TTL:PT1H
BEGIN:VTIMEZONE
TZID:America/Los_Angeles
BEGIN:DAYLIGHT
TZOFFSETFROM:-0800
TZOFFSETTO:-0700
TZNAME:PDT
DTSTART:20210314T100000
END:DAYLIGHT
BEGIN:STANDARD
TZOFFSETFROM:-0700
TZOFFSETTO:-0800
TZNAME:PST
DTSTART:20211107T090000
END:STANDARD
END:VTIMEZONE
BEGIN:VEVENT
DTSTART;TZID=America/Los_Angeles:20211223T170000
DTEND;TZID=America/Los_Angeles:20211223T180000
DTSTAMP:20260424T125254
CREATED:20211222T220217Z
LAST-MODIFIED:20211222T220217Z
UID:10872-1640278800-1640282400@www.ayclogic.com
SUMMARY:5 PM - Scratch Level 1 - Allison
DESCRIPTION:Today we:\n\nReviewed the Practice Final Test\n\nHomework:\n\nStudy for the Final Test (which is on Thursday January 6\, 2022)\nIf you’d like\, you can study the resources attached below to prepare for the test\nNOTE: To celebrate Christmas and New Year’s Day\, the school will be closed from Friday December 24\, 2021 to Sunday January 2\, 2022. Our next class will be on Thursday January 6\, 2022\nContact us if you have any questions or need any help\n\nResources:\n\nSpaceship V1.0: https://scratch.mit.edu/projects/266884838\nAnimal Crossing: https://scratch.mit.edu/projects/559936031\nBirthday Card: https://scratch.mit.edu/projects/557279686\nCat Art: https://scratch.mit.edu/projects/331671044\nAnimal Race: https://scratch.mit.edu/projects/537193836\nYour Practice Final Test\n\nClick on the link below to see a picture of a coordinate plane with labeled coordinates. Make sure to memorize the coordinates (the ones in red). \nNumbered Shapes In Grid – Labeled
URL:https://www.ayclogic.com/event/5-pm-scratch-level-1-allison-27/
CATEGORIES:Scratch Class,Scratch Class Level 1
END:VEVENT
BEGIN:VEVENT
DTSTART;TZID=America/Los_Angeles:20211223T190000
DTEND;TZID=America/Los_Angeles:20211223T200000
DTSTAMP:20260424T125254
CREATED:20211224T035914Z
LAST-MODIFIED:20211224T040500Z
UID:10902-1640286000-1640289600@www.ayclogic.com
SUMMARY:7 PM - Intro To Java
DESCRIPTION:Today We Do\n\nWe finished RestaurantSystem application.\nWe started SchoolSystem application.\nWe created Student class.\n\nHomework\n\nNo class from Dec 24 to Jan 2. The class resume on Jan 6.\nAdd code in SchoolSystem so the system is able to 1. add new Student and 3. list all students\nLook at below\n\nSchool System:\n1. Add a student\n2. Find student\n3. List all students\nEnter your selection (type "exit" to quit): 1\n\nEnter First Name: Gamas\nEnter Last Name: Chang\nHow old are you: 100\nNew student record is created: Gamas\n\nSchool System:\n1. Add a student\n2. Find student\n3. List all students\nEnter your selection (type "exit" to quit): 3\n\nNicholas Firestone - 17 years old \nDylan Truong - 12 years old \nAmber Kuo - 11 years old \nBrandon Truong - 100 years old\nGamas Chang - 100 years old\n\nSchool System:\n1. Add a student\n2. Find student\n3. List all students\nEnter your selection (type "exit" to quit): exit\nbye bye
URL:https://www.ayclogic.com/event/7-pm-intro-to-java-6/
CATEGORIES:Introduction To Java,Java
END:VEVENT
END:VCALENDAR