BEGIN:VCALENDAR
VERSION:2.0
PRODID:-//American Young Coder - ECPv6.10.1.1//NONSGML v1.0//EN
CALSCALE:GREGORIAN
METHOD:PUBLISH
X-ORIGINAL-URL:https://www.ayclogic.com
X-WR-CALDESC:Events for American Young Coder
REFRESH-INTERVAL;VALUE=DURATION:PT1H
X-Robots-Tag:noindex
X-PUBLISHED-TTL:PT1H
BEGIN:VTIMEZONE
TZID:America/Los_Angeles
BEGIN:DAYLIGHT
TZOFFSETFROM:-0800
TZOFFSETTO:-0700
TZNAME:PDT
DTSTART:20210314T100000
END:DAYLIGHT
BEGIN:STANDARD
TZOFFSETFROM:-0700
TZOFFSETTO:-0800
TZNAME:PST
DTSTART:20211107T090000
END:STANDARD
END:VTIMEZONE
BEGIN:VEVENT
DTSTART;TZID=America/Los_Angeles:20211229T170000
DTEND;TZID=America/Los_Angeles:20211229T180000
DTSTAMP:20260424T074005
CREATED:20211223T094827Z
LAST-MODIFIED:20211223T094827Z
UID:10900-1640797200-1640800800@www.ayclogic.com
SUMMARY:5PM - NO CLASS - Advanced Digital Illustration
DESCRIPTION:WEDNESDAY \nNo class today. \nPlease refer to last week’s post for the project progress and homework for next class. \nMERRY CHRISTMAS and HAPPY NEW YEAR
URL:https://www.ayclogic.com/event/5pm-no-class-advanced-digital-illustration-2/
CATEGORIES:Digital Illustration,Intermediate Digital Illustration
END:VEVENT
END:VCALENDAR