BEGIN:VCALENDAR
VERSION:2.0
PRODID:-//American Young Coder - ECPv6.10.1.1//NONSGML v1.0//EN
CALSCALE:GREGORIAN
METHOD:PUBLISH
X-ORIGINAL-URL:https://www.ayclogic.com
X-WR-CALDESC:Events for American Young Coder
REFRESH-INTERVAL;VALUE=DURATION:PT1H
X-Robots-Tag:noindex
X-PUBLISHED-TTL:PT1H
BEGIN:VTIMEZONE
TZID:America/Los_Angeles
BEGIN:DAYLIGHT
TZOFFSETFROM:-0800
TZOFFSETTO:-0700
TZNAME:PDT
DTSTART:20220313T100000
END:DAYLIGHT
BEGIN:STANDARD
TZOFFSETFROM:-0700
TZOFFSETTO:-0800
TZNAME:PST
DTSTART:20221106T090000
END:STANDARD
END:VTIMEZONE
BEGIN:VEVENT
DTSTART;TZID=America/Los_Angeles:20220103T160000
DTEND;TZID=America/Los_Angeles:20220103T170000
DTSTAMP:20260424T091017
CREATED:20220110T062628Z
LAST-MODIFIED:20220110T062628Z
UID:11037-1641225600-1641229200@www.ayclogic.com
SUMMARY:4PM - Advanced Digital Illustration
DESCRIPTION:MONDAY \nToday we continued the Mina Project. We finished the lines\, finished doing the base colors\, and started a little bit of the shading on her boots. \n \nHOMEWORK \nRepost: \nDuring the next few in-class projects\, you’re going to be working on an at-home project that will reflect what we are doing in class. We are going to be drawing Nephanee from Fire Emblem. She looks a little complicated\, but don’t worry\, we are going step-by-step\, and each step we have done for the in-class project. \nFor homework\, use this reference picture to draw out only the Step 1: stick figure step\, like we did in class. \nSTEPS: \n\nOpen a new HD canvas (1668 x 2388)\nImport the reference photo of Nephanee\nLower the opacity of the reference photo layer\nAdd a new layer (for the stick figure)\nUse the reference to draw the stick figure only\nDelete the reference layer. (We won’t need it anymore inside the canvas)
URL:https://www.ayclogic.com/event/4pm-advanced-digital-illustration/
CATEGORIES:Digital Illustration,Intermediate Digital Illustration
END:VEVENT
BEGIN:VEVENT
DTSTART;TZID=America/Los_Angeles:20220103T170000
DTEND;TZID=America/Los_Angeles:20220103T180000
DTSTAMP:20260424T091017
CREATED:20220104T020845Z
LAST-MODIFIED:20220104T020845Z
UID:10914-1641229200-1641232800@www.ayclogic.com
SUMMARY:5 pm Scratch Level 2 - Bill
DESCRIPTION:Today We:\n\nContinued the Shopping Cart project\nCreated a new Shopping Cart List\nCreated anew Total Cost Variable\nMade it so when you click any food items\, it will:\n\nGet a bit bigger\nSay How much the item costs\nAdd the item to the Shopping Cart List\nAdd the cost to the Total Cost Variable\n\n\nMade a new Check Out Button sprite\nWhen that button is clicked\, we broadcast a new Check Out Message\nMade it so when the cat receives the Check Out broadcast message it will:\n\nTell the user the Total Cost\nLoop through the Shopping Cart list and tell the user what is in it\n\n\nGave the Button Sprite a cool affect where if the mouse is hovered over it\, it will be a bit bigger\nFinished the Shopping Cart project\n\nYour HW:\n\nNone
URL:https://www.ayclogic.com/event/5-pm-scratch-level-2-bill-2/
END:VEVENT
END:VCALENDAR