BEGIN:VCALENDAR
VERSION:2.0
PRODID:-//American Young Coder - ECPv6.10.1.1//NONSGML v1.0//EN
CALSCALE:GREGORIAN
METHOD:PUBLISH
X-WR-CALNAME:American Young Coder
X-ORIGINAL-URL:https://www.ayclogic.com
X-WR-CALDESC:Events for American Young Coder
REFRESH-INTERVAL;VALUE=DURATION:PT1H
X-Robots-Tag:noindex
X-PUBLISHED-TTL:PT1H
BEGIN:VTIMEZONE
TZID:America/Los_Angeles
BEGIN:DAYLIGHT
TZOFFSETFROM:-0800
TZOFFSETTO:-0700
TZNAME:PDT
DTSTART:20220313T100000
END:DAYLIGHT
BEGIN:STANDARD
TZOFFSETFROM:-0700
TZOFFSETTO:-0800
TZNAME:PST
DTSTART:20221106T090000
END:STANDARD
END:VTIMEZONE
BEGIN:VEVENT
DTSTART;TZID=America/Los_Angeles:20220107T170000
DTEND;TZID=America/Los_Angeles:20220107T180000
DTSTAMP:20260424T073725
CREATED:20220110T181152Z
LAST-MODIFIED:20220110T181152Z
UID:11043-1641574800-1641578400@www.ayclogic.com
SUMMARY:5PM - Object Oriented Programming
DESCRIPTION:Today We Did:\n\nFinished going over Game Inventory\nStarted working on Zoo Inventory\n\nHomework:\n\nfinish Animal class. Continue working on ZooInventorySystem\, do add new animal and List all animals\n\nList of Requirements\n\n\n\nIf you have any questions\, please send an email to latisha@ayclogic.com
URL:https://www.ayclogic.com/event/5pm-object-oriented-programming/
END:VEVENT
BEGIN:VEVENT
DTSTART;TZID=America/Los_Angeles:20220107T190000
DTEND;TZID=America/Los_Angeles:20220107T200000
DTSTAMP:20260424T073725
CREATED:20220108T051816Z
LAST-MODIFIED:20220108T052418Z
UID:10988-1641582000-1641585600@www.ayclogic.com
SUMMARY:7 PM - Python OOP
DESCRIPTION:Today We Do\n\nWe finished Monster Inheritance project.\nWe compared how to go through each element inside the list vs inside dictionary.\n\nHomework\n\n2 weeks later is Python OOP final test.\nI sent out Practice Test – Driver System today to everyone email. Do this Practice Test as your homework. Plan to spend at least 2 to 3 hours to do this homework. This practice test is very similar to Monster Inheritance\, School Application and of course the final test. So put some effort to try to do this practice test.
URL:https://www.ayclogic.com/event/7-pm-python-oop-15/
CATEGORIES:OOP Python,Python Class
END:VEVENT
END:VCALENDAR