BEGIN:VCALENDAR
VERSION:2.0
PRODID:-//American Young Coder - ECPv6.10.1.1//NONSGML v1.0//EN
CALSCALE:GREGORIAN
METHOD:PUBLISH
X-WR-CALNAME:American Young Coder
X-ORIGINAL-URL:https://www.ayclogic.com
X-WR-CALDESC:Events for American Young Coder
REFRESH-INTERVAL;VALUE=DURATION:PT1H
X-Robots-Tag:noindex
X-PUBLISHED-TTL:PT1H
BEGIN:VTIMEZONE
TZID:America/Los_Angeles
BEGIN:DAYLIGHT
TZOFFSETFROM:-0800
TZOFFSETTO:-0700
TZNAME:PDT
DTSTART:20220313T100000
END:DAYLIGHT
BEGIN:STANDARD
TZOFFSETFROM:-0700
TZOFFSETTO:-0800
TZNAME:PST
DTSTART:20221106T090000
END:STANDARD
END:VTIMEZONE
BEGIN:VEVENT
DTSTART;TZID=America/Los_Angeles:20220110T170000
DTEND;TZID=America/Los_Angeles:20220110T180000
DTSTAMP:20260424T090236
CREATED:20220111T020159Z
LAST-MODIFIED:20220111T020159Z
UID:11046-1641834000-1641837600@www.ayclogic.com
SUMMARY:5pm Scratch Level 2 - Bill
DESCRIPTION:Today We:\n\nStarted the Doom on the Broom project\nDownloaded and imported custom witch and fireball images\nResized and fixed the images\nMade the witch stay at the center of the screen and rotate when you press the right or left arrow keys\nMade the witch able to shoot fire balls\nDeleted the fire ball clones when they hit the edge of the screen\nCreated a bat enemy sprite\nMade the bat enemy spawning code\nMade the bat move towards the witch from a random direction\n\nYour HW:\n\nMake it so when the bat touches the witch\, a game over message is broadcast and the game is stopped\nMake it so when a fireball hits a bat\, the bat disappears (gets deleted)\n\n 
URL:https://www.ayclogic.com/event/5pm-scratch-level-2-bill-13/
END:VEVENT
BEGIN:VEVENT
DTSTART;TZID=America/Los_Angeles:20220110T170000
DTEND;TZID=America/Los_Angeles:20220110T180000
DTSTAMP:20260424T090236
CREATED:20220118T003818Z
LAST-MODIFIED:20220118T003818Z
UID:11152-1641834000-1641837600@www.ayclogic.com
SUMMARY:5PM - Advanced Digital Illustration
DESCRIPTION:MONDAY \nToday we continued the Mina project. We continued with Step 7: Lighting/Shading. We added the splotchy purple color to her jumpsuit\, and also added shading to it and the rest of her body. \n \nHOMEWORK \nContinue working on  Nephanee from Fire Emblem. \nPlease do STEP 2: BODY of our process for drawing characters. No tracing\, just use the reference to look at it for your drawing.
URL:https://www.ayclogic.com/event/5pm-advanced-digital-illustration-31/
CATEGORIES:Digital Illustration,Intermediate Digital Illustration
END:VEVENT
END:VCALENDAR