BEGIN:VCALENDAR
VERSION:2.0
PRODID:-//American Young Coder - ECPv6.10.1.1//NONSGML v1.0//EN
CALSCALE:GREGORIAN
METHOD:PUBLISH
X-WR-CALNAME:American Young Coder
X-ORIGINAL-URL:https://www.ayclogic.com
X-WR-CALDESC:Events for American Young Coder
REFRESH-INTERVAL;VALUE=DURATION:PT1H
X-Robots-Tag:noindex
X-PUBLISHED-TTL:PT1H
BEGIN:VTIMEZONE
TZID:America/Los_Angeles
BEGIN:DAYLIGHT
TZOFFSETFROM:-0800
TZOFFSETTO:-0700
TZNAME:PDT
DTSTART:20220313T100000
END:DAYLIGHT
BEGIN:STANDARD
TZOFFSETFROM:-0700
TZOFFSETTO:-0800
TZNAME:PST
DTSTART:20221106T090000
END:STANDARD
END:VTIMEZONE
BEGIN:VEVENT
DTSTART;TZID=America/Los_Angeles:20220114T173000
DTEND;TZID=America/Los_Angeles:20220114T183000
DTSTAMP:20260424T090453
CREATED:20220122T004135Z
LAST-MODIFIED:20220122T005721Z
UID:11222-1642181400-1642185000@www.ayclogic.com
SUMMARY:5:30 PM Scratch Level 2
DESCRIPTION:Today We Did\n\nWe started the Spaceship 1.0 project\nReplaced the Virtual Snow project in order to change it to the stars\nWe were able to add in the Spaceship and the asteroids\n\nFor Homework\n\nPlease create the costume for the asteroid sprite.\nAlso\, add music “Dance Space” to play while the game is occurring and for “Guitar Chords 2” to play when the game ends.\n\n 
URL:https://www.ayclogic.com/event/530-pm-scratch-level-2/
CATEGORIES:Scratch Class,Scratch Class Level 2
END:VEVENT
BEGIN:VEVENT
DTSTART;TZID=America/Los_Angeles:20220114T190000
DTEND;TZID=America/Los_Angeles:20220114T200000
DTSTAMP:20260424T090453
CREATED:20220115T064530Z
LAST-MODIFIED:20220115T064530Z
UID:11101-1642186800-1642190400@www.ayclogic.com
SUMMARY:7 PM - Python OOP - Gamas
DESCRIPTION:Today We Do\n\nWe reviewed Driver System practice test.\n\nHomework\n\nFinish Driver System practice test if you have not finished it. Submit the practice test. After submission\, I will give the answer key.\nNext week is final test. It is 2 hours test so come one hour early.\nStudy for the final test.\n\nSchoolApplication\nShoppingCartOOP\nMonsterInheritance\nPracticeTest DriverSystem
URL:https://www.ayclogic.com/event/7-pm-python-oop-gamas-3/
CATEGORIES:OOP Python,Python Class
END:VEVENT
END:VCALENDAR