BEGIN:VCALENDAR
VERSION:2.0
PRODID:-//American Young Coder - ECPv6.10.1.1//NONSGML v1.0//EN
CALSCALE:GREGORIAN
METHOD:PUBLISH
X-ORIGINAL-URL:https://www.ayclogic.com
X-WR-CALDESC:Events for American Young Coder
REFRESH-INTERVAL;VALUE=DURATION:PT1H
X-Robots-Tag:noindex
X-PUBLISHED-TTL:PT1H
BEGIN:VTIMEZONE
TZID:America/Los_Angeles
BEGIN:DAYLIGHT
TZOFFSETFROM:-0800
TZOFFSETTO:-0700
TZNAME:PDT
DTSTART:20220313T100000
END:DAYLIGHT
BEGIN:STANDARD
TZOFFSETFROM:-0700
TZOFFSETTO:-0800
TZNAME:PST
DTSTART:20221106T090000
END:STANDARD
END:VTIMEZONE
BEGIN:VEVENT
DTSTART;TZID=America/Los_Angeles:20220118T080000
DTEND;TZID=America/Los_Angeles:20220118T090000
DTSTAMP:20260424T101638
CREATED:20220118T170217Z
LAST-MODIFIED:20220118T170217Z
UID:11172-1642492800-1642496400@www.ayclogic.com
SUMMARY:8 AM - Intro To Python - Gamas
DESCRIPTION:Homework\n\nCreate a new Python file Jan18_StringHomework.py\nCopy code from book from page 20 to 23.\nIf you don’t have the book\, you can look at this copy in here: https://www.ayclogic.com/wp-content/uploads/2020/08/IntroToPythonP20toP23.pdf
URL:https://www.ayclogic.com/event/8-am-intro-to-python-gamas/
CATEGORIES:Python Class,Python Level 1
END:VEVENT
BEGIN:VEVENT
DTSTART;TZID=America/Los_Angeles:20220118T080000
DTEND;TZID=America/Los_Angeles:20220118T170000
DTSTAMP:20260424T101638
CREATED:20220122T010200Z
LAST-MODIFIED:20220125T030324Z
UID:11227-1642492800-1642525200@www.ayclogic.com
SUMMARY:6 PM - Scratch Level 1 - Yitong
DESCRIPTION:Today We Did\n\nWe started the Window Cleaner project.\nWe were able to do most of the blobs code.\n\nFor Homework\n\nCreate a few more blob costumes and make sure they are randomly picked when created.\nAlso\, make sure there is a timer that counts down while the game is being played.
URL:https://www.ayclogic.com/event/6-pm-scratch-level-1-19/
CATEGORIES:Scratch Class,Scratch Class Level 1
END:VEVENT
BEGIN:VEVENT
DTSTART;TZID=America/Los_Angeles:20220118T170000
DTEND;TZID=America/Los_Angeles:20220118T180000
DTSTAMP:20260424T101638
CREATED:20220119T020820Z
LAST-MODIFIED:20220119T020820Z
UID:11178-1642525200-1642528800@www.ayclogic.com
SUMMARY:5 PM - Minecraft Modding With Java
DESCRIPTION:Today We Do\n\nWe added Saturn Ore to the AYCESSENTIALS inventory tab.\nWe added saturn_ore loottable configuration to control what can be drop when player harvest saturn ore using Iron\, Diamond or Netherite pickaxe.\n\nHomework\n\nAdd one more drop in saturn_ore loottables\, aside from “aycessentials:saturn’ and “minecraft:diamond”\, drop one more item: “minecraft:torch”.\nModify the 2 images I provided in the class\, so it will be a custom chestplate image and custom layer image. We are going to use this custom image for our saturn chestplace next week.
URL:https://www.ayclogic.com/event/5-pm-minecraft-modding-with-java-5/
CATEGORIES:Java,Minecraft Modding With Java
END:VEVENT
BEGIN:VEVENT
DTSTART;TZID=America/Los_Angeles:20220118T180000
DTEND;TZID=America/Los_Angeles:20220118T190000
DTSTAMP:20260424T101638
CREATED:20220119T031444Z
LAST-MODIFIED:20220119T031444Z
UID:11182-1642528800-1642532400@www.ayclogic.com
SUMMARY:6 PM - Intro to Python - David
DESCRIPTION:Today we:\n\nReviewed the face2 function and how to create the polygon function\nLearned how to create the letter A\n\nHomework:\n\nCreate the first letter of your name\nKeep working on your turtle projects! Every week\, I will check your progress towards your projects. The project is due on February 15\, but please do not procrastinate!\n\nIf you still need to get your project proposals approved\, or have any other questions\, email me at david@ayclogic.com
URL:https://www.ayclogic.com/event/6-pm-intro-to-python-david-12/
END:VEVENT
END:VCALENDAR