BEGIN:VCALENDAR
VERSION:2.0
PRODID:-//American Young Coder - ECPv6.10.1.1//NONSGML v1.0//EN
CALSCALE:GREGORIAN
METHOD:PUBLISH
X-ORIGINAL-URL:https://www.ayclogic.com
X-WR-CALDESC:Events for American Young Coder
REFRESH-INTERVAL;VALUE=DURATION:PT1H
X-Robots-Tag:noindex
X-PUBLISHED-TTL:PT1H
BEGIN:VTIMEZONE
TZID:America/Los_Angeles
BEGIN:DAYLIGHT
TZOFFSETFROM:-0800
TZOFFSETTO:-0700
TZNAME:PDT
DTSTART:20220313T100000
END:DAYLIGHT
BEGIN:STANDARD
TZOFFSETFROM:-0700
TZOFFSETTO:-0800
TZNAME:PST
DTSTART:20221106T090000
END:STANDARD
END:VTIMEZONE
BEGIN:VEVENT
DTSTART;TZID=America/Los_Angeles:20220119T170000
DTEND;TZID=America/Los_Angeles:20220119T180000
DTSTAMP:20260424T125425
CREATED:20220120T020611Z
LAST-MODIFIED:20220126T032204Z
UID:11195-1642611600-1642615200@www.ayclogic.com
SUMMARY:5pm Intro To Python - Bill
DESCRIPTION:Today We:\n\nGave feedback on project proposals\nBegan the many shapes/faces project\nLearned how to draw a circle\nCreated a custom circle function that takes into account x\, y\, radius\, and color\nLooked at the final Face project\nRecorded what shapes make up a Face\nCreated a new face function\nMade it create the base face circle part\nLearned about how to keep into account the x and y we plug in as parameters into the face function\n\nYour HW:\n\nEmail me your project proposal if you didn’t last week: billhan@ayclogic.com\n\nAlso re email me your proposal with the changes if I told you to make changes to it during class\n\n\nBegin work on coding your project in thonny/turtle\n\nDo the background and anything that can be done using rectangles
URL:https://www.ayclogic.com/event/5pm-intro-to-python-bill-14/
END:VEVENT
BEGIN:VEVENT
DTSTART;TZID=America/Los_Angeles:20220119T170000
DTEND;TZID=America/Los_Angeles:20220119T180000
DTSTAMP:20260424T125425
CREATED:20220125T061123Z
LAST-MODIFIED:20220125T061123Z
UID:11298-1642611600-1642615200@www.ayclogic.com
SUMMARY:5PM - Advanced Digital Illustration
DESCRIPTION:WEDNESDAY \nToday we started a new project to draw Sayu from Genshin Impact. So far\, we have sketched the body. \n \nIn the past we drew a copy of our reference image. In this new project\, we have a reference of a character\, but we will be drawing them in a different pose/situation than the reference image. \nHOMEWORK \nLyn Reference \nFinish the lines on the Lyn homework\, with as much detail as possible. \n 
URL:https://www.ayclogic.com/event/5pm-advanced-digital-illustration-34/
CATEGORIES:Digital Illustration,Intermediate Digital Illustration
END:VEVENT
BEGIN:VEVENT
DTSTART;TZID=America/Los_Angeles:20220119T180000
DTEND;TZID=America/Los_Angeles:20220119T190000
DTSTAMP:20260424T125425
CREATED:20220120T030155Z
LAST-MODIFIED:20220120T030155Z
UID:11197-1642615200-1642618800@www.ayclogic.com
SUMMARY:6PM - Intro to Python - Latisha
DESCRIPTION:Today we did:\n\nQuiz Review\n\nStudy for the quiz:\n\nVariables and data types\nHow to combine string using “f” formater?\nIF ELIF ELSE\nHow to get input from Shell input()\, int()\nList. How to add a new element to the list using append?\nFor Loop (with range and with list)\nWhile loop\nHow to continuously ask user for input until user enter “quit” and break from the loop.\nHow to make String upper case\, lower case and capital the first letter of every word.\n\nNotes about the quiz:\n\nYou can use Thonny to write code\, but you cannot open any of your old files to copy code\nMake sure you have a gmail account to take your quiz (not a school email)\nTry to come 5 minutes early (5:55pm) so that I can send out the quizzes.\n\nIf you have any questions\, please send an email to latisha@ayclogic.com
URL:https://www.ayclogic.com/event/6pm-intro-to-python-latisha-9/
END:VEVENT
BEGIN:VEVENT
DTSTART;TZID=America/Los_Angeles:20220119T180000
DTEND;TZID=America/Los_Angeles:20220119T190000
DTSTAMP:20260424T125425
CREATED:20220120T030946Z
LAST-MODIFIED:20220120T030946Z
UID:11199-1642615200-1642618800@www.ayclogic.com
SUMMARY:6PM - Coding Olympic Training
DESCRIPTION:The homework is: \n\nFind the most frequent number in an array\n\nCreate nums.in file and write some numbers\, one number in each line\nPrint the most frequent number or write it to a file\n\n\nFind the two numbers in an array that have largest sum\n\nCreate nums.in file and write some numbers\, one number in each line\nAssume the solution is unique\nBONUS: It is possible there are multiple pairs of numbers have same largest sum\, find all possible pairs\n\n\n\nYou can also check last page of the slide for homework details. Please submit your homework before 8pm 1/23/2022
URL:https://www.ayclogic.com/event/6pm-coding-olympic-training/
END:VEVENT
BEGIN:VEVENT
DTSTART;TZID=America/Los_Angeles:20220119T190000
DTEND;TZID=America/Los_Angeles:20220119T200000
DTSTAMP:20260424T125425
CREATED:20220120T040200Z
LAST-MODIFIED:20220120T041000Z
UID:11202-1642618800-1642622400@www.ayclogic.com
SUMMARY:WED - 7 PM - Intro To Python - Gamas
DESCRIPTION:Today We Do\n\nWe went over Jan12_StringHomework.py learning about String built-in functions: .title()\, .upper()\, .lower()\nWe went over how to combine String using Python “f” format.\n\nHomework\n\nIf you did not do your homework last week\, please do it inside Jan12_StringHomework.py.\nFor today’s homework\, create a new file Jan19_StringHomework2.py.\nDo the exercises from the book page 25. Do 2-3\, 2-4\, 2-5 and 2-6.
URL:https://www.ayclogic.com/event/wed-7-pm-intro-to-python-gamas/
CATEGORIES:Python Class,Python Level 1
END:VEVENT
BEGIN:VEVENT
DTSTART;TZID=America/Los_Angeles:20220119T190000
DTEND;TZID=America/Los_Angeles:20220119T200000
DTSTAMP:20260424T125425
CREATED:20220120T040310Z
LAST-MODIFIED:20220120T040310Z
UID:11201-1642618800-1642622400@www.ayclogic.com
SUMMARY:7 PM - Python Game Development
DESCRIPTION:Today \n\nWent over the homework to fire the enemy bullet in the correct direction.\nWe added logic so the player tank won’t move or animate unless the user presses the move keys.\nWe added logic so the shield protects the player tank.\n\nHomework \n\nWhen the player is destroyed by an enemy bullet\, switch the game mode to game over. Add a new page to show the game over screen:\n\nAdd sound effects for when the enemy tank or player tanks are destroyed by the bullet using the “explodify.wav” sound effect.
URL:https://www.ayclogic.com/event/7-pm-python-game-development-104/
CATEGORIES:Advanced Python Game Development
END:VEVENT
END:VCALENDAR