BEGIN:VCALENDAR
VERSION:2.0
PRODID:-//American Young Coder - ECPv6.10.1.1//NONSGML v1.0//EN
CALSCALE:GREGORIAN
METHOD:PUBLISH
X-WR-CALNAME:American Young Coder
X-ORIGINAL-URL:https://www.ayclogic.com
X-WR-CALDESC:Events for American Young Coder
REFRESH-INTERVAL;VALUE=DURATION:PT1H
X-Robots-Tag:noindex
X-PUBLISHED-TTL:PT1H
BEGIN:VTIMEZONE
TZID:America/Los_Angeles
BEGIN:DAYLIGHT
TZOFFSETFROM:-0800
TZOFFSETTO:-0700
TZNAME:PDT
DTSTART:20220313T100000
END:DAYLIGHT
BEGIN:STANDARD
TZOFFSETFROM:-0700
TZOFFSETTO:-0800
TZNAME:PST
DTSTART:20221106T090000
END:STANDARD
END:VTIMEZONE
BEGIN:VEVENT
DTSTART;TZID=America/Los_Angeles:20220121T173000
DTEND;TZID=America/Los_Angeles:20220121T183000
DTSTAMP:20260424T090132
CREATED:20220122T023036Z
LAST-MODIFIED:20220122T023105Z
UID:11231-1642786200-1642789800@www.ayclogic.com
SUMMARY:5:30 PM Scratch Level 2-Alexander
DESCRIPTION:Today We Did\n\nWe added in the music for the Spaceship.\nCreated the fireball code and were able to destroy the asteroids.\n\nFor Homework:\n\nWe want to create a Fireball Powerup.\nTo create one\, create a duplicate of the Asteroid and change the costume to a red circle with an F in the middle.\nMake sure when the Spaceship touches the Fireball Powerup\, change the Fireball variable by one.\n\n 
URL:https://www.ayclogic.com/event/530-pm-scratch-level-2-alexander/
CATEGORIES:Scratch Class,Scratch Class Level 2
END:VEVENT
BEGIN:VEVENT
DTSTART;TZID=America/Los_Angeles:20220121T180000
DTEND;TZID=America/Los_Angeles:20220121T200000
DTSTAMP:20260424T090132
CREATED:20220122T053709Z
LAST-MODIFIED:20220122T053709Z
UID:11237-1642788000-1642795200@www.ayclogic.com
SUMMARY:7 PM - Python OOP - Gamas
DESCRIPTION:We had 2 hours final test today.
URL:https://www.ayclogic.com/event/7-pm-python-oop-gamas-4/
CATEGORIES:OOP Python,Python Class
END:VEVENT
END:VCALENDAR