BEGIN:VCALENDAR
VERSION:2.0
PRODID:-//American Young Coder - ECPv6.10.1.1//NONSGML v1.0//EN
CALSCALE:GREGORIAN
METHOD:PUBLISH
X-ORIGINAL-URL:https://www.ayclogic.com
X-WR-CALDESC:Events for American Young Coder
REFRESH-INTERVAL;VALUE=DURATION:PT1H
X-Robots-Tag:noindex
X-PUBLISHED-TTL:PT1H
BEGIN:VTIMEZONE
TZID:America/Los_Angeles
BEGIN:DAYLIGHT
TZOFFSETFROM:-0800
TZOFFSETTO:-0700
TZNAME:PDT
DTSTART:20220313T100000
END:DAYLIGHT
BEGIN:STANDARD
TZOFFSETFROM:-0700
TZOFFSETTO:-0800
TZNAME:PST
DTSTART:20221106T090000
END:STANDARD
END:VTIMEZONE
BEGIN:VEVENT
DTSTART;TZID=America/Los_Angeles:20220125T073000
DTEND;TZID=America/Los_Angeles:20220125T083000
DTSTAMP:20260424T114618
CREATED:20220125T163844Z
LAST-MODIFIED:20220125T163844Z
UID:11310-1643095800-1643099400@www.ayclogic.com
SUMMARY:7:30 AM - Intro To Python - Gamas
DESCRIPTION:Homework\n\nInside Jan18_StringHomework.py continue doing homework from page 22 to 23. Just copy the codes.\nCreate a new python file Jan25_StringHomework2.py\, answer questions from page 25 (TRY IT YOURSELF) : 2-3 and 2-4 and 2-5
URL:https://www.ayclogic.com/event/730-am-intro-to-python-gamas/
END:VEVENT
BEGIN:VEVENT
DTSTART;TZID=America/Los_Angeles:20220125T170000
DTEND;TZID=America/Los_Angeles:20220125T180000
DTSTAMP:20260424T114618
CREATED:20220126T051041Z
LAST-MODIFIED:20220126T051041Z
UID:11321-1643130000-1643133600@www.ayclogic.com
SUMMARY:5 PM - Minecraft Modding With Java
DESCRIPTION:Today We Do\n\nWe added Saturn Chestplate so it appear in the inventory.\nWe added Saturn Chestplate texture so when the player wear it\, it will show properly during play.
URL:https://www.ayclogic.com/event/5-pm-minecraft-modding-with-java-6/
CATEGORIES:Java,Minecraft Modding With Java
END:VEVENT
BEGIN:VEVENT
DTSTART;TZID=America/Los_Angeles:20220125T180000
DTEND;TZID=America/Los_Angeles:20220125T190000
DTSTAMP:20260424T114618
CREATED:20220126T030636Z
LAST-MODIFIED:20220126T030923Z
UID:11312-1643133600-1643137200@www.ayclogic.com
SUMMARY:6 PM - Intro to Python - David
DESCRIPTION:Topics covered in class today:\n\nWe went over kaleido spiral: using an array of colors and constantly updating radius and the index of what color we want to use.\n\nHomework:\n\nPlease email me your project proposals if you have not yet\, regardless of whether I approved them or not.\nKeep working on your turtle projects! Every week\, I will check your progress towards your projects. The project is due on February 15\, please do not procrastinate!\nHere is a basic list of guidelines for the project: https://www.ayclogic.com/intro-to-python-final-project-criteria/\n\nIf you still need to get your project proposals approved\, or have any other questions\, email me at david@ayclogic.com
URL:https://www.ayclogic.com/event/6-pm-intro-to-python-david-14/
END:VEVENT
BEGIN:VEVENT
DTSTART;TZID=America/Los_Angeles:20220125T180000
DTEND;TZID=America/Los_Angeles:20220125T190000
DTSTAMP:20260424T114618
CREATED:20220128T001943Z
LAST-MODIFIED:20220128T001943Z
UID:11338-1643133600-1643137200@www.ayclogic.com
SUMMARY:6 PM – Scratch Level 1 – Yitong
DESCRIPTION:What we learned today:\n\nlearned how to make a countdown timer\nwent over how to broadcast and receive messages\n\nHomework:\n\nCoding Book pg. 139\n\nIf you have questions email me at: idyllicalyssum@gmail.com
URL:https://www.ayclogic.com/event/6-pm-scratch-level-1-yitong-12/
CATEGORIES:Scratch Class,Scratch Class Level 1
END:VEVENT
END:VCALENDAR