BEGIN:VCALENDAR
VERSION:2.0
PRODID:-//American Young Coder - ECPv6.10.1.1//NONSGML v1.0//EN
CALSCALE:GREGORIAN
METHOD:PUBLISH
X-ORIGINAL-URL:https://www.ayclogic.com
X-WR-CALDESC:Events for American Young Coder
REFRESH-INTERVAL;VALUE=DURATION:PT1H
X-Robots-Tag:noindex
X-PUBLISHED-TTL:PT1H
BEGIN:VTIMEZONE
TZID:America/Los_Angeles
BEGIN:DAYLIGHT
TZOFFSETFROM:-0800
TZOFFSETTO:-0700
TZNAME:PDT
DTSTART:20220313T100000
END:DAYLIGHT
BEGIN:STANDARD
TZOFFSETFROM:-0700
TZOFFSETTO:-0800
TZNAME:PST
DTSTART:20221106T090000
END:STANDARD
END:VTIMEZONE
BEGIN:VEVENT
DTSTART;TZID=America/Los_Angeles:20220128T080000
DTEND;TZID=America/Los_Angeles:20220128T170000
DTSTAMP:20260424T115705
CREATED:20220129T052528Z
LAST-MODIFIED:20220129T052528Z
UID:11356-1643356800-1643389200@www.ayclogic.com
SUMMARY:7 PM - Python OOP - Gamas
DESCRIPTION:Today We Do\n\nWe reviewed Final Test Result.\n\nHomework\n\nTry to change your Final Test codes (The Bank System) try not to look at the answer key. If you are stuck you can look at the answer key.\nIn the class today\, we started Animal system. You can download the code in the class google drive.\nTry to add code for all of these features\n\n1. Add animal\n2. Attack animal\n3. Heal animal\n4. List all animals\n5. Find animal in List\n6. Find animal in Dictionary\n7. Exit\nEnter your selection:
URL:https://www.ayclogic.com/event/7-pm-python-oop-gamas-5/
CATEGORIES:OOP Python,Python Class
END:VEVENT
BEGIN:VEVENT
DTSTART;TZID=America/Los_Angeles:20220128T173000
DTEND;TZID=America/Los_Angeles:20220128T183000
DTSTAMP:20260424T115705
CREATED:20220129T022352Z
LAST-MODIFIED:20220129T022352Z
UID:11350-1643391000-1643394600@www.ayclogic.com
SUMMARY:5:30 PM Scratch Level 2 Alexander Lee
DESCRIPTION:Today We Did\n\nWe continued with the Spaceship 2.0 project.\nWe added in the bomb and the lightning projectile\, along with the fireball powerup.\n\nFor Homework\n\nCreate the Bomb Powerup.\nAlso\, make sure that you can only shoot a certain amount of Bombs. For example\, if you have 5 bombs\, you should only be able to shoot 5 bombs.
URL:https://www.ayclogic.com/event/530-pm-scratch-level-2-alexander-lee/
CATEGORIES:Scratch Class,Scratch Class Level 2
END:VEVENT
END:VCALENDAR