BEGIN:VCALENDAR
VERSION:2.0
PRODID:-//American Young Coder - ECPv6.10.1.1//NONSGML v1.0//EN
CALSCALE:GREGORIAN
METHOD:PUBLISH
X-WR-CALNAME:American Young Coder
X-ORIGINAL-URL:https://www.ayclogic.com
X-WR-CALDESC:Events for American Young Coder
REFRESH-INTERVAL;VALUE=DURATION:PT1H
X-Robots-Tag:noindex
X-PUBLISHED-TTL:PT1H
BEGIN:VTIMEZONE
TZID:America/Los_Angeles
BEGIN:DAYLIGHT
TZOFFSETFROM:-0800
TZOFFSETTO:-0700
TZNAME:PDT
DTSTART:20220313T100000
END:DAYLIGHT
BEGIN:STANDARD
TZOFFSETFROM:-0700
TZOFFSETTO:-0800
TZNAME:PST
DTSTART:20221106T090000
END:STANDARD
END:VTIMEZONE
BEGIN:VEVENT
DTSTART;TZID=America/Los_Angeles:20220206T140000
DTEND;TZID=America/Los_Angeles:20220206T150000
DTSTAMP:20260424T073733
CREATED:20220207T004215Z
LAST-MODIFIED:20220209T025331Z
UID:11495-1644156000-1644159600@www.ayclogic.com
SUMMARY:2 PM - Scratch Level 1
DESCRIPTION:Today we:\n\nFinished the Drawing Shapes in Grid project\nStarted the Animal Crossing project\nLearned how to code sprites to move across the screen while changing costumes\nLearned about the code “change x by 10” and “change y by 10”\n\nHomework:\n\nAdd another Dot sprite and code it to start at the middle of the bottom edge/border. Then code the sprite to move up while switching costumes.\nAdd another sprite (you can choose which one to use). Code it to start at one edge/border of the screen and move across the screen.\nIf you want\, you can choose another background. This is optional.\nClick on the link to see an image of the coordinate plane if you need it for homework: Labeled Coordinate Plane.\nYou can also look at your printed coordinate plane paper to help you with homework.\nContact gamas@ayclogic.com or allison.682.lee@gmail.com if you have any questions or need any help .
URL:https://www.ayclogic.com/event/430-pm-scratch-level-1-14/
CATEGORIES:Scratch Class,Scratch Class Level 1
END:VEVENT
END:VCALENDAR