BEGIN:VCALENDAR
VERSION:2.0
PRODID:-//American Young Coder - ECPv6.10.1.1//NONSGML v1.0//EN
CALSCALE:GREGORIAN
METHOD:PUBLISH
X-WR-CALNAME:American Young Coder
X-ORIGINAL-URL:https://www.ayclogic.com
X-WR-CALDESC:Events for American Young Coder
REFRESH-INTERVAL;VALUE=DURATION:PT1H
X-Robots-Tag:noindex
X-PUBLISHED-TTL:PT1H
BEGIN:VTIMEZONE
TZID:America/Los_Angeles
BEGIN:DAYLIGHT
TZOFFSETFROM:-0800
TZOFFSETTO:-0700
TZNAME:PDT
DTSTART:20220313T100000
END:DAYLIGHT
BEGIN:STANDARD
TZOFFSETFROM:-0700
TZOFFSETTO:-0800
TZNAME:PST
DTSTART:20221106T090000
END:STANDARD
END:VTIMEZONE
BEGIN:VEVENT
DTSTART;TZID=America/Los_Angeles:20220210T170000
DTEND;TZID=America/Los_Angeles:20220210T180000
DTSTAMP:20260424T030523
CREATED:20220211T015432Z
LAST-MODIFIED:20220211T015432Z
UID:11537-1644512400-1644516000@www.ayclogic.com
SUMMARY:5 PM Scratch Level 2
DESCRIPTION:Today We Did\n\nWe continued on with the Jumpy Monkey project\nWe added in the Bananas\, Tree\, and Banner.\n\nFor Homework\n\nCreate a Levels banner\, that shows the level that the player is on. So when it is level 1 the screen should show a level 1 banner and when it is level 2 the level 2 banner should be shown.\nThese banners should only show for a little bit\, about 3 seconds.\nAlso\, switch the backdrop to “Jungle” when the player reaches Level 2.
URL:https://www.ayclogic.com/event/5-pm-scratch-level-2-48/
CATEGORIES:Scratch Class,Scratch Class Level 2
END:VEVENT
BEGIN:VEVENT
DTSTART;TZID=America/Los_Angeles:20220210T170000
DTEND;TZID=America/Los_Angeles:20220210T180000
DTSTAMP:20260424T030523
CREATED:20220218T005515Z
LAST-MODIFIED:20220218T005515Z
UID:11632-1644512400-1644516000@www.ayclogic.com
SUMMARY:5PM - Python Game Development - Latisha
DESCRIPTION:Today We Did:\n\nWorked on Birdie\n\nCreated the Player class\n\n\n\nHomework:\n\nmake the Fireball class in fireball.py and create_fireball() in main.py. But instead of making a fireball based on a timer\, add a new fireball to the group everytime you press the space key. K_SPACE\n\nIf you have any questions\, please send an email to latisha@ayclogic.com
URL:https://www.ayclogic.com/event/5pm-python-game-development-latisha-4/
END:VEVENT
BEGIN:VEVENT
DTSTART;TZID=America/Los_Angeles:20220210T190000
DTEND;TZID=America/Los_Angeles:20220210T200000
DTSTAMP:20260424T030523
CREATED:20220211T041950Z
LAST-MODIFIED:20220211T041950Z
UID:11542-1644519600-1644523200@www.ayclogic.com
SUMMARY:7 PM - Intro To Java - Gamas
DESCRIPTION:Today We Do\n\nWe continued with Thu7PMEmailApplication project.\nWe added feature to login\nWe display 2nd menu continuously after email and password match.\n\nHomework\n\nContinue with Thu7PMEmailApplication.\nDuring login\, when user enters a wrong password\, print “You have entered an invalid password.” and go back to the main menu.\nCreate a new class EmailMessage with the following class attributes: senderEmail\, sendToEmail\, subject\, content.\nInside EmailSystem.java\, add a new Map<String\, EmailMessage>\nAfter successful login. add “2. Create new email” feature. In this feature after creating an email\, you are supposed to store in the new map you created above with senderEmail as the key of the map.\n\nGamas Chang\, please select from below:\n1. Check your inbox\n2. Create new email\n3. Logout\nEnter your selection:2\n\nCREATE EMAIL from Gamas Chang\nSend To: jessica@ayclogic.com\nSubject: I want to register to your school\nContent: I am interested in learning Python\, can you help me enroll\nYou have successfully sent email to jessica@ayclogic.com\n\nGamas Chang\, please select from below:\n1. Check your inbox\n2. Create new email\n3. Logout\nEnter your selection:
URL:https://www.ayclogic.com/event/7-pm-intro-to-java-gamas-7/
CATEGORIES:Introduction To Java,Java
END:VEVENT
BEGIN:VEVENT
DTSTART;TZID=America/Los_Angeles:20220210T190000
DTEND;TZID=America/Los_Angeles:20220210T200000
DTSTAMP:20260424T030523
CREATED:20220216T031051Z
LAST-MODIFIED:20220216T035849Z
UID:11610-1644519600-1644523200@www.ayclogic.com
SUMMARY:7 PM - Intro to Python - David
DESCRIPTION:Topics covered in class today: \n\nWe reviewed the homework that covered if\, elif\, and else statements as well as arithmetic comparisons.\nWe learned how to get input from a user. Keep in mind that when we get input\, it will always be a string. If you want to make it an integer\, you would have to do int(x).\n\nHomework: \n\nCreate a new python file Feb10_InputFromShellHomework.py.\nDo exercises from TRY IT YOURSELF. Page 117: 7-1\, 7-2 . \nCreate a new python file Feb10_TellMeYourAgeHomework.py and do exercise in https://www.ayclogic.com/tell-me-your-age/ This is very similar to last week homework.\n\nIf you have any questions or need any help\, please email me at david@ayclogic.com
URL:https://www.ayclogic.com/event/7-pm-intro-to-python-david-5/
END:VEVENT
END:VCALENDAR