BEGIN:VCALENDAR
VERSION:2.0
PRODID:-//American Young Coder - ECPv6.10.1.1//NONSGML v1.0//EN
CALSCALE:GREGORIAN
METHOD:PUBLISH
X-WR-CALNAME:American Young Coder
X-ORIGINAL-URL:https://www.ayclogic.com
X-WR-CALDESC:Events for American Young Coder
REFRESH-INTERVAL;VALUE=DURATION:PT1H
X-Robots-Tag:noindex
X-PUBLISHED-TTL:PT1H
BEGIN:VTIMEZONE
TZID:America/Los_Angeles
BEGIN:DAYLIGHT
TZOFFSETFROM:-0800
TZOFFSETTO:-0700
TZNAME:PDT
DTSTART:20220313T100000
END:DAYLIGHT
BEGIN:STANDARD
TZOFFSETFROM:-0700
TZOFFSETTO:-0800
TZNAME:PST
DTSTART:20221106T090000
END:STANDARD
END:VTIMEZONE
BEGIN:VEVENT
DTSTART;TZID=America/Los_Angeles:20220214T170000
DTEND;TZID=America/Los_Angeles:20220214T180000
DTSTAMP:20260424T090345
CREATED:20220215T063207Z
LAST-MODIFIED:20220215T063207Z
UID:11604-1644858000-1644861600@www.ayclogic.com
SUMMARY:5PM - Advanced Digital Illustration
DESCRIPTION:MONDAY \nToday we continued the Penny Haywood project. We transitioned the sketch into lines by using clipped layers. We also started the coloring\, and also shading the face. \n \n  \nHOMEWORK \nFinal Project time! Please fill out this proposal document. Read each section carefully and be as detailed as possible. Since this is the final project\, I will be expecting your best effort. We will go over your proposal next class\, and I will let you know if we need more information or need to chance anything. \nWe won’t be working on the Nephanee project anymore. But\, feel free to continue working on it on your own\, if you want. I will answer any questions you have about it in class.
URL:https://www.ayclogic.com/event/5pm-advanced-digital-illustration-41/
CATEGORIES:Digital Illustration,Intermediate Digital Illustration
END:VEVENT
BEGIN:VEVENT
DTSTART;TZID=America/Los_Angeles:20220214T170000
DTEND;TZID=America/Los_Angeles:20220214T180000
DTSTAMP:20260424T090345
CREATED:20220223T032411Z
LAST-MODIFIED:20220223T035957Z
UID:11719-1644858000-1644861600@www.ayclogic.com
SUMMARY:5 pm Scratch Level 2 - Bill
DESCRIPTION:Today We:\n\nContinued the fireball fighting game\nMade it so you can’t make a fire ball stream/beam\nCreated 2 variables for the player healths\nMade it so hitting a player with the other player’s fireball reduces the player’s health by 1\nWhen one player’s health reaches 0\, the proper player win message is broadcast\nCreated an invisible Game Control sprite to hold all of our variables\n\nYour HW:\n\nMake a copy of the backdrop\nOn that new backdrop\, add text with the controls
URL:https://www.ayclogic.com/event/5-pm-scratch-level-2-bill-3/
END:VEVENT
BEGIN:VEVENT
DTSTART;TZID=America/Los_Angeles:20220214T180000
DTEND;TZID=America/Los_Angeles:20220214T190000
DTSTAMP:20260424T090345
CREATED:20220215T030444Z
LAST-MODIFIED:20220215T030444Z
UID:11597-1644861600-1644865200@www.ayclogic.com
SUMMARY:6 PM – Coding Olympic Training
DESCRIPTION:Homework: \nYou are given an integer array prices where prices[i] is the price of a given stock on the ith day. \nOn each day\, you may decide to buy and/or sell the stock. You can only hold at most one share of the stock at any time. However\, you can buy it then immediately sell it on the same day. \nFind and return the maximum profit you can achieve. \nInput: prices = [7\,1\,5\,3\,6\,4] \nOutput: 7 \n  \nBonus question: \nFor same background\, find the maximum profit you can achieve. You may complete at most two transactions.
URL:https://www.ayclogic.com/event/6-pm-coding-olympic-training-7/
END:VEVENT
END:VCALENDAR