BEGIN:VCALENDAR
VERSION:2.0
PRODID:-//American Young Coder - ECPv6.10.1.1//NONSGML v1.0//EN
CALSCALE:GREGORIAN
METHOD:PUBLISH
X-WR-CALNAME:American Young Coder
X-ORIGINAL-URL:https://www.ayclogic.com
X-WR-CALDESC:Events for American Young Coder
REFRESH-INTERVAL;VALUE=DURATION:PT1H
X-Robots-Tag:noindex
X-PUBLISHED-TTL:PT1H
BEGIN:VTIMEZONE
TZID:America/Los_Angeles
BEGIN:DAYLIGHT
TZOFFSETFROM:-0800
TZOFFSETTO:-0700
TZNAME:PDT
DTSTART:20220313T100000
END:DAYLIGHT
BEGIN:STANDARD
TZOFFSETFROM:-0700
TZOFFSETTO:-0800
TZNAME:PST
DTSTART:20221106T090000
END:STANDARD
END:VTIMEZONE
BEGIN:VEVENT
DTSTART;TZID=America/Los_Angeles:20220215T080000
DTEND;TZID=America/Los_Angeles:20220215T170000
DTSTAMP:20260424T030602
CREATED:20220216T013119Z
LAST-MODIFIED:20220216T013119Z
UID:11607-1644912000-1644944400@www.ayclogic.com
SUMMARY:4:30 PM - Python OOP - Gamas
DESCRIPTION:Homework\n\nCreate Feb15_ClassHomework.py\nCopy codes from page 158 to 161\nAnd then do TRY IT YOURSELF in page 162 only 9-1 and 9-2.
URL:https://www.ayclogic.com/event/430-pm-python-oop-gamas-2/
END:VEVENT
BEGIN:VEVENT
DTSTART;TZID=America/Los_Angeles:20220215T180000
DTEND;TZID=America/Los_Angeles:20220215T190000
DTSTAMP:20260424T030602
CREATED:20220216T030807Z
LAST-MODIFIED:20220216T030807Z
UID:11609-1644948000-1644951600@www.ayclogic.com
SUMMARY:6 PM – Scratch Level 1 – Yitong
DESCRIPTION:What we did today:\n\nlearned how to use the “when sprite clicked” block\nwent over direction\nwent over “broadcast” and “when I receive”\n\nHomework:\n\nCoding Book Pg. 87-88
URL:https://www.ayclogic.com/event/6-pm-scratch-level-1-yitong-15/
CATEGORIES:Scratch Class,Scratch Class Level 1
END:VEVENT
BEGIN:VEVENT
DTSTART;TZID=America/Los_Angeles:20220215T180000
DTEND;TZID=America/Los_Angeles:20220215T190000
DTSTAMP:20260424T030602
CREATED:20220216T031502Z
LAST-MODIFIED:20220216T031502Z
UID:11614-1644948000-1644951600@www.ayclogic.com
SUMMARY:6 PM - Intro to Python - David
DESCRIPTION:Topics covered in class today:\n\nReviewed the turtle projects.\nStarted the grocery system program.\n\nHomework\n\nFinish your turtle projects! The project is due next week (February 22)\, instead of this week.\nHere is a basic list of guidelines for the project: https://www.ayclogic.com/intro-to-python-final-project-criteria/\n\nKeep in mind that this week is your last chance to finish up the project. If you need any help\, or have any questions\, please email me your code and your questions at david@ayclogic.com
URL:https://www.ayclogic.com/event/6-pm-intro-to-python-david-19/
END:VEVENT
END:VCALENDAR