BEGIN:VCALENDAR
VERSION:2.0
PRODID:-//American Young Coder - ECPv6.10.1.1//NONSGML v1.0//EN
CALSCALE:GREGORIAN
METHOD:PUBLISH
X-ORIGINAL-URL:https://www.ayclogic.com
X-WR-CALDESC:Events for American Young Coder
REFRESH-INTERVAL;VALUE=DURATION:PT1H
X-Robots-Tag:noindex
X-PUBLISHED-TTL:PT1H
BEGIN:VTIMEZONE
TZID:America/Los_Angeles
BEGIN:DAYLIGHT
TZOFFSETFROM:-0800
TZOFFSETTO:-0700
TZNAME:PDT
DTSTART:20220313T100000
END:DAYLIGHT
BEGIN:STANDARD
TZOFFSETFROM:-0700
TZOFFSETTO:-0800
TZNAME:PST
DTSTART:20221106T090000
END:STANDARD
END:VTIMEZONE
BEGIN:VEVENT
DTSTART;TZID=America/Los_Angeles:20220217T170000
DTEND;TZID=America/Los_Angeles:20220217T180000
DTSTAMP:20260424T030818
CREATED:20220218T015756Z
LAST-MODIFIED:20220218T015756Z
UID:11634-1645117200-1645120800@www.ayclogic.com
SUMMARY:5 PM Scratch Level 2 - Alexander Lee
DESCRIPTION:Today We Did\n\nWe finished up the Jumpy Monkey project\, adding in the dinosaur and the levels banner.\nStarted the Doom on the Broom project\, adding in the witch.\n\nFor Homework\n\nMake the witch able to spin around left or right.\nThe witch should be able to shoot fireballs from her broom\, use the fireball from ayclogic’s project resources.
URL:https://www.ayclogic.com/event/5-pm-scratch-level-2-alexander-lee-8/
CATEGORIES:Scratch Class,Scratch Class Level 2
END:VEVENT
BEGIN:VEVENT
DTSTART;TZID=America/Los_Angeles:20220217T170000
DTEND;TZID=America/Los_Angeles:20220217T180000
DTSTAMP:20260424T030818
CREATED:20220218T020530Z
LAST-MODIFIED:20220218T020530Z
UID:11636-1645117200-1645120800@www.ayclogic.com
SUMMARY:5PM - Python Game Development - Latisha
DESCRIPTION:Today We Did:\n\nWorked on Birdie\n\nScaled Fireball\nAdded Fireball Cooldown\nWorked on Bird\n\n\n\nHomework:\n\nAdd a parameter “direction” to the Bird class. This will tell the update which direction the bird should be moving. If the direction is left\, then you should make the bird move left. If the direction is right\, you should make the bird move right.\n\nIf you have any questions\, please send an email to latisha@ayclogic.com
URL:https://www.ayclogic.com/event/5pm-python-game-development-latisha-5/
END:VEVENT
BEGIN:VEVENT
DTSTART;TZID=America/Los_Angeles:20220217T190000
DTEND;TZID=America/Los_Angeles:20220217T200000
DTSTAMP:20260424T030818
CREATED:20220218T042142Z
LAST-MODIFIED:20220218T042142Z
UID:11640-1645124400-1645128000@www.ayclogic.com
SUMMARY:7 PM - Intro To Java - Gamas
DESCRIPTION:Today We Do:\n\nWe continued with Email Application\nWe added Check Inbox feature.\n\nHomework\n\nContinue with Email Application.\nCreate a new method “initializeEmailAccounts()”\nInside this new method\, add 3 EmailAccount objects to accountMap. You can create any 3 EmailAccounts you like.\nThis is very similar to initializeTeachers() inside SchoolApplication. But in this case you are adding to a Map instead of List.\nAfter this\, call this new method from inside run() method. BUT make sure to call this new method before the while loop.
URL:https://www.ayclogic.com/event/7-pm-intro-to-java-gamas-8/
CATEGORIES:Introduction To Java,Java
END:VEVENT
BEGIN:VEVENT
DTSTART;TZID=America/Los_Angeles:20220217T190000
DTEND;TZID=America/Los_Angeles:20220217T200000
DTSTAMP:20260424T030818
CREATED:20220219T042026Z
LAST-MODIFIED:20220219T042026Z
UID:11646-1645124400-1645128000@www.ayclogic.com
SUMMARY:7 PM - Intro to Python - David
DESCRIPTION:Topics covered in class today:\n\nWe reviewed the homework that covered conditional statements\nWe learned about lists\, and how to access elements using the index\, how to get the length of a list (the amount of elements)\, using len()\, and briefly covered how to append to a list (insert at the end).\n\nHomework:\n\nRead through pages 38-41 in the textbook to learn further methods to access\, modify\, append\, remove elements in a list. Be sure to copy down the code examples they give you and run them in Thonny.\nPage 42: 3-4\, 3-5\, 3-6\n\nIf you have any questions or need help\, email me at david@ayclogic.com
URL:https://www.ayclogic.com/event/7-pm-intro-to-python-david-6/
END:VEVENT
END:VCALENDAR