BEGIN:VCALENDAR
VERSION:2.0
PRODID:-//American Young Coder - ECPv6.10.1.1//NONSGML v1.0//EN
CALSCALE:GREGORIAN
METHOD:PUBLISH
X-ORIGINAL-URL:https://www.ayclogic.com
X-WR-CALDESC:Events for American Young Coder
REFRESH-INTERVAL;VALUE=DURATION:PT1H
X-Robots-Tag:noindex
X-PUBLISHED-TTL:PT1H
BEGIN:VTIMEZONE
TZID:America/Los_Angeles
BEGIN:DAYLIGHT
TZOFFSETFROM:-0800
TZOFFSETTO:-0700
TZNAME:PDT
DTSTART:20220313T100000
END:DAYLIGHT
BEGIN:STANDARD
TZOFFSETFROM:-0700
TZOFFSETTO:-0800
TZNAME:PST
DTSTART:20221106T090000
END:STANDARD
END:VTIMEZONE
BEGIN:VEVENT
DTSTART;TZID=America/Los_Angeles:20220222T073000
DTEND;TZID=America/Los_Angeles:20220222T083000
DTSTAMP:20260424T043145
CREATED:20220222T162926Z
LAST-MODIFIED:20220222T162926Z
UID:11714-1645515000-1645518600@www.ayclogic.com
SUMMARY:7:30 AM - Intro To Python - Gamas
DESCRIPTION:Homework\n\nCreate a new file Feb22_IFELSEHomework2.py\nDo page 84 to 85: 5-3\, 5-4\, 5-5\,5-6. This is very similar to last week homework. Basically you have to do some IF ELSE or IF ELIF.
URL:https://www.ayclogic.com/event/730-am-intro-to-python-gamas-2/
CATEGORIES:Python Class,Python Level 1
END:VEVENT
BEGIN:VEVENT
DTSTART;TZID=America/Los_Angeles:20220222T180000
DTEND;TZID=America/Los_Angeles:20220222T190000
DTSTAMP:20260424T043145
CREATED:20220223T030534Z
LAST-MODIFIED:20220223T030546Z
UID:11716-1645552800-1645556400@www.ayclogic.com
SUMMARY:6 PM – Scratch Level 1 – Yitong
DESCRIPTION:What we did today:\n\nwent over glide\nmade the sharks sing\nlearned about turn clockwise and turn counter-clockwise blocks\n\nHomework:\n\nFinish up pg. 91
URL:https://www.ayclogic.com/event/6-pm-scratch-level-1-yitong-16/
CATEGORIES:Scratch Class,Scratch Class Level 1
END:VEVENT
BEGIN:VEVENT
DTSTART;TZID=America/Los_Angeles:20220222T180000
DTEND;TZID=America/Los_Angeles:20220222T190000
DTSTAMP:20260424T043145
CREATED:20220223T220907Z
LAST-MODIFIED:20220223T220907Z
UID:11722-1645552800-1645556400@www.ayclogic.com
SUMMARY:6 PM - Intro to Python - David
DESCRIPTION:Topics covered in class today:\n\nWe finished covering the shopping cart program\, and added something to keep track of the total spend and the items that were bought.\n\nHomework:\n\nIf you have not yet finished your turtle project\, it will be considered late and 10% will be deducted every week that it is not turned in.\nCreate a new program called “Mar1_RobuxShoppingCart”. This program will be similar to the shopping cart program that we made:\n\n\n\nWelcome to Robux Bank\, you have 300 robux in the beginning.\n\nWhat do you want to do: \n1. Buy hat 100 Robux\n2. Buy hair 150 Robux\n3. VIP Server 500 Robux\n4. Add more Robux\n5. Exit\nEnter your selection: 1\nYou purchased a Hat. You have 200 robux remaining.\n\nWhat do you want to do: \n1. Buy hat 100 Robux\n2. Buy hair 150 Robux\n3. VIP Server 500 Robux\n4. Add more Robux\n5. Exit\nEnter your selection: 2\nYou purchased a Hair. You have 50 robux remaining.\n\nWhat do you want to do: \n1. Buy hat 100 Robux\n2. Buy hair 150 Robux\n3. VIP Server 500 Robux\n4. Add more Robux\n5. Exit\nEnter your selection: 3\nYou only have 50 robux remaining. Therefore you cannot purchase VIP Server for 500 robux.\n\nWhat do you want to do: \n1. Buy hat 100 Robux\n2. Buy hair 150 Robux\n3. VIP Server 500 Robux\n4. Add more Robux\n5. Exit\nEnter your selection: 5\n\nYou have purchased the following items:\n1. Hat\n2. Hair\nYour remaining Robux balance is 50 Robux.\n\n\n\nPlease allow the user to keep track of the amount of money spent and the items purchased. You do not need to worry about option 4 yet\, we will cover this in the next class.\n\nIf you have any questions\, please email me at david@ayclogic.com
URL:https://www.ayclogic.com/event/6-pm-intro-to-python-david-21/
END:VEVENT
END:VCALENDAR