BEGIN:VCALENDAR
VERSION:2.0
PRODID:-//American Young Coder - ECPv6.10.1.1//NONSGML v1.0//EN
CALSCALE:GREGORIAN
METHOD:PUBLISH
X-ORIGINAL-URL:https://www.ayclogic.com
X-WR-CALDESC:Events for American Young Coder
REFRESH-INTERVAL;VALUE=DURATION:PT1H
X-Robots-Tag:noindex
X-PUBLISHED-TTL:PT1H
BEGIN:VTIMEZONE
TZID:America/Los_Angeles
BEGIN:DAYLIGHT
TZOFFSETFROM:-0800
TZOFFSETTO:-0700
TZNAME:PDT
DTSTART:20220313T100000
END:DAYLIGHT
BEGIN:STANDARD
TZOFFSETFROM:-0700
TZOFFSETTO:-0800
TZNAME:PST
DTSTART:20221106T090000
END:STANDARD
END:VTIMEZONE
BEGIN:VEVENT
DTSTART;TZID=America/Los_Angeles:20220303T163000
DTEND;TZID=America/Los_Angeles:20220303T173000
DTSTAMP:20260424T002209
CREATED:20220304T013351Z
LAST-MODIFIED:20220304T013500Z
UID:11838-1646325000-1646328600@www.ayclogic.com
SUMMARY:4:30 PM - Python OOP - Gamas
DESCRIPTION:Homework\n\nCreate Marc3_UserClassHomework.py\nDo exercises in page 162: 9-3 and page 167: 9-5\nDownload Pycharm community edition from https://www.jetbrains.com/pycharm/download/ Make sure to download the community edition and not Professional one.
URL:https://www.ayclogic.com/event/430-pm-python-oop-gamas-4/
CATEGORIES:OOP Python,Python Class
END:VEVENT
BEGIN:VEVENT
DTSTART;TZID=America/Los_Angeles:20220303T170000
DTEND;TZID=America/Los_Angeles:20220303T180000
DTSTAMP:20260424T002209
CREATED:20220304T015427Z
LAST-MODIFIED:20220304T015427Z
UID:11843-1646326800-1646330400@www.ayclogic.com
SUMMARY:5 PM Scratch Level 2 - Alexander Lee
DESCRIPTION:Today We Did\n\nWe added in the Witch losing a life\, where balls fly outwards when she loses a life.\nWe also added a griffin and a dragon to the game to make it more challenging.\n\nFor Homework\n\nCreate a GameOver banner for when you run out of lives and it should show up along with a song playing when you lose.
URL:https://www.ayclogic.com/event/5-pm-scratch-level-2-alexander-lee-10/
CATEGORIES:Scratch Class,Scratch Class Level 2
END:VEVENT
BEGIN:VEVENT
DTSTART;TZID=America/Los_Angeles:20220303T170000
DTEND;TZID=America/Los_Angeles:20220303T180000
DTSTAMP:20260424T002209
CREATED:20220308T004837Z
LAST-MODIFIED:20220308T004837Z
UID:11905-1646326800-1646330400@www.ayclogic.com
SUMMARY:5PM - Python Game Development - Latisha
DESCRIPTION:Today We Did:\n\nWorked on Birdie\n\nAdded hitbox to the player\, bird\, and fireball\nAdded collision detection\n\n\n\nHomework:\n\nIf the player collides with a bird\, print to the shell “You lose”\n\nIf you have any questions\, please send an email to latisha@ayclogic.com
URL:https://www.ayclogic.com/event/5pm-python-game-development-latisha-7/
END:VEVENT
BEGIN:VEVENT
DTSTART;TZID=America/Los_Angeles:20220303T180000
DTEND;TZID=America/Los_Angeles:20220303T190000
DTSTAMP:20260424T002209
CREATED:20220304T041340Z
LAST-MODIFIED:20220304T041340Z
UID:11847-1646330400-1646334000@www.ayclogic.com
SUMMARY:6 PM - Intro To Java - Gamas
DESCRIPTION:Today We Do\n\nWe finish EmailApplication\n\nHomework\n\nNext week is Java Quiz. It will be 1 hour and 15 mins time. It is open book and you need to use IntelliJ to do your quiz.\nStudy SchoolApplication and the EmailApplication.\nStudy how to use list and Map\nStudy how to iterate list and Map.\nHow to read input from shell.\nIf else statements.\nCoding is like Math\, the more you practice\, the better you will be. How do you practice in coding? You redo some of the homeworks and exercises and program that you did before without looking.\nHow to study for the quiz\, after reviewing SchoolApplication and EmailApplication\, try to redo these 2 applications from scratch. Slowly redo the program without looking at the solution. If you are stuck\, you can of course look at the solution.
URL:https://www.ayclogic.com/event/6-pm-intro-to-java-gamas-2/
CATEGORIES:Introduction To Java,Java
END:VEVENT
BEGIN:VEVENT
DTSTART;TZID=America/Los_Angeles:20220303T190000
DTEND;TZID=America/Los_Angeles:20220303T200000
DTSTAMP:20260424T002209
CREATED:20220304T040821Z
LAST-MODIFIED:20220304T040821Z
UID:11845-1646334000-1646337600@www.ayclogic.com
SUMMARY:7 PM - Intro To Python - David
DESCRIPTION:Today We Do\n\nWe reviewed For Loop List homework.\nWe started For Loop Range.\n\nHomework\n\nUse for loop  in range to print number from 0 to 20\, inside the for loop\, check if number is less or equal to 5\, print “<number> is a small number”\nif number is between 6 to 15\, print “<number> is a medium number”\nif number is between 16 to 20\, print “<number> is a big number”\n\n0 is a small number\n1 is a small number\n2 is a small number\n3 is a small number\n4 is a small number\n5 is a small number\n6 is a medium number\n7 is a medium number\n8 is a medium number\n.\n.\n.\n15 is a medium number\n16 is a big number\n17 is a big number\n.\n.\n.\n20 is a big number
URL:https://www.ayclogic.com/event/7-pm-intro-to-python-david-8/
CATEGORIES:Python Class,Python Level 1
END:VEVENT
END:VCALENDAR