BEGIN:VCALENDAR
VERSION:2.0
PRODID:-//American Young Coder - ECPv6.10.1.1//NONSGML v1.0//EN
CALSCALE:GREGORIAN
METHOD:PUBLISH
X-ORIGINAL-URL:https://www.ayclogic.com
X-WR-CALDESC:Events for American Young Coder
REFRESH-INTERVAL;VALUE=DURATION:PT1H
X-Robots-Tag:noindex
X-PUBLISHED-TTL:PT1H
BEGIN:VTIMEZONE
TZID:America/Los_Angeles
BEGIN:DAYLIGHT
TZOFFSETFROM:-0800
TZOFFSETTO:-0700
TZNAME:PDT
DTSTART:20220313T100000
END:DAYLIGHT
BEGIN:STANDARD
TZOFFSETFROM:-0700
TZOFFSETTO:-0800
TZNAME:PST
DTSTART:20221106T090000
END:STANDARD
END:VTIMEZONE
BEGIN:VEVENT
DTSTART;TZID=America/Los_Angeles:20220314T170000
DTEND;TZID=America/Los_Angeles:20220314T180000
DTSTAMP:20260424T030844
CREATED:20220315T021132Z
LAST-MODIFIED:20230117T031146Z
UID:12027-1647277200-1647280800@www.ayclogic.com
SUMMARY:5pm Scratch Level 2 - Bill
DESCRIPTION:Today We:\n\nContinued the Fireball Fighting project\nMade the backdrop start as the normal backdrop\nMade the players reset their position\nAdded background music\nAdded Sound effects\nFinished the Fireball Fighting project\nStarted How Old Are You? project\nLearned how to get input from user\nLearned about the answer variable\n\nYour HW:\n\nDo the Movie Ticket Price project\nCreate a new project called Movie Ticket Price\nAdd the sprite called D Money Dance. Change the sprite name to something else that is easier to pronoun like “Anthony”\nMake Anthony ask the user what their name is\n\nAfter that make Anthony say “Hello {user’s input}”\n\n\nMake Anthony ask the user what movie they are watching\n\nAfter that make Anthony say “{user’s input} is a great Movie !”\n\n\nMake Anthony ask the User their age\n\nIf the User’s Age Input is less than 3 or their age is bigger than 59\, Make the price of the ticket be free\nIf the User’s Age Input is bigger than 2 and their age is less than 11\, Make the price of the ticket be $5\nIf the User’s Age Input is bigger than 10 and their age is less than 60\, Make the price of the ticket be $10\nFor all of those scenarios Anthony should say “Your ticket price is {price depending on age}”\n\n\n\nYouTube Video of Project Working: \nhttps://www.youtube.com/watch?v=WywEn-BD3xY \n 
URL:https://www.ayclogic.com/event/5pm-scratch-level-2-bill-20/
END:VEVENT
BEGIN:VEVENT
DTSTART;TZID=America/Los_Angeles:20220314T170000
DTEND;TZID=America/Los_Angeles:20220314T180000
DTSTAMP:20260424T030844
CREATED:20220321T211323Z
LAST-MODIFIED:20220321T211323Z
UID:12120-1647277200-1647280800@www.ayclogic.com
SUMMARY:5PM - Advanced Digital Illustration
DESCRIPTION:MONDAY \nToday we continued to work on the Eevee project. We added lines\, flat colors\, and started on the shading and details. \n \n  \n HOEMWORK \nContinue the final project! \nRight now you should have the sketch of the clothes and hair/face finished by class time. (It is always okay to go ahead if you want to) \nHere is a list of the Final Project plan\, and an example of how far you need to be by class time.
URL:https://www.ayclogic.com/event/5pm-advanced-digital-illustration-48/
CATEGORIES:Digital Illustration,Intermediate Digital Illustration
END:VEVENT
BEGIN:VEVENT
DTSTART;TZID=America/Los_Angeles:20220314T180000
DTEND;TZID=America/Los_Angeles:20220314T190000
DTSTAMP:20260424T030844
CREATED:20220315T015417Z
LAST-MODIFIED:20220315T015417Z
UID:12024-1647280800-1647284400@www.ayclogic.com
SUMMARY:6 PM – Coding Olympic Training
DESCRIPTION:Homework: \nhttp://www.usaco.org/index.php?page=viewproblem2&cpid=759 \nMake sure you do understand the fence painting problem first.
URL:https://www.ayclogic.com/event/6-pm-coding-olympic-training-15/
END:VEVENT
END:VCALENDAR