BEGIN:VCALENDAR
VERSION:2.0
PRODID:-//American Young Coder - ECPv6.10.1.1//NONSGML v1.0//EN
CALSCALE:GREGORIAN
METHOD:PUBLISH
X-ORIGINAL-URL:https://www.ayclogic.com
X-WR-CALDESC:Events for American Young Coder
REFRESH-INTERVAL;VALUE=DURATION:PT1H
X-Robots-Tag:noindex
X-PUBLISHED-TTL:PT1H
BEGIN:VTIMEZONE
TZID:America/Los_Angeles
BEGIN:DAYLIGHT
TZOFFSETFROM:-0800
TZOFFSETTO:-0700
TZNAME:PDT
DTSTART:20220313T100000
END:DAYLIGHT
BEGIN:STANDARD
TZOFFSETFROM:-0700
TZOFFSETTO:-0800
TZNAME:PST
DTSTART:20221106T090000
END:STANDARD
END:VTIMEZONE
BEGIN:VEVENT
DTSTART;TZID=America/Los_Angeles:20220318T173000
DTEND;TZID=America/Los_Angeles:20220318T183000
DTSTAMP:20260424T030840
CREATED:20220319T012430Z
LAST-MODIFIED:20220319T012430Z
UID:12077-1647624600-1647628200@www.ayclogic.com
SUMMARY:5:30 PM - Scratch Level 2 - Alexander Lee
DESCRIPTION:Homework\n\nDo pages from 95-97 inside the Scratch book.\nIt should create the variables for the Bananas\, and every time you collect a banana the number of bananas should go down by 1.\nAlso\, a tree should be added to make the game more difficult for the monkey.
URL:https://www.ayclogic.com/event/530-pm-scratch-level-2-alexander-lee-5/
CATEGORIES:Scratch Class,Scratch Class Level 2
END:VEVENT
BEGIN:VEVENT
DTSTART;TZID=America/Los_Angeles:20220318T190000
DTEND;TZID=America/Los_Angeles:20220318T200000
DTSTAMP:20260424T030840
CREATED:20220321T074913Z
LAST-MODIFIED:20220321T074913Z
UID:12115-1647630000-1647633600@www.ayclogic.com
SUMMARY:7PM - Python Game Development - Latisha
DESCRIPTION:Today We Did:\n\nWorked on Birdie\n\nMade Cloud and create_cloud\nMade Player\n\n\n\nHomework:\n\nmake Fireball class in fireball.py. Create the fireball_group in main.py and add a fireball and blit it to the screen\n\nIf you have any questions\, please send an email to latisha@ayclogic.com
URL:https://www.ayclogic.com/event/7pm-python-game-development-latisha-2/
END:VEVENT
END:VCALENDAR