BEGIN:VCALENDAR
VERSION:2.0
PRODID:-//American Young Coder - ECPv6.10.1.1//NONSGML v1.0//EN
CALSCALE:GREGORIAN
METHOD:PUBLISH
X-ORIGINAL-URL:https://www.ayclogic.com
X-WR-CALDESC:Events for American Young Coder
REFRESH-INTERVAL;VALUE=DURATION:PT1H
X-Robots-Tag:noindex
X-PUBLISHED-TTL:PT1H
BEGIN:VTIMEZONE
TZID:America/Los_Angeles
BEGIN:DAYLIGHT
TZOFFSETFROM:-0800
TZOFFSETTO:-0700
TZNAME:PDT
DTSTART:20220313T100000
END:DAYLIGHT
BEGIN:STANDARD
TZOFFSETFROM:-0700
TZOFFSETTO:-0800
TZNAME:PST
DTSTART:20221106T090000
END:STANDARD
END:VTIMEZONE
BEGIN:VEVENT
DTSTART;TZID=America/Los_Angeles:20220320T040000
DTEND;TZID=America/Los_Angeles:20220320T170000
DTSTAMP:20260424T030846
CREATED:20220321T001757Z
LAST-MODIFIED:20220321T001757Z
UID:12108-1647748800-1647795600@www.ayclogic.com
SUMMARY:4:30 PM – Yitong - Scratch Level 1
DESCRIPTION:Today we:\n\nAdded code for touching the Home Button sprite\nAdded GuitarChords2 when the game is done\nMade a Banner sprite and set its location\nAdded broadcast and receive to make the Banner sprite show up\nAdded variable Time and kept track of the best time using variable Best Time\n\nHomework:\n\nDo page 125\, Step #3: Instead of playing the sound “Drive Around” play “Cave”\nDo page 132\, Step #22: Make the Banner sprite change colors\n\nContact us if you have any questions or need any help
URL:https://www.ayclogic.com/event/430-pm-yitong-scratch-level-1/
CATEGORIES:Scratch Class,Scratch Class Level 1
END:VEVENT
END:VCALENDAR