BEGIN:VCALENDAR
VERSION:2.0
PRODID:-//American Young Coder - ECPv6.10.1.1//NONSGML v1.0//EN
CALSCALE:GREGORIAN
METHOD:PUBLISH
X-ORIGINAL-URL:https://www.ayclogic.com
X-WR-CALDESC:Events for American Young Coder
REFRESH-INTERVAL;VALUE=DURATION:PT1H
X-Robots-Tag:noindex
X-PUBLISHED-TTL:PT1H
BEGIN:VTIMEZONE
TZID:America/Los_Angeles
BEGIN:DAYLIGHT
TZOFFSETFROM:-0800
TZOFFSETTO:-0700
TZNAME:PDT
DTSTART:20220313T100000
END:DAYLIGHT
BEGIN:STANDARD
TZOFFSETFROM:-0700
TZOFFSETTO:-0800
TZNAME:PST
DTSTART:20221106T090000
END:STANDARD
END:VTIMEZONE
BEGIN:VEVENT
DTSTART;TZID=America/Los_Angeles:20220321T170000
DTEND;TZID=America/Los_Angeles:20220321T180000
DTSTAMP:20260424T014549
CREATED:20220322T012956Z
LAST-MODIFIED:20220322T012956Z
UID:12134-1647882000-1647885600@www.ayclogic.com
SUMMARY:5PM - Advanced Digital Illustration
DESCRIPTION:MONDAY \nToday we continued on the Eevee project – we made more progress in shading and lighting details\, and added a flower detail to the ear. \nHOMEWORK \nContinue the final project. Below is your specific character instructions for your final project.
URL:https://www.ayclogic.com/event/5pm-advanced-digital-illustration-49/
CATEGORIES:Digital Illustration,Intermediate Digital Illustration
END:VEVENT
BEGIN:VEVENT
DTSTART;TZID=America/Los_Angeles:20220321T170000
DTEND;TZID=America/Los_Angeles:20220321T180000
DTSTAMP:20260424T014549
CREATED:20220322T020809Z
LAST-MODIFIED:20220322T020809Z
UID:12138-1647882000-1647885600@www.ayclogic.com
SUMMARY:5pm Scratch Level 2 - Bill
DESCRIPTION:Today We:\n\nWent over the Movie Ticket homework\nLooked at old projects to study\nWent over the test format\nGathered all the emails and made sure the students could share their projects\n\nYour HW:\n\nStudy for the final exam next week (March 28)\nDo the practice test I sent you\n\nIf you did not get it in your email\, email me at billhan@ayclogic.com\n\n\nMake sure you know:\n\nBroadcast Messages\nCoordinate Grid System\nWhen and How to use Variables\n\n\nProjects to study:\n\nRocket Ship 2.0\nFireball Fighting Game\nJumpy Monkey (Don’t study the gravity part)\nSuper Market System\nMove Ticket System
URL:https://www.ayclogic.com/event/5pm-scratch-level-2-bill-21/
END:VEVENT
BEGIN:VEVENT
DTSTART;TZID=America/Los_Angeles:20220321T180000
DTEND;TZID=America/Los_Angeles:20220321T190000
DTSTAMP:20260424T014549
CREATED:20220322T020154Z
LAST-MODIFIED:20220322T020154Z
UID:12139-1647885600-1647889200@www.ayclogic.com
SUMMARY:6 PM – Coding Olympic Training
DESCRIPTION:Homework \nImplement merge sort we discussed in class. \nSteps: \nImplement mergeSort(array) \nDefine a new array and call your mergeSort to verify \nFor example: \narr = [12\, 11\, 13\, 5\, 6\, 7]\nmergeSort(arr)\nprint(arr)
URL:https://www.ayclogic.com/event/6-pm-coding-olympic-training-17/
END:VEVENT
END:VCALENDAR