BEGIN:VCALENDAR
VERSION:2.0
PRODID:-//American Young Coder - ECPv6.10.1.1//NONSGML v1.0//EN
CALSCALE:GREGORIAN
METHOD:PUBLISH
X-WR-CALNAME:American Young Coder
X-ORIGINAL-URL:https://www.ayclogic.com
X-WR-CALDESC:Events for American Young Coder
REFRESH-INTERVAL;VALUE=DURATION:PT1H
X-Robots-Tag:noindex
X-PUBLISHED-TTL:PT1H
BEGIN:VTIMEZONE
TZID:America/Los_Angeles
BEGIN:DAYLIGHT
TZOFFSETFROM:-0800
TZOFFSETTO:-0700
TZNAME:PDT
DTSTART:20220313T100000
END:DAYLIGHT
BEGIN:STANDARD
TZOFFSETFROM:-0700
TZOFFSETTO:-0800
TZNAME:PST
DTSTART:20221106T090000
END:STANDARD
END:VTIMEZONE
BEGIN:VEVENT
DTSTART;TZID=America/Los_Angeles:20220325T173000
DTEND;TZID=America/Los_Angeles:20220325T183000
DTSTAMP:20260424T014325
CREATED:20220326T012406Z
LAST-MODIFIED:20220326T012406Z
UID:12191-1648229400-1648233000@www.ayclogic.com
SUMMARY:5:30 PM - Scratch Level 2 - Alexander Lee
DESCRIPTION:Today We Did\n\nWe continued the Jumpy Monkey project\nAdded in the Banana code\, and also added in the Banner\n\nFor Homework\n\nCreate a new level for the Jumpy Monkey project\nWhen you collect the first 3 bananas\, instead of game over\, broadcast Level 2 and create 4 more bananas.\nOnce you collect the next 4 bananas\, then the game is over.\nAlso\, change the background to Jungle after you collect the first 3 bananas.
URL:https://www.ayclogic.com/event/530-pm-scratch-level-2-alexander-lee-6/
CATEGORIES:Scratch Class,Scratch Class Level 2
END:VEVENT
END:VCALENDAR