BEGIN:VCALENDAR
VERSION:2.0
PRODID:-//American Young Coder - ECPv6.10.1.1//NONSGML v1.0//EN
CALSCALE:GREGORIAN
METHOD:PUBLISH
X-WR-CALNAME:American Young Coder
X-ORIGINAL-URL:https://www.ayclogic.com
X-WR-CALDESC:Events for American Young Coder
REFRESH-INTERVAL;VALUE=DURATION:PT1H
X-Robots-Tag:noindex
X-PUBLISHED-TTL:PT1H
BEGIN:VTIMEZONE
TZID:America/Los_Angeles
BEGIN:DAYLIGHT
TZOFFSETFROM:-0800
TZOFFSETTO:-0700
TZNAME:PDT
DTSTART:20220313T100000
END:DAYLIGHT
BEGIN:STANDARD
TZOFFSETFROM:-0700
TZOFFSETTO:-0800
TZNAME:PST
DTSTART:20221106T090000
END:STANDARD
END:VTIMEZONE
BEGIN:VEVENT
DTSTART;TZID=America/Los_Angeles:20220331T170000
DTEND;TZID=America/Los_Angeles:20220331T180000
DTSTAMP:20260424T014400
CREATED:20220401T033427Z
LAST-MODIFIED:20220401T033427Z
UID:12274-1648746000-1648749600@www.ayclogic.com
SUMMARY:5 PM Scratch Level 2 Alexander Lee
DESCRIPTION:Today We Did:\n\nWe reviewed the practice test that was sent out the previous week\nReviewed the difference between “and” and “or”\n\nFor Homework\n\nFind two characters for the fireball fighting project we will do next week.\nAlso\, find two projectiles for the characters to shoot and a background to go along with them.
URL:https://www.ayclogic.com/event/5-pm-scratch-level-2-alexander-lee-13/
CATEGORIES:Scratch Class,Scratch Class Level 2
END:VEVENT
BEGIN:VEVENT
DTSTART;TZID=America/Los_Angeles:20220331T170000
DTEND;TZID=America/Los_Angeles:20220331T180000
DTSTAMP:20260424T014400
CREATED:20220405T012418Z
LAST-MODIFIED:20220405T012418Z
UID:12338-1648746000-1648749600@www.ayclogic.com
SUMMARY:5PM - Python Game Development - Latisha
DESCRIPTION:Today We Did:\n\nFinished Birdie\nStarted Flappy Bird\n\nHomework:\n\nNone\n\nIf you have any questions\, please send an email to latisha@ayclogic.com
URL:https://www.ayclogic.com/event/5pm-python-game-development-latisha-11/
END:VEVENT
BEGIN:VEVENT
DTSTART;TZID=America/Los_Angeles:20220331T190000
DTEND;TZID=America/Los_Angeles:20220331T200000
DTSTAMP:20260424T014400
CREATED:20220401T022909Z
LAST-MODIFIED:20220401T030739Z
UID:12278-1648753200-1648756800@www.ayclogic.com
SUMMARY:7 PM - Intro To Java - Gamas
DESCRIPTION:Today We Do\n\nWe finished PetSystem\nWe started MonsterInheritance project.\n\nHomework\n\nContinue on MonsterInheritance project. Do the following\nIn the beginning\, initialize monsterMap with 3 monsters\, look at the example below\n\nPlease select from one of the following\n1. Add new monster\n2. List all monsters\n3. Play the game\nEnter your selection (enter "exit" to quit):2\n\nLIST ALL MONSTERS\n- troll - health 50\n- dragon - health 100\n- water golem - health 30\n\nPlease select from one of the following\n1. Add new monster\n2. List all monsters\n3. Play the game\nEnter your selection (enter "exit" to quit):1\n\nADD NEW MONSTER\nEnter monster species: Cyclops\nEnter monster health: 50\nEnter monster max damage: 50\nYou have successfully added Cyclops\n\nPlease select from one of the following\n1. Add new monster\n2. List all monsters\n3. Play the game\nEnter your selection (enter "exit" to quit):3\n\nEnter player's name: Gamas\nEnter player's health: 100\n\nGamas has 100 health remaining.\nPlease select one of the following monsters:\n- troll - health 50\n- dragon - health 100\n- water golem - health 30\nEnter your selection (Enter 'stop' to end the game): aasfd\ninvalid selection\n\nGamas has 100 health remaining.\nPlease select one of the following monsters:\n- troll - health 50\n- dragon - health 100\n- water golem - health 30\nEnter your selection (Enter 'stop' to end the game): stop\n\nPlease select from one of the following\n1. Add new monster\n2. List all monsters\n3. Play the game\nEnter your selection (enter "exit" to quit):exit\nThank you for playing AYCLOGIC Monster Inheritance game
URL:https://www.ayclogic.com/event/7-pm-intro-to-java-gamas-12/
CATEGORIES:Introduction To Java,Java
END:VEVENT
BEGIN:VEVENT
DTSTART;TZID=America/Los_Angeles:20220331T190000
DTEND;TZID=America/Los_Angeles:20220331T200000
DTSTAMP:20260424T014400
CREATED:20220401T093136Z
LAST-MODIFIED:20220404T230744Z
UID:12285-1648753200-1648756800@www.ayclogic.com
SUMMARY:7 PM - Intro to Python - David
DESCRIPTION:Topics covered in class today:\n\nWe reviewed Quiz 1\, which you guys took last week.\nWe briefly went over functions: how to create functions\, call functions\, and pass in parameters to functions.\n\nIf you have any questions\, please email me at gamas@ayclogic.com \nHomework\n\nNo homework\n\n 
URL:https://www.ayclogic.com/event/7-pm-intro-to-python-david-10/
END:VEVENT
END:VCALENDAR