BEGIN:VCALENDAR
VERSION:2.0
PRODID:-//American Young Coder - ECPv6.10.1.1//NONSGML v1.0//EN
CALSCALE:GREGORIAN
METHOD:PUBLISH
X-WR-CALNAME:American Young Coder
X-ORIGINAL-URL:https://www.ayclogic.com
X-WR-CALDESC:Events for American Young Coder
REFRESH-INTERVAL;VALUE=DURATION:PT1H
X-Robots-Tag:noindex
X-PUBLISHED-TTL:PT1H
BEGIN:VTIMEZONE
TZID:America/Los_Angeles
BEGIN:DAYLIGHT
TZOFFSETFROM:-0800
TZOFFSETTO:-0700
TZNAME:PDT
DTSTART:20220313T100000
END:DAYLIGHT
BEGIN:STANDARD
TZOFFSETFROM:-0700
TZOFFSETTO:-0800
TZNAME:PST
DTSTART:20221106T090000
END:STANDARD
END:VTIMEZONE
BEGIN:VEVENT
DTSTART;TZID=America/Los_Angeles:20220407T170000
DTEND;TZID=America/Los_Angeles:20220407T180000
DTSTAMP:20260423T225750
CREATED:20220408T005516Z
LAST-MODIFIED:20220408T005516Z
UID:12382-1649350800-1649354400@www.ayclogic.com
SUMMARY:5 PM Scratch Level 2 - Alexander Lee
DESCRIPTION:Homework\n\nTry to figure out how to make the apple give the player a life when they touch it.\nThe apple should disappear when it is touched and another one should spawn after a set amount of time.
URL:https://www.ayclogic.com/event/5-pm-scratch-level-2-alexander-lee-14/
CATEGORIES:Scratch Class,Scratch Class Level 2
END:VEVENT
BEGIN:VEVENT
DTSTART;TZID=America/Los_Angeles:20220407T170000
DTEND;TZID=America/Los_Angeles:20220407T180000
DTSTAMP:20260423T225750
CREATED:20220412T232522Z
LAST-MODIFIED:20220414T071737Z
UID:12466-1649350800-1649354400@www.ayclogic.com
SUMMARY:5PM - Python Game Development - Latisha
DESCRIPTION:Today We Did:\n\nStarted Flappy Bird\n\nAdded Background\nCreated Tube Sprite\n\n\n\nHomework:\n\nMake the Player class in player.py and make it flap its wings using Green duck 1 and 2.\n\nIf you have any questions\, please send an email to latisha@ayclogic.com
URL:https://www.ayclogic.com/event/5pm-python-game-development-latisha-12/
END:VEVENT
BEGIN:VEVENT
DTSTART;TZID=America/Los_Angeles:20220407T190000
DTEND;TZID=America/Los_Angeles:20220407T200000
DTSTAMP:20260423T225750
CREATED:20220408T030504Z
LAST-MODIFIED:20220408T030504Z
UID:12386-1649358000-1649361600@www.ayclogic.com
SUMMARY:7 PM - Intro to Python - Parna
DESCRIPTION:Topics covered in class today:\n\nWe went over functions: how to create functions\, call functions\, and pass in parameters to functions.\nBriefly began introducing functions with return values\n\nIf you have any questions\, please email me at gamas@ayclogic.com \nHomework\n\nHomework: 130\, 131 (TRY IT YOURSELF)\, 132
URL:https://www.ayclogic.com/event/7-pm-intro-to-python-parna/
END:VEVENT
BEGIN:VEVENT
DTSTART;TZID=America/Los_Angeles:20220407T190000
DTEND;TZID=America/Los_Angeles:20220407T200000
DTSTAMP:20260423T225750
CREATED:20220408T032444Z
LAST-MODIFIED:20220408T032444Z
UID:12389-1649358000-1649361600@www.ayclogic.com
SUMMARY:7 PM - Intro To Java - Gamas
DESCRIPTION:Today We Do\n\nWe continued with Monster Inheritance application\nWe added Play Game menu\nWe added code to get Monster from the monsterMap.\n\nHomework\n\nAdd code to handle Melee Attack. In the Melee attack\, the player will attack the selected monster which will reduce the selected monster.health. Use monster.doDamage(int damage) method to reduce monster.health. This is very similar to BankAccount.withdrawal. And the monster will reduce playerHealth. The playerHealth will be reduce according randomly between 0 to monster.maxDamage.\nAlso add code to handle Magic Attack.\nLook at below\n\nPlease select from one of the following\n1. Add new monster\n2. List all monsters\n3. Play the game\nEnter your selection (enter "exit" to quit):3\n\nWhat is your name: Gamas\nHow much health you want: 100\n\nGamas has 100 health remaining.\nPlease select one of the following monsters:\n- Troll - 50 health\n- Dragon - 100 health\n- Water Golem - 30 health\nEnter your selection (Enter 'stop' to end the game): troll\n\nWhat do you want to do with the Troll:\n1. Magic attack\n2. Melee attack\n3. Arrow attack\n4. Heal\nEnter your selection:2\nHow much melee attack do you want to do to the Troll: 10\nYou attacked TROLL with 10 attack. The TROLL has 40 health remaining.\nTROLL attacked Gamas and did 4 damage\n\nGamas has 96 health remaining.\nPlease select one of the following monsters:\n- Troll - 40 health\n- Dragon - 100 health\n- Water Golem - 30 health\nEnter your selection (Enter 'stop' to end the game):dragon\n\nWhat do you want to do with the dragon:\n1. Magic attack\n2. Melee attack\n3. Arrow attack\n4. Heal\nEnter your selection:1\n\nWhat kind of magic attack you want to do to dragon:\n1. Fire magic - 10 damage\n2. Water magic - 10 damage\n3. Earth magic - 12 damage\n4. Wind magic - 8 damage\nEnter your selection:1\nYou attacked DRAGON with 10 attack. The DRAGON has 90 health remaining.\nDRAGON attacked Gamas and did 10 damage.\n\nGamas has 86 health remaining.\nPlease select one of the following monsters:\n- troll - health remaining: 10\n- dragon - health remaining: 90\n- water golem - health remaining: 30\nEnter your selection (Enter 'stop' to end the game):\n\n 
URL:https://www.ayclogic.com/event/7-pm-intro-to-java-gamas-13/
CATEGORIES:Introduction To Java,Java
END:VEVENT
END:VCALENDAR