BEGIN:VCALENDAR
VERSION:2.0
PRODID:-//American Young Coder - ECPv6.10.1.1//NONSGML v1.0//EN
CALSCALE:GREGORIAN
METHOD:PUBLISH
X-ORIGINAL-URL:https://www.ayclogic.com
X-WR-CALDESC:Events for American Young Coder
REFRESH-INTERVAL;VALUE=DURATION:PT1H
X-Robots-Tag:noindex
X-PUBLISHED-TTL:PT1H
BEGIN:VTIMEZONE
TZID:America/Los_Angeles
BEGIN:DAYLIGHT
TZOFFSETFROM:-0800
TZOFFSETTO:-0700
TZNAME:PDT
DTSTART:20220313T100000
END:DAYLIGHT
BEGIN:STANDARD
TZOFFSETFROM:-0700
TZOFFSETTO:-0800
TZNAME:PST
DTSTART:20221106T090000
END:STANDARD
END:VTIMEZONE
BEGIN:VEVENT
DTSTART;TZID=America/Los_Angeles:20220408T173000
DTEND;TZID=America/Los_Angeles:20220408T183000
DTSTAMP:20260423T225955
CREATED:20220409T012458Z
LAST-MODIFIED:20220409T012458Z
UID:12391-1649439000-1649442600@www.ayclogic.com
SUMMARY:5:30 PM Scratch Level 2 - Alexander Lee
DESCRIPTION:Today We Did:\n\n Finished up the Jumpy Monkey project by adding in the My Blocks\nAlso started the Doom on the Broom project\nAdded in the witch\, fireball\, and the bat\nReviewed the difference between move steps and change x/y\n\nFor Homework:\n\nAdd in the animation for the bat flying towards the witch. Hint: Use changing the costumes.\nAdd in a variable score that goes up whenever you hit the bat with a fireball.
URL:https://www.ayclogic.com/event/530-pm-scratch-level-2-alexander-lee-7/
CATEGORIES:Scratch Class,Scratch Class Level 2
END:VEVENT
BEGIN:VEVENT
DTSTART;TZID=America/Los_Angeles:20220408T180000
DTEND;TZID=America/Los_Angeles:20220408T190000
DTSTAMP:20260423T225955
CREATED:20220409T021504Z
LAST-MODIFIED:20220415T145537Z
UID:12393-1649440800-1649444400@www.ayclogic.com
SUMMARY:6 PM – Scratch Level 1 – Yitong
DESCRIPTION:NO CLASS NEXT WEEK\nToday we:\n\nMade Dinosaur2 change costumes when we press space\nAdded the Spotlight background\nMade the background change colors\nAdded music\nAdded a Ballerina and gave her a dance\n\nHomework:\n\nAdd another Ballerina sprite\nGive the Ballerina a different dance (make her switch costumes)\n\nIf you need help contact me: idyllicalyssum@gmail.com
URL:https://www.ayclogic.com/event/6-pm-scratch-level-1-yitong-24/
CATEGORIES:Scratch Class,Scratch Class Level 1
END:VEVENT
BEGIN:VEVENT
DTSTART;TZID=America/Los_Angeles:20220408T190000
DTEND;TZID=America/Los_Angeles:20220408T200000
DTSTAMP:20260423T225955
CREATED:20220414T072141Z
LAST-MODIFIED:20220414T072141Z
UID:12491-1649444400-1649448000@www.ayclogic.com
SUMMARY:7PM - Python Game Development - Latisha
DESCRIPTION:Today We Did:\n\nWorked on Birdie\n\nMade hitboxes for fireball and birds\nAdded collision detection for fireball and bird\nAdded score\n\n\n\nHomework:\n\nmake a hitbox for the player and show it in the game. If the player and bird collide\, make them both disappear\n\nNOTE: There is no class next week for the holiday! \nIf you have any questions\, please send an email to latisha@ayclogic.com
URL:https://www.ayclogic.com/event/7pm-python-game-development-latisha-3/
END:VEVENT
END:VCALENDAR