BEGIN:VCALENDAR
VERSION:2.0
PRODID:-//American Young Coder - ECPv6.10.1.1//NONSGML v1.0//EN
CALSCALE:GREGORIAN
METHOD:PUBLISH
X-ORIGINAL-URL:https://www.ayclogic.com
X-WR-CALDESC:Events for American Young Coder
REFRESH-INTERVAL;VALUE=DURATION:PT1H
X-Robots-Tag:noindex
X-PUBLISHED-TTL:PT1H
BEGIN:VTIMEZONE
TZID:America/Los_Angeles
BEGIN:DAYLIGHT
TZOFFSETFROM:-0800
TZOFFSETTO:-0700
TZNAME:PDT
DTSTART:20220313T100000
END:DAYLIGHT
BEGIN:STANDARD
TZOFFSETFROM:-0700
TZOFFSETTO:-0800
TZNAME:PST
DTSTART:20221106T090000
END:STANDARD
END:VTIMEZONE
BEGIN:VEVENT
DTSTART;TZID=America/Los_Angeles:20220409T090000
DTEND;TZID=America/Los_Angeles:20220409T100000
DTSTAMP:20260423T230008
CREATED:20220409T165853Z
LAST-MODIFIED:20220409T165853Z
UID:12404-1649494800-1649498400@www.ayclogic.com
SUMMARY:9 AM - Intro To Java - Gamas
DESCRIPTION:Today We Do\n\nWe continued with EmailApplication\nWe added login feature.\n\nHomework\n\nNext week is Easter weekend so there is no class see you in 2 weeks.\nAfter successful login\, continuously display the following menu\n\nPlease select from below\n1. Create an Email Account\n2. Login\n3. List all Email Accounts\n4. Exit\nEnter your selection:2\n\nEnter your login email and password\nemail: jessica@ayclogic.com\npassword: abcd\nJessica Sunjoyo\, please select from below:\n1. Check your inbox\n2. Create new email\n3. Logout\nEnter your selection: 2\n\nCREATE EMAIL from Jessica Sunjoyo\nSend To: gamas@ayclogic.com\nSubject: Don't forget next week is quiz\nContent: Study everything\nYou have successfully sent email to gamas@ayclogic.com\n\nJessica Sunjoyo\, please select from below:\n1. Check your inbox\n2. Create new email\n3. Logout\nEnter your selection: asdasd\ninvalid selection\n\nJessica Sunjoyo\, please select from below:\n1. Check your inbox\n2. Create new email\n3. Logout\nEnter your selection: 3\n\nPlease select from below\n1. Create an Email Account\n2. Login\n3. List all Email Accounts\n4. Exit\nEnter your selection:
URL:https://www.ayclogic.com/event/9-am-intro-to-java-gamas/
CATEGORIES:Introduction To Java,Java
END:VEVENT
BEGIN:VEVENT
DTSTART;TZID=America/Los_Angeles:20220409T100000
DTEND;TZID=America/Los_Angeles:20220409T110000
DTSTAMP:20260423T230008
CREATED:20220409T182549Z
LAST-MODIFIED:20220409T182549Z
UID:12406-1649498400-1649502000@www.ayclogic.com
SUMMARY:SAT - 10 AM - Scratch 2 - Gamas
DESCRIPTION:Today We Do\n\nWe continued with Doom On The Broom project.\nWe added the Bat and understand how to make sprites appear on the edge of the screen.\nWe added code to make the witch disappear and reappear after being killed by bat sprite.\n\nHomework\n\nContinue on “Doom On The Broom” project in page 117.\nNext week is Easter weekend so we have no class\, the class will resume on April 23.
URL:https://www.ayclogic.com/event/sat-10-am-scratch-2-gamas/
CATEGORIES:Scratch Class,Scratch Class Level 2
END:VEVENT
BEGIN:VEVENT
DTSTART;TZID=America/Los_Angeles:20220409T100000
DTEND;TZID=America/Los_Angeles:20220409T120000
DTSTAMP:20260423T230008
CREATED:20220409T191447Z
LAST-MODIFIED:20220409T191447Z
UID:12412-1649498400-1649505600@www.ayclogic.com
SUMMARY:10 AM - Intro To Java - Gamas
DESCRIPTION:2 hours Final Test
URL:https://www.ayclogic.com/event/10-am-intro-to-java-gamas-14/
CATEGORIES:Introduction To Java,Java
END:VEVENT
BEGIN:VEVENT
DTSTART;TZID=America/Los_Angeles:20220409T110000
DTEND;TZID=America/Los_Angeles:20220409T120000
DTSTAMP:20260423T230008
CREATED:20220409T192742Z
LAST-MODIFIED:20220409T192915Z
UID:12415-1649502000-1649505600@www.ayclogic.com
SUMMARY:11 AM - Scratch 1 - Abigail
DESCRIPTION:What we did today\n\nWe started working on MHALL (Mary had a Little Lamb) project\n\nHomework\n\nFinish coding the whole song onto the conductor. (If you’re having trouble with this I can help you next week.)
URL:https://www.ayclogic.com/event/11-am-scratch-1-abigail-18/
CATEGORIES:Scratch Class,Scratch Class Level 1
END:VEVENT
BEGIN:VEVENT
DTSTART;TZID=America/Los_Angeles:20220409T130000
DTEND;TZID=America/Los_Angeles:20220409T140000
DTSTAMP:20260423T230008
CREATED:20220409T211533Z
LAST-MODIFIED:20220411T181234Z
UID:12423-1649509200-1649512800@www.ayclogic.com
SUMMARY:1 PM - Python Game Development
DESCRIPTION:Today: \n\nWe finished adding the explosion that gets animated after the player to enemy tank are destroyed\, before transitioning to the game over or game won pages.\nWe refactored the code to avoid code duplication in the tank update method.\nWe added sound effects when a tank is destroyed.\nWe cloned the tower of defense game.\n\n  \nHomework: \n\nCreate a new sprite called Enemy.py that has parameters x\, y \, size\, and screen.  Use one of the monster-character images walking.
URL:https://www.ayclogic.com/event/1-pm-python-game-development-56/
END:VEVENT
BEGIN:VEVENT
DTSTART;TZID=America/Los_Angeles:20220409T130000
DTEND;TZID=America/Los_Angeles:20220409T140000
DTSTAMP:20260423T230008
CREATED:20220409T223337Z
LAST-MODIFIED:20220409T223337Z
UID:12425-1649509200-1649512800@www.ayclogic.com
SUMMARY:1 PM Intro To Java - Alexander Lee
DESCRIPTION:Today We Did:\n\nWe reviewed last week’s homework on the While Loop\nTalked about Random\, and how to use asList\n\nFor Homework: \n\nCreate a new Java class titled April16_Magic8Ball.java\nFor the homework go to: https://www.ayclogic.com/intro-to-python/magic-8-ball/ 
URL:https://www.ayclogic.com/event/1-pm-intro-to-java-alexander-lee-4/
CATEGORIES:Introduction To Java,Java
END:VEVENT
BEGIN:VEVENT
DTSTART;TZID=America/Los_Angeles:20220409T150000
DTEND;TZID=America/Los_Angeles:20220409T160000
DTSTAMP:20260423T230008
CREATED:20220412T061311Z
LAST-MODIFIED:20220412T062952Z
UID:12453-1649516400-1649520000@www.ayclogic.com
SUMMARY:3 PM - Scratch Level 2 - Allison
DESCRIPTION:Today we:\n\nContinued the Jumpy Monkey project\nAdded a background\nAdded Level 2\, where there are more bananas and a dinosaur flying on the screen\nCreated a banner to show when the player finishes the game\nDisplayed how many launches the player used to finish the game\n\nImportant Information:\n\nThere are new homework rules. After you finish your homework in Scratch\, you have to send an email the night before the day of the class.\nSince our class is on Saturday\, send an email to allison@ayclogic.com by Friday 8 PM. In that email\, write down your name and a link to your shared Scratch project homework. Make sure to share your Scratch project.\nTo celebrate Easter\, there will be no classes from Friday 4/15 to Sunday 4/17. Our next class will be on Saturday 4/23\, so please send your email by Friday 4/22 8 PM.\n\nHomework:\n\nNatalie: Please click on this link to see the Jumpy Monkey project from class. Please see the Game Finished Banner sprite and see if there are any codes you have to add/change.\nAnyone who is missing any codes or has any errors with their Jumpy Monkey project: Please click on this link to check your codes with these codes.\nKevin: Please click on this link to see the Cheese Chase project from class. Please remix this project so you can refer to it if you ever need to.\nEveryone: Code the Monkey sprite to start the sound “boing” when the player presses the space key.\nEveryone: Code the Banana clone to start the sound “chomp” when the banana clone touches the Monkey sprite.\nContact us at gamas@ayclogic.com or allison@ayclogic.com if you have any questions or need any help.
URL:https://www.ayclogic.com/event/3-pm-scratch-level-2-allison-16/
CATEGORIES:Scratch Class,Scratch Class Level 2
END:VEVENT
BEGIN:VEVENT
DTSTART;TZID=America/Los_Angeles:20220409T160000
DTEND;TZID=America/Los_Angeles:20220409T170000
DTSTAMP:20260423T230008
CREATED:20220415T035227Z
LAST-MODIFIED:20220415T035509Z
UID:12514-1649520000-1649523600@www.ayclogic.com
SUMMARY:4PM - Object Oriented Python - Latisha
DESCRIPTION:Today We Did:\n\nContinued working on Adventure Game\n\nHomework:\n\ndo TRY-IT-YOURSELF 9-6 and 9-7 on pg. 173 in a file called Apr9_InheritancePractice.py\n\nNOTE: There is no class next week as AYCLogic is closed for the holiday! \nIf you have any questions\, please send an email to latisha@ayclogic.com
URL:https://www.ayclogic.com/event/4pm-object-oriented-python-latisha-8/
END:VEVENT
BEGIN:VEVENT
DTSTART;TZID=America/Los_Angeles:20220409T170000
DTEND;TZID=America/Los_Angeles:20220409T180000
DTSTAMP:20260423T230008
CREATED:20220415T035941Z
LAST-MODIFIED:20220415T035941Z
UID:12521-1649523600-1649527200@www.ayclogic.com
SUMMARY:5PM - Object Oriented Python - Latisha
DESCRIPTION:Topics covered in class today:\n\nWorked on Supermarket Application\n\nHomework\n\nNone\n\nNOTE: There is no class next week for the holiday! \nIf you need any help or have any questions\, please contact me at latisha@ayclogic.com
URL:https://www.ayclogic.com/event/5pm-object-oriented-python-latisha/
END:VEVENT
BEGIN:VEVENT
DTSTART;TZID=America/Los_Angeles:20220409T180000
DTEND;TZID=America/Los_Angeles:20220409T190000
DTSTAMP:20260423T230008
CREATED:20220410T055226Z
LAST-MODIFIED:20220415T001356Z
UID:12429-1649527200-1649530800@www.ayclogic.com
SUMMARY:6 PM – Intro to Python - Bill
DESCRIPTION:Today We:\n\nLearned about more Turtle functions\nLearned about Turtle direction\nMade a function that creates a rectangle with specified x\, y\, width\, height and color\nBegan working on the robot builder project\n\nYour HW:\n\nDo the rest of the robot in robot builder EXCEPT for the arms\nNo Class Next week on the 16th\, Easter weekend
URL:https://www.ayclogic.com/event/6-pm-intro-to-python-bill/
END:VEVENT
END:VCALENDAR