BEGIN:VCALENDAR
VERSION:2.0
PRODID:-//American Young Coder - ECPv6.10.1.1//NONSGML v1.0//EN
CALSCALE:GREGORIAN
METHOD:PUBLISH
X-WR-CALNAME:American Young Coder
X-ORIGINAL-URL:https://www.ayclogic.com
X-WR-CALDESC:Events for American Young Coder
REFRESH-INTERVAL;VALUE=DURATION:PT1H
X-Robots-Tag:noindex
X-PUBLISHED-TTL:PT1H
BEGIN:VTIMEZONE
TZID:America/Los_Angeles
BEGIN:DAYLIGHT
TZOFFSETFROM:-0800
TZOFFSETTO:-0700
TZNAME:PDT
DTSTART:20220313T100000
END:DAYLIGHT
BEGIN:STANDARD
TZOFFSETFROM:-0700
TZOFFSETTO:-0800
TZNAME:PST
DTSTART:20221106T090000
END:STANDARD
END:VTIMEZONE
BEGIN:VEVENT
DTSTART;TZID=America/Los_Angeles:20220411T160000
DTEND;TZID=America/Los_Angeles:20220411T170000
DTSTAMP:20260423T225822
CREATED:20220412T012707Z
LAST-MODIFIED:20220412T012707Z
UID:12449-1649692800-1649696400@www.ayclogic.com
SUMMARY:4 PM - Intro To Python - Gamas
DESCRIPTION:Today We Do\n\nWe reviewed homework: String combination\, if else statements\, input from shell\, for loop List.\nWe went over while loop.\n\nHomework\n\nCreate Apr11_WhileLoopHomework.py\nDo codes TRY IT YOURSELF page 123: 7-4 and 7-5\nCreate Apr11_FunctionHomework.py\nCopy code from page 130.\nDo codes TRY IT YOURSELF page 131: 8-1 and 8-2
URL:https://www.ayclogic.com/event/4-pm-intro-to-python-gamas-3/
CATEGORIES:Python Class,Python Level 1
END:VEVENT
BEGIN:VEVENT
DTSTART;TZID=America/Los_Angeles:20220411T170000
DTEND;TZID=America/Los_Angeles:20220411T180000
DTSTAMP:20260423T225822
CREATED:20220412T011455Z
LAST-MODIFIED:20220412T011455Z
UID:12447-1649696400-1649700000@www.ayclogic.com
SUMMARY:5PM - Intro To Python - Bill
DESCRIPTION:Today We:\n\nLearned about Variables and Data types\n\nString\nInteger\nFloat / Double\nBoolean\n\n\nLearned how to create new variables\nLearned how to print things out into the shell\nLearned how to update variables\n\nYour HW:\n\nCreate a new Python file in your Thonny: Apr5_StringHomework.py.\nCopy all the python codes only from page 20 to 23. Copy one section of the code at a time and run it and see if you understand the result.\nIf you don’t have the book you can find a pdf version here: (Link)
URL:https://www.ayclogic.com/event/5pm-intro-to-python-bill-21/
END:VEVENT
BEGIN:VEVENT
DTSTART;TZID=America/Los_Angeles:20220411T170000
DTEND;TZID=America/Los_Angeles:20220411T180000
DTSTAMP:20260423T225822
CREATED:20220418T040723Z
LAST-MODIFIED:20220418T040723Z
UID:12536-1649696400-1649700000@www.ayclogic.com
SUMMARY:5PM - Advanced Digital Illustration
DESCRIPTION:MONDAY \nToday was the last class! We continued the Girl in the Stars drawing\, adding in the lines\, and coloring the background. We didn’t finish\, but that’s ok. Here is our progress and the also a sample of the finished picture\, if you would like to finish the project on your own time. \n  \nFINAL HOMEWORK \nPlease fill out this form to turn in all your project from the class. \nFinish the Girl in the Stars
URL:https://www.ayclogic.com/event/5pm-advanced-digital-illustration-54/
CATEGORIES:Digital Illustration,Intermediate Digital Illustration
END:VEVENT
BEGIN:VEVENT
DTSTART;TZID=America/Los_Angeles:20220411T180000
DTEND;TZID=America/Los_Angeles:20220411T190000
DTSTAMP:20260423T225822
CREATED:20220418T034823Z
LAST-MODIFIED:20220418T034823Z
UID:12533-1649700000-1649703600@www.ayclogic.com
SUMMARY:6PM - Advanced Digital Illustration
DESCRIPTION:MONDAY  \nToday we continued the Link project\, adding the lines\, colors\, and starting a little bit of shading. \n \nHOMEWORK \n\nPlease fill out this form.\nCatch up / Refine your Link project.
URL:https://www.ayclogic.com/event/6pm-advanced-digital-illustration-12/
CATEGORIES:Digital Illustration,Intermediate Digital Illustration
END:VEVENT
BEGIN:VEVENT
DTSTART;TZID=America/Los_Angeles:20220411T190000
DTEND;TZID=America/Los_Angeles:20220411T200000
DTSTAMP:20260423T225822
CREATED:20220412T030444Z
LAST-MODIFIED:20220412T030444Z
UID:12451-1649703600-1649707200@www.ayclogic.com
SUMMARY:7 PM – Coding Olympic Training
DESCRIPTION:Homework: \nSolve “Fractional Knapsack Problem” by yourself and test with a few other test cases\, think about how can we solve the problem if fractional item is not allowed.
URL:https://www.ayclogic.com/event/7-pm-coding-olympic-training-3/
END:VEVENT
END:VCALENDAR