BEGIN:VCALENDAR
VERSION:2.0
PRODID:-//American Young Coder - ECPv6.10.1.1//NONSGML v1.0//EN
CALSCALE:GREGORIAN
METHOD:PUBLISH
X-WR-CALNAME:American Young Coder
X-ORIGINAL-URL:https://www.ayclogic.com
X-WR-CALDESC:Events for American Young Coder
REFRESH-INTERVAL;VALUE=DURATION:PT1H
X-Robots-Tag:noindex
X-PUBLISHED-TTL:PT1H
BEGIN:VTIMEZONE
TZID:America/Los_Angeles
BEGIN:DAYLIGHT
TZOFFSETFROM:-0800
TZOFFSETTO:-0700
TZNAME:PDT
DTSTART:20220313T100000
END:DAYLIGHT
BEGIN:STANDARD
TZOFFSETFROM:-0700
TZOFFSETTO:-0800
TZNAME:PST
DTSTART:20221106T090000
END:STANDARD
END:VTIMEZONE
BEGIN:VEVENT
DTSTART;TZID=America/Los_Angeles:20220412T073000
DTEND;TZID=America/Los_Angeles:20220412T083000
DTSTAMP:20260423T225822
CREATED:20220412T163404Z
LAST-MODIFIED:20220412T163404Z
UID:12460-1649748600-1649752200@www.ayclogic.com
SUMMARY:7:30 AM - Intro To Python - Gamas
DESCRIPTION:Today We Do\n\nWe reviewed List homework.\nWe went over For Loop List concept (For each).\n\nHomework\n\nCreate Apr12_ForLoopListHomework.py\nCopy code from page 52.\nDo exercise from page 56\, TRY IT YOURSELF\, 4-1\, 4-2.
URL:https://www.ayclogic.com/event/730-am-intro-to-python-gamas-6/
END:VEVENT
BEGIN:VEVENT
DTSTART;TZID=America/Los_Angeles:20220412T163000
DTEND;TZID=America/Los_Angeles:20220412T173000
DTSTAMP:20260423T225822
CREATED:20220413T002933Z
LAST-MODIFIED:20220413T002933Z
UID:12469-1649781000-1649784600@www.ayclogic.com
SUMMARY:4:30 PM - Python OOP
DESCRIPTION:Homework\n\nContinue on Monster Inheritance project. We want to display attack menu after user enter a monster species in the main menu. Afterward\, if user enter sword attack\, do a random damage against the monster between 10 to 20 damage. The monster will also do some damage to the playerHealth. The monster damage would be between 10 to monster.maxDamage\nLook at example below\n\nYour have 200 health remaining.\nPlease choose your monster: \n   Troll - 50 healths - 30 Max attack points.\n   Water Golem - 30 healths - 20 Max attack points.\n   Dragon - 100 healths - 50 Max attack points.\nEnter your selection (enter "exit" to quit): dragon\n\nWhat do you want to do with the Dragon\n1. Magic attack\n2. Sword attack - 10 to 20 damage\nEnter your selection: 2\nYou attacked Dragon with 12 damage and the Dragon has 88 health remaining.\nDragon attacked you with 18 damage. Your remaining health is 182.\n\nYour have 182 health remaining.\nPlease choose your monster: \n   Troll - 50 healths - 30 Max attack points.\n   Water Golem - 30 healths - 20 Max attack points.\n   Dragon - 88 healths - 50 Max attack points.\nEnter your selection (enter "exit" to quit):
URL:https://www.ayclogic.com/event/430-pm-python-oop/
CATEGORIES:OOP Python,Python Class
END:VEVENT
BEGIN:VEVENT
DTSTART;TZID=America/Los_Angeles:20220412T170000
DTEND;TZID=America/Los_Angeles:20220412T180000
DTSTAMP:20260423T225822
CREATED:20220413T023337Z
LAST-MODIFIED:20220413T023337Z
UID:12473-1649782800-1649786400@www.ayclogic.com
SUMMARY:5 PM - Python OOP – Bill
DESCRIPTION:Today We:\n\nUpgraded our old Shopping Cart System to use Dictionaries\nCreated item_name and item_cost dictionaries\nReduced a lot of code duplication\n\nYour HW:\n\nSave your old robux system code as a new file\, April_12_RobuxSystemDictionary_HW\nMake the robux system use dictionaries for the item name and item price like we did in the super market system\nReduce code duplication like we did in the Super Market System\nIf you do not have the Book yet\, please ask your parents to talk to Mr. Gamas
URL:https://www.ayclogic.com/event/5-pm-python-oop-bill/
END:VEVENT
BEGIN:VEVENT
DTSTART;TZID=America/Los_Angeles:20220412T173000
DTEND;TZID=America/Los_Angeles:20220412T183000
DTSTAMP:20260423T225822
CREATED:20220414T025650Z
LAST-MODIFIED:20220415T234741Z
UID:12482-1649784600-1649788200@www.ayclogic.com
SUMMARY:5:30 PM – Intro To Python – Parna
DESCRIPTION:Today We Do\n\nWe went the homework from last week\nWe learned some built-in functions for the String data type\nBriefly introduced if/else statements\n\nHomework\n\nCreate <date>_StringHomework2.py page 25. TRY IT YOURSELF: 2-3\, 2-4\, 2-5 and 2-6
URL:https://www.ayclogic.com/event/530-pm-intro-to-python-parna-3/
END:VEVENT
BEGIN:VEVENT
DTSTART;TZID=America/Los_Angeles:20220412T180000
DTEND;TZID=America/Los_Angeles:20220412T190000
DTSTAMP:20260423T225822
CREATED:20220413T021929Z
LAST-MODIFIED:20220413T021929Z
UID:12471-1649786400-1649790000@www.ayclogic.com
SUMMARY:6 PM – Scratch Level 1 – Yitong
DESCRIPTION:Today we:\n\nAdded a Punching Glove sprite\nFinished Punch the Dummy\nMade the Ball Sprite play the note C\nMade the Ball change size (get bigger and smaller)\n\nHomework:\n\nMake the Ball sprite keep changing colors\n\nIf you need help email me: idyllicalyssum@gmail.com
URL:https://www.ayclogic.com/event/6-pm-scratch-level-1-yitong-25/
CATEGORIES:Scratch Class,Scratch Class Level 1
END:VEVENT
BEGIN:VEVENT
DTSTART;TZID=America/Los_Angeles:20220412T180000
DTEND;TZID=America/Los_Angeles:20220412T190000
DTSTAMP:20260423T225822
CREATED:20220418T041421Z
LAST-MODIFIED:20220418T041421Z
UID:12543-1649786400-1649790000@www.ayclogic.com
SUMMARY:6PM - Beginner Digital Illustration
DESCRIPTION:TUESDAY \nToday we continued the Eevee project. Today we added more colors. We also added shading\, highlighting\, and blending.   \nHOMEWORK \nReview your own drawing of the Eevee project\, and make improvements before next class. Do your best to make the lines smooth\, and the colors to be filled on all the way inside the lines. \nYou can use the picture above to help you improve your own drawing and make it better.
URL:https://www.ayclogic.com/event/6pm-beginner-digital-illustration-2/
CATEGORIES:Beginner Digital Illustration,Digital Illustration
END:VEVENT
END:VCALENDAR