BEGIN:VCALENDAR
VERSION:2.0
PRODID:-//American Young Coder - ECPv6.10.1.1//NONSGML v1.0//EN
CALSCALE:GREGORIAN
METHOD:PUBLISH
X-ORIGINAL-URL:https://www.ayclogic.com
X-WR-CALDESC:Events for American Young Coder
REFRESH-INTERVAL;VALUE=DURATION:PT1H
X-Robots-Tag:noindex
X-PUBLISHED-TTL:PT1H
BEGIN:VTIMEZONE
TZID:America/Los_Angeles
BEGIN:DAYLIGHT
TZOFFSETFROM:-0800
TZOFFSETTO:-0700
TZNAME:PDT
DTSTART:20220313T100000
END:DAYLIGHT
BEGIN:STANDARD
TZOFFSETFROM:-0700
TZOFFSETTO:-0800
TZNAME:PST
DTSTART:20221106T090000
END:STANDARD
END:VTIMEZONE
BEGIN:VEVENT
DTSTART;TZID=America/Los_Angeles:20220425T170000
DTEND;TZID=America/Los_Angeles:20220425T180000
DTSTAMP:20260423T225948
CREATED:20220426T233005Z
LAST-MODIFIED:20220426T233005Z
UID:12705-1650906000-1650909600@www.ayclogic.com
SUMMARY:5PM – Intro To Python – Bill
DESCRIPTION:Today We:\n\nLearned about the Or and And boolean operators\nContinued learning about if statements\nLearned about else statements and continued if statements\nLearned about elif statements\n\nYour HW:\n\nCreate a new file called April_26_IfElseHomework\nDo pages 79-81 from the textbook
URL:https://www.ayclogic.com/event/5pm-intro-to-python-bill-23/
END:VEVENT
BEGIN:VEVENT
DTSTART;TZID=America/Los_Angeles:20220425T180000
DTEND;TZID=America/Los_Angeles:20220425T190000
DTSTAMP:20260423T225948
CREATED:20220502T091802Z
LAST-MODIFIED:20220502T092553Z
UID:12805-1650909600-1650913200@www.ayclogic.com
SUMMARY:6PM - Digital Illustration 2 (Previously Advanced Digital Illustration)
DESCRIPTION:MONDAY \nToday we continued our Link project. We continued shading the hair\, and also the rest of his clothes. \n \nHOMEWORK \nImprove your work\, if you can. Otherwise\, no homework.
URL:https://www.ayclogic.com/event/6pm-digital-illustration-2-previously-advanced-digital-illustration/
CATEGORIES:Digital Illustration,Intermediate Digital Illustration
END:VEVENT
BEGIN:VEVENT
DTSTART;TZID=America/Los_Angeles:20220425T190000
DTEND;TZID=America/Los_Angeles:20220425T200000
DTSTAMP:20260423T225948
CREATED:20220426T030544Z
LAST-MODIFIED:20220426T030544Z
UID:12700-1650913200-1650916800@www.ayclogic.com
SUMMARY:7 PM – Coding Olympic Training
DESCRIPTION:Homework \nI have shared the slide with all of you\, check the concept of graph\, BFS\, Queue. \nTry to define a Queue and test all methods of queue: https://www.geeksforgeeks.org/queue-in-python/ \n 
URL:https://www.ayclogic.com/event/7-pm-coding-olympic-training-7/
END:VEVENT
END:VCALENDAR