BEGIN:VCALENDAR
VERSION:2.0
PRODID:-//American Young Coder - ECPv6.10.1.1//NONSGML v1.0//EN
CALSCALE:GREGORIAN
METHOD:PUBLISH
X-WR-CALNAME:American Young Coder
X-ORIGINAL-URL:https://www.ayclogic.com
X-WR-CALDESC:Events for American Young Coder
REFRESH-INTERVAL;VALUE=DURATION:PT1H
X-Robots-Tag:noindex
X-PUBLISHED-TTL:PT1H
BEGIN:VTIMEZONE
TZID:America/Los_Angeles
BEGIN:DAYLIGHT
TZOFFSETFROM:-0800
TZOFFSETTO:-0700
TZNAME:PDT
DTSTART:20220313T100000
END:DAYLIGHT
BEGIN:STANDARD
TZOFFSETFROM:-0700
TZOFFSETTO:-0800
TZNAME:PST
DTSTART:20221106T090000
END:STANDARD
END:VTIMEZONE
BEGIN:VEVENT
DTSTART;TZID=America/Los_Angeles:20220426T083000
DTEND;TZID=America/Los_Angeles:20220426T093000
DTSTAMP:20260423T225822
CREATED:20220426T163917Z
LAST-MODIFIED:20220426T163917Z
UID:12702-1650961800-1650965400@www.ayclogic.com
SUMMARY:8:30 AM - Intro To Python - Gamas
DESCRIPTION:Today We Do\n\nWe reviewed While Loop homeworks.\nWe reviewed -=\, +=\, *= and /=\nWe reviewed if statements vs if elif statements.\n\nHomework\n\nCreate a new file Apr26_WhileLoopHomework2.py\nDo exercises from page 123: TRY IT YOURSELF 7-4 and 7-5
URL:https://www.ayclogic.com/event/830-am-intro-to-python-gamas/
CATEGORIES:Python Class,Python Level 1
END:VEVENT
BEGIN:VEVENT
DTSTART;TZID=America/Los_Angeles:20220426T163000
DTEND;TZID=America/Los_Angeles:20220426T173000
DTSTAMP:20260423T225822
CREATED:20220429T011240Z
LAST-MODIFIED:20220429T011240Z
UID:12749-1650990600-1650994200@www.ayclogic.com
SUMMARY:4:30 PM - Python OOP - Gamas
DESCRIPTION:Today We Do\n\nWe continued with MonsterInheritance project.\n\nHomework\n\nInside your MonsterInheritance project\, create car.py\nCopy only Car class codes from page 168 into car.py.\nCreate electric_car.py and copy only ElectricCar class codes from page 168 into electric_car.py. On the top of this file\, import Car class. Look at how we import Monster class inside MonsterInheritanceMain class.\nInside car.py\, add a new method: fill_gas_tank. A method is a function inside a class.\nInside fill_gas_tank method\, print “The gas tank for this car is filled up”.\nCreate a new instance of Car class and call the fill_gas_tank method.
URL:https://www.ayclogic.com/event/430-pm-python-oop-gamas-10/
CATEGORIES:OOP Python,Python Class
END:VEVENT
BEGIN:VEVENT
DTSTART;TZID=America/Los_Angeles:20220426T170000
DTEND;TZID=America/Los_Angeles:20220426T180000
DTSTAMP:20260423T225822
CREATED:20220427T014623Z
LAST-MODIFIED:20220427T014623Z
UID:12711-1650992400-1650996000@www.ayclogic.com
SUMMARY:5 PM – Python OOP – Bill
DESCRIPTION:Today We:\n\nReviewed the Dog Class homework\nLearned what an Instance of a Class was\nReviewed how to grab the attribute of an instance and how to call a method from an instance\nReviewed how to create methods with parameters\nLearned how to Add instances to a list\n\nYour HW:\n\nCreate a new File called April26_ClassHW2\nDo the TRY IT YOURSELF section on page 162 of the text book
URL:https://www.ayclogic.com/event/5-pm-python-oop-bill-3/
END:VEVENT
BEGIN:VEVENT
DTSTART;TZID=America/Los_Angeles:20220426T173000
DTEND;TZID=America/Los_Angeles:20220426T183000
DTSTAMP:20260423T225822
CREATED:20220427T013726Z
LAST-MODIFIED:20220427T013726Z
UID:12709-1650994200-1650997800@www.ayclogic.com
SUMMARY:5:30 PM – Intro To Python – Parna
DESCRIPTION:Today We Do\n\nWe went over the difference between if and elif\nWe went over how to use +=\, -+\nWe went over how to get an input from shell\n\nHomework\n\nPage 117 . TRY IT YOURSELF: 7-1\, 7-2\nTell Me Your Age homework ONLY number 1
URL:https://www.ayclogic.com/event/530-pm-intro-to-python-parna-5/
END:VEVENT
BEGIN:VEVENT
DTSTART;TZID=America/Los_Angeles:20220426T180000
DTEND;TZID=America/Los_Angeles:20220426T190000
DTSTAMP:20260423T225822
CREATED:20220427T020914Z
LAST-MODIFIED:20220427T020914Z
UID:12713-1650996000-1650999600@www.ayclogic.com
SUMMARY:6 PM – Scratch Level 1 – Yitong
DESCRIPTION:Today we:\n\nFinished the Conductor sprite\nFinished Mary Had a Little Lamb\nMade a Snow sprite\nMade a background\n\nHomework:\n\nRead pages 146-147 in the Coding book\, do #7\n\nIf you need help email me: idyllicalyssum@gmail.com
URL:https://www.ayclogic.com/event/6-pm-scratch-level-1-yitong-28/
CATEGORIES:Scratch Class,Scratch Class Level 1
END:VEVENT
BEGIN:VEVENT
DTSTART;TZID=America/Los_Angeles:20220426T180000
DTEND;TZID=America/Los_Angeles:20220426T190000
DTSTAMP:20260423T225822
CREATED:20220502T092347Z
LAST-MODIFIED:20220502T092347Z
UID:12808-1650996000-1650999600@www.ayclogic.com
SUMMARY:6PM - Digital Illustration 1 (Previously Beginner Digital Illustration)
DESCRIPTION:TUESDAY \nToday we started the Cute Cat project! We finished building the sketch by using shapes\, and also added the lines. \n \nHOMEWORK \nMake your drawing better with the image above to help you\, but otherwise no homework.
URL:https://www.ayclogic.com/event/6pm-digital-illustration-1-previously-beginner-digital-illustration/
CATEGORIES:Beginner Digital Illustration,Digital Illustration
END:VEVENT
END:VCALENDAR