BEGIN:VCALENDAR
VERSION:2.0
PRODID:-//American Young Coder - ECPv6.10.1.1//NONSGML v1.0//EN
CALSCALE:GREGORIAN
METHOD:PUBLISH
X-ORIGINAL-URL:https://www.ayclogic.com
X-WR-CALDESC:Events for American Young Coder
REFRESH-INTERVAL;VALUE=DURATION:PT1H
X-Robots-Tag:noindex
X-PUBLISHED-TTL:PT1H
BEGIN:VTIMEZONE
TZID:America/Los_Angeles
BEGIN:DAYLIGHT
TZOFFSETFROM:-0800
TZOFFSETTO:-0700
TZNAME:PDT
DTSTART:20220313T100000
END:DAYLIGHT
BEGIN:STANDARD
TZOFFSETFROM:-0700
TZOFFSETTO:-0800
TZNAME:PST
DTSTART:20221106T090000
END:STANDARD
END:VTIMEZONE
BEGIN:VEVENT
DTSTART;TZID=America/Los_Angeles:20220429T173000
DTEND;TZID=America/Los_Angeles:20220429T183000
DTSTAMP:20260423T225955
CREATED:20220430T012816Z
LAST-MODIFIED:20220430T012816Z
UID:12765-1651253400-1651257000@www.ayclogic.com
SUMMARY:5:30 PM Scratch Level 2 Alexander Lee
DESCRIPTION:Today We Did:\n\nWe continued with the Doom on the Broom project\nAdded in the ghost\nAlso added in the forcefield\n\nFor Homework:\n\nCreate two different hippos\, one hippo will give you one more life and the other hippo will give you another forcefield.\nMake sure to show the player that it will give you a life or a forcefield.
URL:https://www.ayclogic.com/event/530-pm-scratch-level-2-alexander-lee-9/
CATEGORIES:Scratch Class,Scratch Class Level 2
END:VEVENT
BEGIN:VEVENT
DTSTART;TZID=America/Los_Angeles:20220429T180000
DTEND;TZID=America/Los_Angeles:20220429T190000
DTSTAMP:20260423T225955
CREATED:20220430T020410Z
LAST-MODIFIED:20220430T020428Z
UID:12767-1651255200-1651258800@www.ayclogic.com
SUMMARY:6 PM – Scratch Level 1 – Yitong
DESCRIPTION:What we did today:\n\nWent over the Count variable\nLearned about Broadcast and When I Receive\nAdded a Dog sprite\nMade the Dog move when W is pressed\n\nHomework:\n\nCoding book pg. 52\n\n\nIf you need help contact me: idyllicalyssum@gmail.com
URL:https://www.ayclogic.com/event/6-pm-scratch-level-1-yitong-29/
CATEGORIES:Scratch Class,Scratch Class Level 1
END:VEVENT
BEGIN:VEVENT
DTSTART;TZID=America/Los_Angeles:20220429T190000
DTEND;TZID=America/Los_Angeles:20220429T200000
DTSTAMP:20260423T225955
CREATED:20220503T092128Z
LAST-MODIFIED:20220503T092128Z
UID:12831-1651258800-1651262400@www.ayclogic.com
SUMMARY:7PM - Python Game Development - Latisha
DESCRIPTION:Today We Did:\n\nWorked on Birdie\n\nCentered Play Button\nMade Play Button clickable\n\n\n\nHomework:\n\nCenter the Title Image. You can move the play button down if needed by modifying play_button_y. (Hint: The easiest way to center the image is to do something similar to what we did for the play button.)\n\nIf you have any questions\, please send an email to latisha@ayclogic.com
URL:https://www.ayclogic.com/event/7pm-python-game-development-latisha-5/
END:VEVENT
END:VCALENDAR