BEGIN:VCALENDAR
VERSION:2.0
PRODID:-//American Young Coder - ECPv6.10.1.1//NONSGML v1.0//EN
CALSCALE:GREGORIAN
METHOD:PUBLISH
X-WR-CALNAME:American Young Coder
X-ORIGINAL-URL:https://www.ayclogic.com
X-WR-CALDESC:Events for American Young Coder
REFRESH-INTERVAL;VALUE=DURATION:PT1H
X-Robots-Tag:noindex
X-PUBLISHED-TTL:PT1H
BEGIN:VTIMEZONE
TZID:America/Los_Angeles
BEGIN:DAYLIGHT
TZOFFSETFROM:-0800
TZOFFSETTO:-0700
TZNAME:PDT
DTSTART:20220313T100000
END:DAYLIGHT
BEGIN:STANDARD
TZOFFSETFROM:-0700
TZOFFSETTO:-0800
TZNAME:PST
DTSTART:20221106T090000
END:STANDARD
END:VTIMEZONE
BEGIN:VEVENT
DTSTART;TZID=America/Los_Angeles:20220503T073000
DTEND;TZID=America/Los_Angeles:20220503T083000
DTSTAMP:20260423T213856
CREATED:20220503T163835Z
LAST-MODIFIED:20220503T164035Z
UID:12833-1651563000-1651566600@www.ayclogic.com
SUMMARY:7:30 AM - Intro To Python - Gamas
DESCRIPTION:Homework\n\nCreate May3_1stQuizPrepHomework.py\nDo exercises from https://www.ayclogic.com/intro-to-python-exercises/ . Make sure you review all the python exercises and homeworks which you have done before to do this homework.\nIf you have question\, you can email me at gamas@ayclogic.com . But don’t send last minute email.
URL:https://www.ayclogic.com/event/730-am-intro-to-python-gamas-8/
CATEGORIES:Python Class,Python Level 1
END:VEVENT
BEGIN:VEVENT
DTSTART;TZID=America/Los_Angeles:20220503T163000
DTEND;TZID=America/Los_Angeles:20220503T173000
DTSTAMP:20260423T213856
CREATED:20220504T003716Z
LAST-MODIFIED:20220510T233221Z
UID:12837-1651595400-1651599000@www.ayclogic.com
SUMMARY:4:30 PM - Python OOP - Gamas
DESCRIPTION:Today We Do\n\nWe learned about Car and ElectricCar class inheritance.\nWe learned about Monster and Dragon class inheritance.\n\nHomework\n\nInside Dragon class\, override sword_damage method. Inside this method\, it will not do any damage to the dragon. And it will say “Dragon is immune to sword attack. No damage is done” . Look at how we override fill_up_gas_tank in ElectricCar class for an example.\nCreate a Troll class\, make it inherits from Monster class. And then override sword_damage method. Inside this method\, it will do half damage to the Troll. And it will say “Troll is resistance to sword attack. Damage is halved” .\nReview how we use dictionary inside MonsterInheritance class and ask question next week.
URL:https://www.ayclogic.com/event/430-pm-python-oop-gamas-11/
CATEGORIES:OOP Python,Python Class
END:VEVENT
BEGIN:VEVENT
DTSTART;TZID=America/Los_Angeles:20220503T170000
DTEND;TZID=America/Los_Angeles:20220503T180000
DTSTAMP:20260423T213856
CREATED:20220504T010230Z
LAST-MODIFIED:20220504T010230Z
UID:12840-1651597200-1651600800@www.ayclogic.com
SUMMARY:5 PM – Python OOP – Bill
DESCRIPTION:Today We:\n\nReviewed the Restaurant Class homework\nWent over how to create methods\nWent over how to call methods and grab attributes of instance variables\nContinued learning about lists of custom class data type variables\nLearned ways to populate a list of our instances\nLearned how to loop through our list of custom data types\n\nYour HW:\n\nCreate a new File called May_3_ClassesHW3\nDo pages page 162 – 166 and only 9-4 on page167
URL:https://www.ayclogic.com/event/5-pm-python-oop-bill-4/
END:VEVENT
BEGIN:VEVENT
DTSTART;TZID=America/Los_Angeles:20220503T173000
DTEND;TZID=America/Los_Angeles:20220503T183000
DTSTAMP:20260423T213856
CREATED:20220504T014406Z
LAST-MODIFIED:20220504T014807Z
UID:12842-1651599000-1651602600@www.ayclogic.com
SUMMARY:5:30 PM - Intro to Python - Parna
DESCRIPTION:Today We Do\n\nWe went over last week’s homework\nWe went over how to create a list\nWe went over how to +\,-\,*\,/ elements of a list\n\nHomework\n\nPage 38 to 41: access\, modify\, append\, remove\nTRY IT YOURSELF from page 42: 3-4\, 3-5\, 3-6
URL:https://www.ayclogic.com/event/530-pm-intro-to-python-parna-6/
END:VEVENT
BEGIN:VEVENT
DTSTART;TZID=America/Los_Angeles:20220503T180000
DTEND;TZID=America/Los_Angeles:20220503T190000
DTSTAMP:20260423T213856
CREATED:20220504T020518Z
LAST-MODIFIED:20220504T020518Z
UID:12847-1651600800-1651604400@www.ayclogic.com
SUMMARY:6 PM – Scratch Level 1 – Yitong
DESCRIPTION:Today we:\n\nMade clones of Snow sprite\nTalked about X-axis and Y-axis\nMade Snow sprite fall down\nWent over how to check coordinates (if Y position < -175)\nGot rid of clone when Snow below coordinates -175\n\nHomework:\n\nRead page 148\, do #8\n\n\nIf you need help email me: idyllicalyssum@gmail.com
URL:https://www.ayclogic.com/event/6-pm-scratch-level-1-yitong-30/
CATEGORIES:Scratch Class,Scratch Class Level 1
END:VEVENT
BEGIN:VEVENT
DTSTART;TZID=America/Los_Angeles:20220503T180000
DTEND;TZID=America/Los_Angeles:20220503T190000
DTSTAMP:20260423T213856
CREATED:20220507T212107Z
LAST-MODIFIED:20220507T212107Z
UID:12904-1651600800-1651604400@www.ayclogic.com
SUMMARY:6PM - Digital Illustration 1
DESCRIPTION:TUESDAY \nToday we finished the Cute Cat project! We added the color and details\, and signed the project with the name and date. \n \nHOMEWORK \nRe-color the cat in a new color and design or pattern. \nSTEPS: \n\nTurn off your color layer by pressing on the gray eye icon.\nAdd a new layer\, placed on top of the color layer you just turned off.\nBegin to add your new colors and designs to the new layer.\n\nIt can be any design or color\, it doesn’t have to realistic. Just make sure you do it neatly with everything staying inside the lines. \nOptional step: add a background. To do this\, add another new layer\, move it to the very bottom\, and start drawing on that layer.
URL:https://www.ayclogic.com/event/6pm-digital-illustration-1/
CATEGORIES:Beginner Digital Illustration,Digital Illustration
END:VEVENT
END:VCALENDAR