BEGIN:VCALENDAR
VERSION:2.0
PRODID:-//American Young Coder - ECPv6.10.1.1//NONSGML v1.0//EN
CALSCALE:GREGORIAN
METHOD:PUBLISH
X-ORIGINAL-URL:https://www.ayclogic.com
X-WR-CALDESC:Events for American Young Coder
REFRESH-INTERVAL;VALUE=DURATION:PT1H
X-Robots-Tag:noindex
X-PUBLISHED-TTL:PT1H
BEGIN:VTIMEZONE
TZID:America/Los_Angeles
BEGIN:DAYLIGHT
TZOFFSETFROM:-0800
TZOFFSETTO:-0700
TZNAME:PDT
DTSTART:20220313T100000
END:DAYLIGHT
BEGIN:STANDARD
TZOFFSETFROM:-0700
TZOFFSETTO:-0800
TZNAME:PST
DTSTART:20221106T090000
END:STANDARD
END:VTIMEZONE
BEGIN:VEVENT
DTSTART;TZID=America/Los_Angeles:20220506T173000
DTEND;TZID=America/Los_Angeles:20220506T183000
DTSTAMP:20260423T230008
CREATED:20220507T013046Z
LAST-MODIFIED:20220507T013046Z
UID:12879-1651858200-1651861800@www.ayclogic.com
SUMMARY:5:30 PM Scratch Level 2 Alex
DESCRIPTION:For Homework:\n\nFind two characters for a new project we are going to do called the Fireball Fighting project.\nThe two characters have to have a clear background that we can upload to Scratch\nWe also need two projectiles/fireballs for the characters to shoot at each other.\nMake sure that everything is appropriate.
URL:https://www.ayclogic.com/event/530-pm-scratch-level-2-alex/
CATEGORIES:Scratch Class,Scratch Class Level 2
END:VEVENT
BEGIN:VEVENT
DTSTART;TZID=America/Los_Angeles:20220506T180000
DTEND;TZID=America/Los_Angeles:20220506T190000
DTSTAMP:20260423T230008
CREATED:20220507T020920Z
LAST-MODIFIED:20220507T020920Z
UID:12881-1651860000-1651863600@www.ayclogic.com
SUMMARY:6 PM – Scratch Level 1 – Yitong
DESCRIPTION:Today we:\n\nAdded a Dog Start sprite\nAdded a Bat sprite\nAdded a Bat Start sprite\nAdded a Finish Line sprite\nAdded a Dog Win Banner sprite\nMade the Dog sprite change costumes\nBroadcasted “Dog Win” when the Dog sprite touched the Finish Line\nMade the Dog Win Banner sprite hide when the game starts\n\nHomework:\n\nCoding book pg. 56
URL:https://www.ayclogic.com/event/6-pm-scratch-level-1-yitong-31/
CATEGORIES:Scratch Class,Scratch Class Level 1
END:VEVENT
BEGIN:VEVENT
DTSTART;TZID=America/Los_Angeles:20220506T190000
DTEND;TZID=America/Los_Angeles:20220506T200000
DTSTAMP:20260423T230008
CREATED:20220509T230536Z
LAST-MODIFIED:20220509T230536Z
UID:12943-1651863600-1651867200@www.ayclogic.com
SUMMARY:7PM - Python Game Development - Latisha
DESCRIPTION:Today We Did:\n\nWorked on Birdie\n\nCentered Title Button\nReset Player’s location when you start the game\nAdded Giant Fireball\nAdded Background music\n\n\n\nHomework:\n\nWhen the giant fireball collides with a bird\, make the bird disappear and add the bird’s speed to the score\n\nIf you have any questions\, please send an email to latisha@ayclogic.com
URL:https://www.ayclogic.com/event/7pm-python-game-development-latisha-6/
END:VEVENT
END:VCALENDAR