BEGIN:VCALENDAR
VERSION:2.0
PRODID:-//American Young Coder - ECPv6.10.1.1//NONSGML v1.0//EN
CALSCALE:GREGORIAN
METHOD:PUBLISH
X-WR-CALNAME:American Young Coder
X-ORIGINAL-URL:https://www.ayclogic.com
X-WR-CALDESC:Events for American Young Coder
REFRESH-INTERVAL;VALUE=DURATION:PT1H
X-Robots-Tag:noindex
X-PUBLISHED-TTL:PT1H
BEGIN:VTIMEZONE
TZID:America/Los_Angeles
BEGIN:DAYLIGHT
TZOFFSETFROM:-0800
TZOFFSETTO:-0700
TZNAME:PDT
DTSTART:20220313T100000
END:DAYLIGHT
BEGIN:STANDARD
TZOFFSETFROM:-0700
TZOFFSETTO:-0800
TZNAME:PST
DTSTART:20221106T090000
END:STANDARD
END:VTIMEZONE
BEGIN:VEVENT
DTSTART;TZID=America/Los_Angeles:20220511T170000
DTEND;TZID=America/Los_Angeles:20220511T180000
DTSTAMP:20260423T213858
CREATED:20220512T012007Z
LAST-MODIFIED:20220512T012127Z
UID:13011-1652288400-1652292000@www.ayclogic.com
SUMMARY:5PM - Digital Illustration 3
DESCRIPTION:WEDNESDAY \nToday we continued the Girl in Side-View project. We sketched out the flower crown\, and also finished up the all the lines in a soft brown color. \n  \nHOMEWORK \nUse the above pictures to help you finish up the lines and especially the flower crown. Use this homework to make all your lines nice and ready for review next class. \nFill out THE FORM if you didn’t do it last week.
URL:https://www.ayclogic.com/event/5pm-digital-illustration-3-3/
CATEGORIES:Digital Illustration,Intermediate Digital Illustration
END:VEVENT
BEGIN:VEVENT
DTSTART;TZID=America/Los_Angeles:20220511T180000
DTEND;TZID=America/Los_Angeles:20220511T190000
DTSTAMP:20260423T213858
CREATED:20220512T015127Z
LAST-MODIFIED:20220512T015643Z
UID:13015-1652292000-1652295600@www.ayclogic.com
SUMMARY:6 PM - Intro To Python - Gamas
DESCRIPTION:Homework\n\nFinish the triangle function.\nCreate rectangle function and draw rectangle according to coordinate below.\nCreate octagon function and draw octagon according to coordinate below.\nQuestion\, email to gamas@ayclogic.com
URL:https://www.ayclogic.com/event/6-pm-intro-to-python-gamas-9/
CATEGORIES:Python Level 1
END:VEVENT
BEGIN:VEVENT
DTSTART;TZID=America/Los_Angeles:20220511T190000
DTEND;TZID=America/Los_Angeles:20220511T200000
DTSTAMP:20260423T213858
CREATED:20220512T025947Z
LAST-MODIFIED:20220512T025947Z
UID:13019-1652295600-1652299200@www.ayclogic.com
SUMMARY:7 PM - Intro To Python - Gamas
DESCRIPTION:Homework\n\nContinue on your May11_Hangman.py game\nInside the for loop continuously display like below\n\nsecret_word = dragon\n\n❤❤❤❤❤❤❤❤❤\nEnter a letter or the entire word: a\n\n❤❤❤❤❤❤❤❤❤\nEnter a letter or the entire word: b\n\n❤❤❤❤❤❤❤❤❤\nEnter a letter or the entire word: d\n\n❤❤❤❤❤❤❤❤❤\nEnter a letter or the entire word: dragon\n\nCongrats you win the game
URL:https://www.ayclogic.com/event/7-pm-intro-to-python-gamas-16/
CATEGORIES:Python Class,Python Level 1
END:VEVENT
BEGIN:VEVENT
DTSTART;TZID=America/Los_Angeles:20220511T190000
DTEND;TZID=America/Los_Angeles:20220511T200000
DTSTAMP:20260423T213858
CREATED:20220512T030025Z
LAST-MODIFIED:20220512T030025Z
UID:13020-1652295600-1652299200@www.ayclogic.com
SUMMARY:7 PM Intro to Java - Alex
DESCRIPTION:For Homework:\n\nCreate a new project called ForLoopListHomework.java\nGo to this page: https://www.ayclogic.com/java-list-forloop/ for the information on how to do the code.
URL:https://www.ayclogic.com/event/7-pm-intro-to-java-alex/
CATEGORIES:Introduction To Java,Java
END:VEVENT
BEGIN:VEVENT
DTSTART;TZID=America/Los_Angeles:20220511T190000
DTEND;TZID=America/Los_Angeles:20220511T200000
DTSTAMP:20260423T213858
CREATED:20220512T030721Z
LAST-MODIFIED:20220512T030721Z
UID:13023-1652295600-1652299200@www.ayclogic.com
SUMMARY:7 PM – Coding Olympic Training
DESCRIPTION:Homework: \n\nWrite the minimal stops problem and binary search tree by yourself and understand how to solve problems with queue and binary search tree\nhttp://www.usaco.org/index.php?page=feb22results\, review all three bronze problems and we will work on it together next week.
URL:https://www.ayclogic.com/event/7-pm-coding-olympic-training-10/
END:VEVENT
END:VCALENDAR