BEGIN:VCALENDAR
VERSION:2.0
PRODID:-//American Young Coder - ECPv6.10.1.1//NONSGML v1.0//EN
CALSCALE:GREGORIAN
METHOD:PUBLISH
X-ORIGINAL-URL:https://www.ayclogic.com
X-WR-CALDESC:Events for American Young Coder
REFRESH-INTERVAL;VALUE=DURATION:PT1H
X-Robots-Tag:noindex
X-PUBLISHED-TTL:PT1H
BEGIN:VTIMEZONE
TZID:America/Los_Angeles
BEGIN:DAYLIGHT
TZOFFSETFROM:-0800
TZOFFSETTO:-0700
TZNAME:PDT
DTSTART:20220313T100000
END:DAYLIGHT
BEGIN:STANDARD
TZOFFSETFROM:-0700
TZOFFSETTO:-0800
TZNAME:PST
DTSTART:20221106T090000
END:STANDARD
END:VTIMEZONE
BEGIN:VEVENT
DTSTART;TZID=America/Los_Angeles:20220512T170000
DTEND;TZID=America/Los_Angeles:20220512T180000
DTSTAMP:20260423T214049
CREATED:20220513T010341Z
LAST-MODIFIED:20220513T010341Z
UID:13025-1652374800-1652378400@www.ayclogic.com
SUMMARY:5:00 PM – Intro To Python – Parna
DESCRIPTION:Today We Do\n\nWe went over how to create variables with different data types: Integer\, double/float\, Boolean\, String.\nWe learned how to combine String.\nWe learned how to do mathematical operations.\n\nHomework\n\nCreate a new Python file in your Thonny: Apr5_StringHomework.py.\nCopy all the python codes only from page 20 to 23. Copy one section of the code at a time and run it and see if you understand the result.\nIf you guys don’t have the book yet\, you can look from here IntroToPythonP20toP23
URL:https://www.ayclogic.com/event/500-pm-intro-to-python-parna/
END:VEVENT
BEGIN:VEVENT
DTSTART;TZID=America/Los_Angeles:20220512T170000
DTEND;TZID=America/Los_Angeles:20220512T180000
DTSTAMP:20260423T214049
CREATED:20220516T214649Z
LAST-MODIFIED:20220516T214649Z
UID:13073-1652374800-1652378400@www.ayclogic.com
SUMMARY:5PM - Python Game Development - Latisha
DESCRIPTION:Today We Did:\n\nContinued Flappy Bird\n\nAdded Coin Collision\nAdded Score\nDraw Score on Screen\n\n\n\nHomework:\n\nFill out the project outline template (here) for your own project. Send/Share it with me before class next week.\n\nIf you have any questions\, please send an email to latisha@ayclogic.com
URL:https://www.ayclogic.com/event/5pm-python-game-development-latisha-16/
END:VEVENT
BEGIN:VEVENT
DTSTART;TZID=America/Los_Angeles:20220512T190000
DTEND;TZID=America/Los_Angeles:20220512T200000
DTSTAMP:20260423T214049
CREATED:20220513T030236Z
LAST-MODIFIED:20220513T042327Z
UID:13029-1652382000-1652385600@www.ayclogic.com
SUMMARY:7:00 PM – Intro To Python – Parna
DESCRIPTION:Today We Do\n\nWe went over how to fix Python Errors\nUse this process:\n\n\n\nClick the bottom blue line\nRead the error message\nFix the error and rerun\n\n\n\n\n\nHomework\n\nFix all the errors in this problem: https://www.ayclogic.com/fix-python-bugs-2/\nReview for the quiz next week: https://www.ayclogic.com/intro-to-python-exercises-for-quiz-2/ 
URL:https://www.ayclogic.com/event/700-pm-intro-to-python-parna-3/
END:VEVENT
BEGIN:VEVENT
DTSTART;TZID=America/Los_Angeles:20220512T190000
DTEND;TZID=America/Los_Angeles:20220512T200000
DTSTAMP:20260423T214049
CREATED:20220513T031949Z
LAST-MODIFIED:20220513T031949Z
UID:13030-1652382000-1652385600@www.ayclogic.com
SUMMARY:7 PM - Intro To Java - Gamas
DESCRIPTION:Today We Do\n\nWe went over how to get text from one EditText and set a text to another TextView.\nWe learn more about Android ConstraintLayout.\n\nHomework\n\nConvert the value that you get from sourceTemp text field from Fahrenheit to Celcius. Don’t forget to convert from String to Integer before you apply the formula.\n\n 
URL:https://www.ayclogic.com/event/7-pm-intro-to-java-gamas-18/
CATEGORIES:Introduction To Java,Java
END:VEVENT
END:VCALENDAR