BEGIN:VCALENDAR
VERSION:2.0
PRODID:-//American Young Coder - ECPv6.10.1.1//NONSGML v1.0//EN
CALSCALE:GREGORIAN
METHOD:PUBLISH
X-ORIGINAL-URL:https://www.ayclogic.com
X-WR-CALDESC:Events for American Young Coder
REFRESH-INTERVAL;VALUE=DURATION:PT1H
X-Robots-Tag:noindex
X-PUBLISHED-TTL:PT1H
BEGIN:VTIMEZONE
TZID:America/Los_Angeles
BEGIN:DAYLIGHT
TZOFFSETFROM:-0800
TZOFFSETTO:-0700
TZNAME:PDT
DTSTART:20220313T100000
END:DAYLIGHT
BEGIN:STANDARD
TZOFFSETFROM:-0700
TZOFFSETTO:-0800
TZNAME:PST
DTSTART:20221106T090000
END:STANDARD
END:VTIMEZONE
BEGIN:VEVENT
DTSTART;TZID=America/Los_Angeles:20220514T090000
DTEND;TZID=America/Los_Angeles:20220514T100000
DTSTAMP:20260423T230006
CREATED:20220514T181303Z
LAST-MODIFIED:20220514T184928Z
UID:13047-1652518800-1652522400@www.ayclogic.com
SUMMARY:9 AM - Intro To Java - Gamas
DESCRIPTION:Today We Do\n\nWe reviewed the practice quiz result about List\, Bird class.\n\nHomework\n\nIn your Email Application project go to EmailAccount.java class.\nAdd one more attribute\, String phone number.\nAdd this attribute to the constructor.\nAdd getter and setter.\nInside EmailApplicationMain.java\, inside initializeEmailAccounts method\, add phone number for every EmailAccount.\nInside EmailApplicationMain.java\, inside createEmailAccount()\, ask user for their phone number. Pass the phone number when you create EmailAccount class.\nInside EmailApplicationMain.java\, inside listAllEmailAccounts()\, display the user phone number.\nLook at example below\n\nWelcome to AYCLOGIC Email System.\n\nPlease select from below\n1. Create an Email Account\n2. Login\n3. List all Email Accounts\n4. Exit\nEnter your selection:1\n\nCREATE EMAIL ACCOUNT\n1. Enter your name: John Chen\n2. Enter your email: john@ayclogic.com\n3. Enter your password: abcd\n4. Enter your phone number: (818) 222-1111\nYou have successfully created email account for John Chen.\n\nPlease select from below\n1. Create an Email Account\n2. Login\n3. List all Email Accounts\n4. Exit\nEnter your selection:3\n\nThere are total of 4 email accounts in the system\n1. Nathan Truong - nathan@ayclogic.com - (887) 888-8888\n2. John Chen - john@ayclogic.com - (818) 222-1111\n3. Gamas Chang - gamas@ayclogic.com - (888) 888-8888\n4. Amber Kuo - amber@ayclogic.com - (886) 888-8888\n\nPlease select from below\n1. Create an Email Account\n2. Login\n3. List all Email Accounts\n4. Exit\nEnter your selection:
URL:https://www.ayclogic.com/event/9-am-intro-to-java-gamas-5/
CATEGORIES:Introduction To Java,Java
END:VEVENT
BEGIN:VEVENT
DTSTART;TZID=America/Los_Angeles:20220514T100000
DTEND;TZID=America/Los_Angeles:20220514T110000
DTSTAMP:20260423T230006
CREATED:20220514T040141Z
LAST-MODIFIED:20220514T040141Z
UID:13042-1652522400-1652526000@www.ayclogic.com
SUMMARY:SAT - 10 AM - Scratch 2 - Gamas
DESCRIPTION:Homework\n\nFind 2 character images in the Internet that you like for your project. The image have to be transparent background.\nFind 2 projectile images in the Internet that you like for your project. The image have to be transparent background.\nInside the leftPlayer\, add more code inside the movement myblock to prevent the leftPlayer to go outside the screen.\nInside the rightPlayer\, add the code to make the rightPlayer able to move using the arrows keys.
URL:https://www.ayclogic.com/event/sat-10-am-scratch-2-gamas-4/
CATEGORIES:Scratch Class,Scratch Class Level 2
END:VEVENT
BEGIN:VEVENT
DTSTART;TZID=America/Los_Angeles:20220514T100000
DTEND;TZID=America/Los_Angeles:20220514T110000
DTSTAMP:20260423T230006
CREATED:20220514T175949Z
LAST-MODIFIED:20220514T180038Z
UID:13045-1652522400-1652526000@www.ayclogic.com
SUMMARY:10 AM - Minecraft Modding With Java
DESCRIPTION:Homework\n\nUsing an image editor\, change the jupiter_axe.png so it looks different than saturn_axe.png\nMake the jupiter_axe appear in your minecraft:\n\na. JupiterAxe.java under src/main/java/com/ayclogic/aycessentials\nb. ModItems.java\nc. en_us.json\nd. create jupiter_axe.json under src/main/resources/assets/aycessentials/models/items
URL:https://www.ayclogic.com/event/10-am-minecraft-modding-with-java-2/
END:VEVENT
BEGIN:VEVENT
DTSTART;TZID=America/Los_Angeles:20220514T110000
DTEND;TZID=America/Los_Angeles:20220514T120000
DTSTAMP:20260423T230006
CREATED:20220514T191724Z
LAST-MODIFIED:20220514T191724Z
UID:13051-1652526000-1652529600@www.ayclogic.com
SUMMARY:11 AM - Scratch 1 - Abigail
DESCRIPTION:What we did today\n\nWe went over the Practice Final Test\n\nHomework\n\nStudy for your Final Test!
URL:https://www.ayclogic.com/event/11-am-scratch-1-abigail-21/
CATEGORIES:Scratch Class,Scratch Class Level 1
END:VEVENT
BEGIN:VEVENT
DTSTART;TZID=America/Los_Angeles:20220514T120000
DTEND;TZID=America/Los_Angeles:20220514T130000
DTSTAMP:20260423T230006
CREATED:20220514T200024Z
LAST-MODIFIED:20220514T201642Z
UID:13053-1652529600-1652533200@www.ayclogic.com
SUMMARY:12 PM - Intro To Java - Gamas
DESCRIPTION:Today We Do\n\nWe learned about creating Android App\nWe learned how to add button\nWe learned how to add TextView\nWe learned how to add EditText\nWe learned about Android Constraint Layout.\n\nHomework\n\nAdd Celcius TextView to the right of Fahrenheit TextView.\nAdd convertedTextField to the right of originalTextField.\nLook at below screenshot
URL:https://www.ayclogic.com/event/12-pm-intro-to-java-gamas-17/
CATEGORIES:Introduction To Java,Java
END:VEVENT
BEGIN:VEVENT
DTSTART;TZID=America/Los_Angeles:20220514T130000
DTEND;TZID=America/Los_Angeles:20220514T140000
DTSTAMP:20260423T230006
CREATED:20220514T210253Z
LAST-MODIFIED:20220514T210253Z
UID:13058-1652533200-1652536800@www.ayclogic.com
SUMMARY:1 PM - Python Game Development
DESCRIPTION:Today: \n\nWe went over the homework to add a type to the enemy.\nWe added the tower hotspot sprite.\nWe added the ShootingTower sprite.\nWe went over how to create the shooting tower when the floating tower collides with the target.\n\nHomework: \n\nReview the “bullet.py” file in tank-game.\nCreate a new Sprite called “Bullet” that takes x\, y\, size\, direction\, screen as parameters. The direction is the angle in degrees similar to what we used for “Bullet” sprite in the tank game project.\nCreate a bullet_group attribute in main.py\, and test you can add some bullets to it and they appear on the landing page screen.  Test you can create a custom bullet anywhere on the screen.  Play around with the degrees parameter to confirm bullets get rotated and move in the direction specified.
URL:https://www.ayclogic.com/event/1-pm-python-game-development-60/
CATEGORIES:Advanced Python Game Development
END:VEVENT
BEGIN:VEVENT
DTSTART;TZID=America/Los_Angeles:20220514T130000
DTEND;TZID=America/Los_Angeles:20220514T140000
DTSTAMP:20260423T230006
CREATED:20220518T022455Z
LAST-MODIFIED:20220518T022455Z
UID:13099-1652533200-1652536800@www.ayclogic.com
SUMMARY:1 PM Intro to Java - Alex
DESCRIPTION:Today We Did:\n\nWe continued by creating the Teacher class with all its attributes.\nAlso\, add in createTeacher() and how to list all the students out when asked to.\nAlso\, we learned about getters and setters and how to use them.\n\nFor Homework:\n\nAdd in the getters and setters for the Teacher class if you have not done it already.\nWhen there are no teachers or students inside the list it should print out “We have no students/teachers in our system yet”\nAdd in listAllTeachers() where it will list all the teachers out when you type in 6 into the menu.\n\nPlease select one of the items below\n1. Add Student\n2. Add Teacher\n3. Find Student\n4. Find Teacher\n5. List all students\n6. List all teachers\nMake your selection 1-6 (enter "exit" to quit): 6 \n\nLIST ALL TEACHERS\nWe have no teachers in our system yet\n\nPlease select one of the items below\n1. Add Student\n2. Add Teacher\n3. Find Student\n4. Find Teacher\n5. List all students\n6. List all teachers\nMake your selection 1-6 (enter "exit" to quit): 2\n\nADD NEW TEACHER\nEnter the first name: Alex\nEnter the last name: Lee\nEnter the age: 18\nEnter the email: alexlee@ayclogic.com\nEnter the teacher's subject of expertise: Coding\nYou have added the teacher Alex successfully\n\nPlease select one of the items below\n1. Add Student\n2. Add Teacher\n3. Find Student\n4. Find Teacher\n5. List all students\n6. List all teachers\nMake your selection 1-6 (enter "exit" to quit): 6 \n\nLIST ALL TEACHERS\nAlex Lee is 18 years old and teaches the Coding subject
URL:https://www.ayclogic.com/event/1-pm-intro-to-java-alex-3/
CATEGORIES:Introduction To Java,Java
END:VEVENT
BEGIN:VEVENT
DTSTART;TZID=America/Los_Angeles:20220514T150000
DTEND;TZID=America/Los_Angeles:20220514T160000
DTSTAMP:20260423T230006
CREATED:20220514T225948Z
LAST-MODIFIED:20220514T225948Z
UID:13060-1652540400-1652544000@www.ayclogic.com
SUMMARY:3 PM Scratch Level 2 - Alex
DESCRIPTION:Important Reminders:\n\nThere are new homework rules. After you finish your homework in Scratch\, you have to send an email the night before the day of the class.\nSince our class is on Saturday\, send an email to allison@ayclogic.com by Friday at 8 PM. In that email\, write down your name and a link to your shared Scratch project homework. Make sure to share your Scratch project.\n\nFor Homework:\n\nMake the Bat\, Speedy Spector\, and Dragon delete when they touch the Forcefield.\nAlso\, duplicated the Bat sprite twice and add two hippos that give the user either another life or another forcefield.\nWhen the hippos touch the witch is when they give the extra life/forcefield.\nIf the hippo touches the forcefield or gets hit by a fireball\, it will disappear.\nFollow pages 126-127 in the book to add the hippos that give extra lives/forcefields.
URL:https://www.ayclogic.com/event/3-pm-scratch-level-2-alex/
CATEGORIES:Scratch Class,Scratch Class Level 2
END:VEVENT
BEGIN:VEVENT
DTSTART;TZID=America/Los_Angeles:20220514T160000
DTEND;TZID=America/Los_Angeles:20220514T170000
DTSTAMP:20260423T230006
CREATED:20220515T013148Z
LAST-MODIFIED:20220515T013359Z
UID:13064-1652544000-1652547600@www.ayclogic.com
SUMMARY:4 PM - Python OOP - Latisha
DESCRIPTION:Today We Do\n\nWe went over the Driver System practice final. We weren’t able to finish this in the class.\n\nHomework\n\nIf you did not finish last week Driver System practice final\, try to finish them and do another submission. It is a good idea if you redo the practice final for your exercise to prepare for upcoming final.\nI have uploaded the Driver system files which we have done in the class today to the google drive.\nPlease submit on Friday night so it will give Latisha a chance to review your work before the class.\nPlease email to latisha@ayclogic.com and gamas@ayclogic.com if you have any questions.
URL:https://www.ayclogic.com/event/4-pm-python-oop-latisha-2/
END:VEVENT
BEGIN:VEVENT
DTSTART;TZID=America/Los_Angeles:20220514T170000
DTEND;TZID=America/Los_Angeles:20220514T180000
DTSTAMP:20260423T230006
CREATED:20220515T012657Z
LAST-MODIFIED:20220522T000548Z
UID:13062-1652547600-1652551200@www.ayclogic.com
SUMMARY:5 PM - Intro To Java - Gamas
DESCRIPTION:Today We Do\n\nWe installed Android Studio and its emulator.\nWe started with Temperature Converter Project.\n\nHomework\n\nDo exercises from here\, due on Friday night https://docs.google.com/forms/d/1jmuWBAdD1bSY3voMhjxz2ql5Jh5obi3-xagR146hpIQ
URL:https://www.ayclogic.com/event/6-pm-intro-to-java-gamas-3/
END:VEVENT
BEGIN:VEVENT
DTSTART;TZID=America/Los_Angeles:20220514T180000
DTEND;TZID=America/Los_Angeles:20220514T190000
DTSTAMP:20260423T230006
CREATED:20220516T041345Z
LAST-MODIFIED:20220521T231949Z
UID:13068-1652551200-1652554800@www.ayclogic.com
SUMMARY:6 PM – Intro To Python – Bill
DESCRIPTION:Today We:\n\nFinished the face function\nLearned how to make a complex shape function\nLearned how to make a function that draws the letter A\n\nYour HW:\n\nContinue to work on your Turtle Projects\nMake sure to upload your file to your google drive so I can see your progress\nFinal Project Due May 25th
URL:https://www.ayclogic.com/event/6-pm-intro-to-python-bill-5/
END:VEVENT
END:VCALENDAR