BEGIN:VCALENDAR
VERSION:2.0
PRODID:-//American Young Coder - ECPv6.10.1.1//NONSGML v1.0//EN
CALSCALE:GREGORIAN
METHOD:PUBLISH
X-WR-CALNAME:American Young Coder
X-ORIGINAL-URL:https://www.ayclogic.com
X-WR-CALDESC:Events for American Young Coder
REFRESH-INTERVAL;VALUE=DURATION:PT1H
X-Robots-Tag:noindex
X-PUBLISHED-TTL:PT1H
BEGIN:VTIMEZONE
TZID:America/Los_Angeles
BEGIN:DAYLIGHT
TZOFFSETFROM:-0800
TZOFFSETTO:-0700
TZNAME:PDT
DTSTART:20220313T100000
END:DAYLIGHT
BEGIN:STANDARD
TZOFFSETFROM:-0700
TZOFFSETTO:-0800
TZNAME:PST
DTSTART:20221106T090000
END:STANDARD
END:VTIMEZONE
BEGIN:VEVENT
DTSTART;TZID=America/Los_Angeles:20220516T170000
DTEND;TZID=America/Los_Angeles:20220516T180000
DTSTAMP:20260423T213859
CREATED:20220517T065537Z
LAST-MODIFIED:20220517T065537Z
UID:13092-1652720400-1652724000@www.ayclogic.com
SUMMARY:5PM - Digital Illustration 3 (Catch Up)
DESCRIPTION:MONDAY \nWe spent today to catch up to the Wednesday class. \nUse the sketch from your current project and the two images below to help you finish the flower crown. \nTIPS: \n\nStart with the bigger flowers first.\nWith each flower\, start with the little circle-like shape in the middle\, and build the flower outward\, adding the layers of petals.\nUse the pink circle sketches as a guide\, but it doesn’t have to be perfect.
URL:https://www.ayclogic.com/event/5pm-digital-illustration-3-catch-up/
CATEGORIES:Digital Illustration,Intermediate Digital Illustration
END:VEVENT
BEGIN:VEVENT
DTSTART;TZID=America/Los_Angeles:20220516T170000
DTEND;TZID=America/Los_Angeles:20220516T180000
DTSTAMP:20260423T213859
CREATED:20220518T031859Z
LAST-MODIFIED:20220518T031859Z
UID:13102-1652720400-1652724000@www.ayclogic.com
SUMMARY:5PM – Intro To Python – Bill
DESCRIPTION:Today We:\n\nReviewed lists\nLearned how to loop through list using a for loop\nLearned about the structure of a for loop\nLearned about the index variable in a loop through a list\nLearned about a for loop using range\n\nYour HW:\n\nCreate a new file called May_16_ListLoopHW\nDo pages 54 and 55 from the book\nDo the TRY IT YOURSELF on page 56
URL:https://www.ayclogic.com/event/5pm-intro-to-python-bill-26/
END:VEVENT
BEGIN:VEVENT
DTSTART;TZID=America/Los_Angeles:20220516T180000
DTEND;TZID=America/Los_Angeles:20220516T190000
DTSTAMP:20260423T213859
CREATED:20220517T064854Z
LAST-MODIFIED:20220517T064854Z
UID:13089-1652724000-1652727600@www.ayclogic.com
SUMMARY:6PM - Digital Illustration 2
DESCRIPTION:Monday \nToday we continued the Ayaka project. We have progressed on the sketch\, finishing up her hair\, adding the hand\, and her clothes. \n \nHOMEWORK \nClean up your Ayaka sketch. Use the image above to help you out. And you can also use this reference image as well.
URL:https://www.ayclogic.com/event/6pm-digital-illustration-2-3/
CATEGORIES:Digital Illustration,Intermediate Digital Illustration
END:VEVENT
BEGIN:VEVENT
DTSTART;TZID=America/Los_Angeles:20220516T190000
DTEND;TZID=America/Los_Angeles:20220516T200000
DTSTAMP:20260423T213859
CREATED:20220517T030934Z
LAST-MODIFIED:20220517T030934Z
UID:13079-1652727600-1652731200@www.ayclogic.com
SUMMARY:7 PM – Coding Olympic Training
DESCRIPTION:Homework: \n\nWrite code for http://www.usaco.org/index.php?page=viewproblem2&cpid=1203 and make sure your solution can pass all tests\nTry to solve http://www.usaco.org/index.php?page=viewproblem2&cpid=1204 and http://www.usaco.org/index.php?page=viewproblem2&cpid=1205\nBonus: http://www.usaco.org/index.php?page=viewproblem2&cpid=1206
URL:https://www.ayclogic.com/event/7-pm-coding-olympic-training-11/
END:VEVENT
END:VCALENDAR