BEGIN:VCALENDAR
VERSION:2.0
PRODID:-//American Young Coder - ECPv6.10.1.1//NONSGML v1.0//EN
CALSCALE:GREGORIAN
METHOD:PUBLISH
X-ORIGINAL-URL:https://www.ayclogic.com
X-WR-CALDESC:Events for American Young Coder
REFRESH-INTERVAL;VALUE=DURATION:PT1H
X-Robots-Tag:noindex
X-PUBLISHED-TTL:PT1H
BEGIN:VTIMEZONE
TZID:America/Los_Angeles
BEGIN:DAYLIGHT
TZOFFSETFROM:-0800
TZOFFSETTO:-0700
TZNAME:PDT
DTSTART:20220313T100000
END:DAYLIGHT
BEGIN:STANDARD
TZOFFSETFROM:-0700
TZOFFSETTO:-0800
TZNAME:PST
DTSTART:20221106T090000
END:STANDARD
END:VTIMEZONE
BEGIN:VEVENT
DTSTART;TZID=America/Los_Angeles:20220518T170000
DTEND;TZID=America/Los_Angeles:20220518T180000
DTSTAMP:20260423T214049
CREATED:20220519T010640Z
LAST-MODIFIED:20220519T010640Z
UID:13113-1652893200-1652896800@www.ayclogic.com
SUMMARY:5PM - Digital Illustration 3
DESCRIPTION:WEDNESDAY \nToday we continued the Girl in Side-View project. We started to add the colors and also shading. \n \nHOMEWORK \n\nIf anything needs to be fixed or catch up on the project\, please do so before next class.\nRename the layers in the project – so that it can be more organized.\nFill out this form if you have not done so yet. >CLICK HERE<
URL:https://www.ayclogic.com/event/5pm-digital-illustration-3-4/
CATEGORIES:Digital Illustration,Intermediate Digital Illustration
END:VEVENT
BEGIN:VEVENT
DTSTART;TZID=America/Los_Angeles:20220518T180000
DTEND;TZID=America/Los_Angeles:20220518T190000
DTSTAMP:20260423T214049
CREATED:20220519T015959Z
LAST-MODIFIED:20220519T015959Z
UID:13116-1652896800-1652900400@www.ayclogic.com
SUMMARY:6 PM - Intro To Python - Gamas
DESCRIPTION:Today We Do\n\nWe created May18_RobotBuilder.py\nWe created rectangle function with x\,y\,color parameters.\nWe were able to call rectangle with different coordinates and color.\n\nHomework\n\nAdd 2 parameters in rectangle function: width\, height.\nChange the code\, so it will draw the rectangle size according to the parameter width and height.\nTry to draw the feet and the legs of the robot below
URL:https://www.ayclogic.com/event/6-pm-intro-to-python-gamas-10/
CATEGORIES:Python Class,Python Level 1
END:VEVENT
BEGIN:VEVENT
DTSTART;TZID=America/Los_Angeles:20220518T190000
DTEND;TZID=America/Los_Angeles:20220518T200000
DTSTAMP:20260423T214049
CREATED:20220519T025557Z
LAST-MODIFIED:20220519T025557Z
UID:13118-1652900400-1652904000@www.ayclogic.com
SUMMARY:7 PM Intro to Java - Alex
DESCRIPTION:Today We Did:\n\nWe covered how to use for loops with index.\nTalked about how we can nest for loops into other for loops and also that we can put if else statements in the for loops.\n\nFor Homework:\n\nCreate a new Java class titled May25_GameInventory.java\nDo question number 3 for homework today: https://www.ayclogic.com/java-list-forloop/
URL:https://www.ayclogic.com/event/7-pm-intro-to-java-alex-2/
CATEGORIES:Introduction To Java,Java
END:VEVENT
BEGIN:VEVENT
DTSTART;TZID=America/Los_Angeles:20220518T190000
DTEND;TZID=America/Los_Angeles:20220518T200000
DTSTAMP:20260423T214049
CREATED:20220519T025949Z
LAST-MODIFIED:20220519T025949Z
UID:13119-1652900400-1652904000@www.ayclogic.com
SUMMARY:7 PM - Intro To Python - Gamas
DESCRIPTION:Today We Do\n\nWe continued with Hang Man game\nWe added the questions marks clue.\nWe added ability to reduce the hearts when user guess incorrectly.\n\nHomework\n\nContinue on May11_Hangman.py\, when health is zero or less\, print(“You lose the game”) and stop the loop.\nCreate May18_PythonExerciseHomework.py and do exercises from https://www.ayclogic.com/list-inputs-if-and-else-loops-and-function/
URL:https://www.ayclogic.com/event/7-pm-intro-to-python-gamas-17/
END:VEVENT
END:VCALENDAR