BEGIN:VCALENDAR
VERSION:2.0
PRODID:-//American Young Coder - ECPv6.10.1.1//NONSGML v1.0//EN
CALSCALE:GREGORIAN
METHOD:PUBLISH
X-ORIGINAL-URL:https://www.ayclogic.com
X-WR-CALDESC:Events for American Young Coder
REFRESH-INTERVAL;VALUE=DURATION:PT1H
X-Robots-Tag:noindex
X-PUBLISHED-TTL:PT1H
BEGIN:VTIMEZONE
TZID:America/Los_Angeles
BEGIN:DAYLIGHT
TZOFFSETFROM:-0800
TZOFFSETTO:-0700
TZNAME:PDT
DTSTART:20220313T100000
END:DAYLIGHT
BEGIN:STANDARD
TZOFFSETFROM:-0700
TZOFFSETTO:-0800
TZNAME:PST
DTSTART:20221106T090000
END:STANDARD
END:VTIMEZONE
BEGIN:VEVENT
DTSTART;TZID=America/Los_Angeles:20220519T170000
DTEND;TZID=America/Los_Angeles:20220519T180000
DTSTAMP:20260423T214018
CREATED:20220520T015523Z
LAST-MODIFIED:20220520T015523Z
UID:13123-1652979600-1652983200@www.ayclogic.com
SUMMARY:5:00 PM - Intro To Python - Parna
DESCRIPTION:Today We Do\n\nWe went the homework from last week\nWe learned some built-in functions for the String data type\n\nHomework\n\nCreate <date>_StringHomework2.py page 25. TRY IT YOURSELF: 2-3\, 2-4\, 2-5 and 2-6
URL:https://www.ayclogic.com/event/500-pm-intro-to-python-parna-2/
END:VEVENT
BEGIN:VEVENT
DTSTART;TZID=America/Los_Angeles:20220519T170000
DTEND;TZID=America/Los_Angeles:20220519T180000
DTSTAMP:20260423T214018
CREATED:20220525T002552Z
LAST-MODIFIED:20220525T002552Z
UID:13208-1652979600-1652983200@www.ayclogic.com
SUMMARY:5PM - Python Game Development - Latisha
DESCRIPTION:Today We Did:\n\nContinued Flappy Bird\n\nHomework:\n\nStart working on Final Project\nwhen the game mode is GAME_LANDING_PAGE\, show the title and the play button.\n\nIf you have any questions\, please send an email to latisha@ayclogic.com
URL:https://www.ayclogic.com/event/5pm-python-game-development-latisha-17/
END:VEVENT
BEGIN:VEVENT
DTSTART;TZID=America/Los_Angeles:20220519T190000
DTEND;TZID=America/Los_Angeles:20220519T200000
DTSTAMP:20260423T214018
CREATED:20220520T030124Z
LAST-MODIFIED:20220520T030124Z
UID:13126-1652986800-1652990400@www.ayclogic.com
SUMMARY:7 PM - Intro To Java - Gamas
DESCRIPTION:Today We Do\n\nWe continued with Temperature Converter application.\nWe added the conversion type drop down menu (spinner).\nWe added a listener to the drop down menu.\n\nHomework\n\nInside src/res/values/strings.xml\, add one more element similar to “app_name”. This element name would be “convert_btn_name”. For the value of the convert_btn_name\, use a language that is other than language who use the alphabeth. For example\, Korea\, Chinese\, Arabic.\nInside activity_main.xml\, use this “convert_btn_name” for the convert button label.
URL:https://www.ayclogic.com/event/7-pm-intro-to-java-gamas-19/
CATEGORIES:Introduction To Java,Java
END:VEVENT
BEGIN:VEVENT
DTSTART;TZID=America/Los_Angeles:20220519T190000
DTEND;TZID=America/Los_Angeles:20220519T200000
DTSTAMP:20260423T214018
CREATED:20220520T030221Z
LAST-MODIFIED:20220520T065548Z
UID:13127-1652986800-1652990400@www.ayclogic.com
SUMMARY:7PM - Intro to Python - Parna
DESCRIPTION:Today We Do\n\nWe went over last week’s homework: Fixing Python Errors\, Quiz Review Problems\nReviewed for the Quiz next week\n\nHomework\n\nNext week is 2nd quiz\, please come 10 mins early 6:50 PM.\nStudy and redo the following exercises for your practice: \n\n1st quiz. You should have gotten your 1st quiz result from me. Redo the 1st quiz. Try not to look at my solution unless you are stuck. If you don’t get your 1st quiz result\, call me at 626-532-7844.\nYou should study functions with return value\, functions without return value\, random module and how to fix Python errors.\nTry to redo this exercise: https://www.ayclogic.com/intro-to-python-exercises/\nTry to do this exercise: https://www.ayclogic.com/python-function-exercises/\nTry to redo this exercise: https://www.ayclogic.com/list-inputs-if-and-else-loops-and-function/\nTry to redo this exercise: https://www.ayclogic.com/intro-to-python/magic-8-ball/\nIf you have question\, you can email me at parna@ayclogic.com. Please give me a couple of days to respond to your email. If I don’t response\, you can ask your parents to call or text Gamas.
URL:https://www.ayclogic.com/event/7pm-intro-to-python-parna-3/
END:VEVENT
END:VCALENDAR