BEGIN:VCALENDAR
VERSION:2.0
PRODID:-//American Young Coder - ECPv6.10.1.1//NONSGML v1.0//EN
CALSCALE:GREGORIAN
METHOD:PUBLISH
X-ORIGINAL-URL:https://www.ayclogic.com
X-WR-CALDESC:Events for American Young Coder
REFRESH-INTERVAL;VALUE=DURATION:PT1H
X-Robots-Tag:noindex
X-PUBLISHED-TTL:PT1H
BEGIN:VTIMEZONE
TZID:America/Los_Angeles
BEGIN:DAYLIGHT
TZOFFSETFROM:-0800
TZOFFSETTO:-0700
TZNAME:PDT
DTSTART:20220313T100000
END:DAYLIGHT
BEGIN:STANDARD
TZOFFSETFROM:-0700
TZOFFSETTO:-0800
TZNAME:PST
DTSTART:20221106T090000
END:STANDARD
END:VTIMEZONE
BEGIN:VEVENT
DTSTART;TZID=America/Los_Angeles:20220520T173000
DTEND;TZID=America/Los_Angeles:20220520T183000
DTSTAMP:20260423T230008
CREATED:20220521T012908Z
LAST-MODIFIED:20220521T012908Z
UID:13135-1653067800-1653071400@www.ayclogic.com
SUMMARY:5:30 PM Scratch Level 2 Alex
DESCRIPTION:Today We Did:\n\nWe did Mary Had a Little Lamb using a list instead of broadcasting everything\nStarted the Supermarket list project\nAdded in the cats code with the categories\nAlso added in the apple and watermelon\n\nFor Homework:\n\nAdd in one more fruit which will do the same thing as the apple and watermelon.\nAlso\, add in three sprites under the fruits that will receive the Bakery broadcast and move.\nFor example\, a sprite you could add in would be Bread or Muffin.
URL:https://www.ayclogic.com/event/530-pm-scratch-level-2-alex-2/
CATEGORIES:Scratch Class,Scratch Class Level 2
END:VEVENT
BEGIN:VEVENT
DTSTART;TZID=America/Los_Angeles:20220520T180000
DTEND;TZID=America/Los_Angeles:20220520T190000
DTSTAMP:20260423T230008
CREATED:20220521T020703Z
LAST-MODIFIED:20220528T004143Z
UID:13137-1653069600-1653073200@www.ayclogic.com
SUMMARY:6 PM – Scratch Level 1 – Yitong
DESCRIPTION:Today we:\n\nStarted Name Animation\nMade 1st letter change color and make a sound when clicked\nMade 2nd letter spin forever\nMade 3rd letter change size when clicked and go back to normal when green flag clicked\n\nHomework:\n\nMake the 4th letter in your name change colors and spin FOREVER when you click it\n\n\n\n\nIf you need help email me: idyllicalyssum@gmail.com
URL:https://www.ayclogic.com/event/6-pm-scratch-level-1-yitong-35/
CATEGORIES:Scratch Class,Scratch Class Level 1
END:VEVENT
BEGIN:VEVENT
DTSTART;TZID=America/Los_Angeles:20220520T190000
DTEND;TZID=America/Los_Angeles:20220520T200000
DTSTAMP:20260423T230008
CREATED:20220525T002817Z
LAST-MODIFIED:20220525T002841Z
UID:13210-1653073200-1653076800@www.ayclogic.com
SUMMARY:7PM - Python Game Development - Latisha
DESCRIPTION:Today We Did:\n\nStarted working on Flappy Bird\n\nCreated Tube Class\n\n\n\nHomework:\n\nDo Project Outline and share the google doc with me. (click here for link to template)\nFix the Tube Class so it moves to the left and uses Downward_Tube_2.png and make create_tube in main.py similar to how we did it in birdie.\n\nIf you have any questions\, please send an email to latisha@ayclogic.com
URL:https://www.ayclogic.com/event/13210/
END:VEVENT
END:VCALENDAR